BEGIN:VCALENDAR
VERSION:2.0
PRODID:-//jEvents 2.0 for Joomla//EN
CALSCALE:GREGORIAN
METHOD:PUBLISH
BEGIN:VTIMEZONE
TZID:Europe/Paris
BEGIN:STANDARD
DTSTART:20170127T000000
RDATE:20170326T030000
TZOFFSETFROM:+0200
TZOFFSETTO:+0100
TZNAME:Europe/Paris CET
END:STANDARD
BEGIN:STANDARD
DTSTART:20171029T020000
RDATE:20180325T030000
TZOFFSETFROM:+0200
TZOFFSETTO:+0100
TZNAME:Europe/Paris CET
END:STANDARD
BEGIN:STANDARD
DTSTART:20181028T020000
RDATE:20190331T030000
TZOFFSETFROM:+0200
TZOFFSETTO:+0100
TZNAME:Europe/Paris CET
END:STANDARD
BEGIN:STANDARD
DTSTART:20191027T020000
RDATE:20200329T030000
TZOFFSETFROM:+0200
TZOFFSETTO:+0100
TZNAME:Europe/Paris CET
END:STANDARD
BEGIN:STANDARD
DTSTART:20201025T020000
RDATE:20210328T030000
TZOFFSETFROM:+0200
TZOFFSETTO:+0100
TZNAME:Europe/Paris CET
END:STANDARD
BEGIN:STANDARD
DTSTART:20211031T020000
RDATE:20220327T030000
TZOFFSETFROM:+0200
TZOFFSETTO:+0100
TZNAME:Europe/Paris CET
END:STANDARD
BEGIN:STANDARD
DTSTART:20221030T020000
RDATE:20230326T030000
TZOFFSETFROM:+0200
TZOFFSETTO:+0100
TZNAME:Europe/Paris CET
END:STANDARD
BEGIN:STANDARD
DTSTART:20231029T020000
RDATE:20240331T030000
TZOFFSETFROM:+0200
TZOFFSETTO:+0100
TZNAME:Europe/Paris CET
END:STANDARD
BEGIN:STANDARD
DTSTART:20241027T020000
RDATE:20250330T030000
TZOFFSETFROM:+0200
TZOFFSETTO:+0100
TZNAME:Europe/Paris CET
END:STANDARD
BEGIN:STANDARD
DTSTART:20251026T020000
RDATE:20260329T030000
TZOFFSETFROM:+0200
TZOFFSETTO:+0100
TZNAME:Europe/Paris CET
END:STANDARD
BEGIN:STANDARD
DTSTART:20261025T020000
RDATE:20270328T030000
TZOFFSETFROM:+0200
TZOFFSETTO:+0100
TZNAME:Europe/Paris CET
END:STANDARD
BEGIN:DAYLIGHT
DTSTART:20170326T030000
RDATE:20171029T020000
TZOFFSETFROM:+0100
TZOFFSETTO:+0200
TZNAME:Europe/Paris CEST
END:DAYLIGHT
BEGIN:DAYLIGHT
DTSTART:20180325T030000
RDATE:20181028T020000
TZOFFSETFROM:+0100
TZOFFSETTO:+0200
TZNAME:Europe/Paris CEST
END:DAYLIGHT
BEGIN:DAYLIGHT
DTSTART:20190331T030000
RDATE:20191027T020000
TZOFFSETFROM:+0100
TZOFFSETTO:+0200
TZNAME:Europe/Paris CEST
END:DAYLIGHT
BEGIN:DAYLIGHT
DTSTART:20200329T030000
RDATE:20201025T020000
TZOFFSETFROM:+0100
TZOFFSETTO:+0200
TZNAME:Europe/Paris CEST
END:DAYLIGHT
BEGIN:DAYLIGHT
DTSTART:20210328T030000
RDATE:20211031T020000
TZOFFSETFROM:+0100
TZOFFSETTO:+0200
TZNAME:Europe/Paris CEST
END:DAYLIGHT
BEGIN:DAYLIGHT
DTSTART:20220327T030000
RDATE:20221030T020000
TZOFFSETFROM:+0100
TZOFFSETTO:+0200
TZNAME:Europe/Paris CEST
END:DAYLIGHT
BEGIN:DAYLIGHT
DTSTART:20230326T030000
RDATE:20231029T020000
TZOFFSETFROM:+0100
TZOFFSETTO:+0200
TZNAME:Europe/Paris CEST
END:DAYLIGHT
BEGIN:DAYLIGHT
DTSTART:20240331T030000
RDATE:20241027T020000
TZOFFSETFROM:+0100
TZOFFSETTO:+0200
TZNAME:Europe/Paris CEST
END:DAYLIGHT
BEGIN:DAYLIGHT
DTSTART:20250330T030000
RDATE:20251026T020000
TZOFFSETFROM:+0100
TZOFFSETTO:+0200
TZNAME:Europe/Paris CEST
END:DAYLIGHT
BEGIN:DAYLIGHT
DTSTART:20260329T030000
RDATE:20261025T020000
TZOFFSETFROM:+0100
TZOFFSETTO:+0200
TZNAME:Europe/Paris CEST
END:DAYLIGHT
END:VTIMEZONE
BEGIN:VEVENT
UID:964f49ebb23e6a951126b5ad8547ff52
CATEGORIES:Circuit Massif Adultes (alpin)
CREATED:20171121T093310
SUMMARY:CAM Grand Prix Domaine Welty j-Michel
URL;VALUE=URI:https://skivosges.net/agenda/a-venir/detailevenement/916/-/cam-grand-prix-d
 omaine-welty-j-michel?tmpl=component
DESCRIPTION:<!-- #gskiepreuve code généré par le plugin jevents pour GskiEpreuves. Ne p
 as modifier cette ligne, ni tout le contenu suivant  #gskiepreuve --><div c
 lass="gski-evenement_infos"><div class="gski-evenement-nom">CAM Grand Prix 
 Domaine Welty j-Michel</div><div class="gski-evenement-report"></div><ul cl
 ass="gski-evenement-liste-infos"><li>Codex évenement AMVT0260</li><li>Lieu 
 : STADE DE SLALOM SERGE LANG</li><li>Station : MARKSTEIN</li><li>Piste : ST
 ADE DE SLALOM</li><li>Organisateur : 14186 S.C VALLEE DE WESSERLING</li><li
 >Courriel : <!-- Cette adresse électronique est protégée contre les robots 
 spammeurs. --><span class="cloaked_email ep_6366c9b9"><span data-ep-a="&#11
 5;c&#118;&#119;" data-ep-b="&#109;"><span data-ep-a="&#101;&#115;se" data-e
 p-b="&#108;&#46;&#99;&#111;"><span data-ep-b="&#103;&#64;&#97;o" data-ep-a=
 "&#114;&#108;&#105;&#110;"></span></span></span></span><script>RegularLabs.
 EmailProtector.unCloak("ep_6366c9b9");</script></li><li>Téléphone : 03 89 8
 2 78 08</li><li><span class="gski-evenement-obs">Délégué Technique : DODIN 
 YVES</span></li></ul><div class="gski-evenement-infos-2"><div class="gski-e
 venement-info-inscriptions"><div class="gski-evenement-inscriptions-periode
 s">Période d'inscription à l'evènement du dimanche 21 janvier 2018 à 00:00 
 au samedi 27 janvier 2018 à 06:00 <span class="gski-evenement-inscriptions-
 impossibles">(Inscriptions impossibles).</span><div class="gski-evenement-i
 nscriptions-types-titres">Inscriptions ouvertes aux detenteurs des titres F
 édéraux valides suivants : Licenciés Compétiteurs</div></div></div><div cla
 ss="gski-evenement-epreuves"><div class="gski-evenement-epreuves-titres">Ep
 reuves :</div><ul class="gski-evenement-epreuves-list"><li><div class="gski
 -epreuve-date">Le dimanche 28 janvier 2018</div><ul class="gski-epreuve-lis
 te-infos"><li>Codex épreuve AMVM0261</li><li>Slalom</li><li>Catégorie(s) : 
 U16 (Garçons)</li></ul></li><li><div class="gski-epreuve-date">Le dimanche 
 28 janvier 2018</div><ul class="gski-epreuve-liste-infos"><li>Codex épreuve
  AMVF0261</li><li>Slalom</li><li>Catégorie(s) : U16 (Filles)</li></ul></li>
 <li><div class="gski-epreuve-date">Le dimanche 28 janvier 2018</div><ul cla
 ss="gski-epreuve-liste-infos"><li>Codex épreuve AMVF0262</li><li>Slalom</li
 ><li>Catégorie(s) : U18 a Masters (Dames)</li></ul></li><li><div class="gsk
 i-epreuve-date">Le dimanche 28 janvier 2018</div><ul class="gski-epreuve-li
 ste-infos"><li>Codex épreuve AMVM0262</li><li>Slalom</li><li>Catégorie(s) :
  U18 a Masters (Hommes)</li></ul></li></ul></div><div class="gskiepreuves-l
 inks"><ul><li><a href="/index.php?option=com_jevents&task=icalevent.detail&
 evid=911&Itemid=6289">Voir les informations dans l'agenda...</a></li><li><a
  href="/index.php?option=com_gskiepreuves&view=afficheresultats&format_opti
 on=tous&filter[search]=AMVT0260&filter[date_debut]=28-01-2018&filter[date_f
 in]=28-01-2018&code_activite=ALP&Itemid=6289">Vers les résultats...</a></li
 ><li>Publications concernant cet évènement :<ul><li><a href="/index.php?opt
 ion=com_content&view=article&id=6082&Itemid=6289">Samedi 27 Janvier 2018 à 
 20:57 : Le 28/01/2018 MARKSTEIN Liste de départs</a></li><li><a href="/inde
 x.php?option=com_content&view=article&id=6075&Itemid=6289">Samedi 27 Janvie
 r 2018 à 07:19 : Le 28/01/2018 MARKSTEIN Liste de départs</a></li><li><a hr
 ef="/index.php?option=com_content&view=article&id=6074&Itemid=6289">Vendred
 i 26 Janvier 2018 à 22:34 : Le 28/01/2018 MARKSTEIN Informations</a></li></
 ul></li></ul></div></div"><!-- #/gskiepreuve fin du dode généré par le plug
 in jevents pour GskiEpreuves. . Ne pas modifier cette ligne, ni tout le con
 tenu précedant.  #/gskiepreuve --> <a href="https://skivosges.net/agenda/a-
 venir/detailevenement/916/-/cam-grand-prix-domaine-welty-j-michel?tmpl=comp
 onent">Cet évènement a été importé depuis :https://skivosges.net/agenda/a-v
 enir/detailevenement/916/-/cam-grand-prix-domaine-welty-j-michel?tmpl=compo
 nent</a>
X-ALT-DESC;FMTTYPE=text/html:<!-- #gskiepreuve code généré par le plugin jevents pour GskiEpreuves. Ne p
 as modifier cette ligne, ni tout le contenu suivant  #gskiepreuve --><div c
 lass="gski-evenement_infos"><div class="gski-evenement-nom">CAM Grand Prix 
 Domaine Welty j-Michel</div><div class="gski-evenement-report"></div><ul cl
 ass="gski-evenement-liste-infos"><li>Codex évenement AMVT0260</li><li>Lieu 
 : STADE DE SLALOM SERGE LANG</li><li>Station : MARKSTEIN</li><li>Piste : ST
 ADE DE SLALOM</li><li>Organisateur : 14186 S.C VALLEE DE WESSERLING</li><li
 >Courriel : <!-- Cette adresse électronique est protégée contre les robots 
 spammeurs. --><span class="cloaked_email ep_6366c9b9"><span data-ep-a="&#11
 5;c&#118;&#119;" data-ep-b="&#109;"><span data-ep-a="&#101;&#115;se" data-e
 p-b="&#108;&#46;&#99;&#111;"><span data-ep-b="&#103;&#64;&#97;o" data-ep-a=
 "&#114;&#108;&#105;&#110;"></span></span></span></span><script>RegularLabs.
 EmailProtector.unCloak("ep_6366c9b9");</script></li><li>Téléphone : 03 89 8
 2 78 08</li><li><span class="gski-evenement-obs">Délégué Technique : DODIN 
 YVES</span></li></ul><div class="gski-evenement-infos-2"><div class="gski-e
 venement-info-inscriptions"><div class="gski-evenement-inscriptions-periode
 s">Période d'inscription à l'evènement du dimanche 21 janvier 2018 à 00:00 
 au samedi 27 janvier 2018 à 06:00 <span class="gski-evenement-inscriptions-
 impossibles">(Inscriptions impossibles).</span><div class="gski-evenement-i
 nscriptions-types-titres">Inscriptions ouvertes aux detenteurs des titres F
 édéraux valides suivants : Licenciés Compétiteurs</div></div></div><div cla
 ss="gski-evenement-epreuves"><div class="gski-evenement-epreuves-titres">Ep
 reuves :</div><ul class="gski-evenement-epreuves-list"><li><div class="gski
 -epreuve-date">Le dimanche 28 janvier 2018</div><ul class="gski-epreuve-lis
 te-infos"><li>Codex épreuve AMVM0261</li><li>Slalom</li><li>Catégorie(s) : 
 U16 (Garçons)</li></ul></li><li><div class="gski-epreuve-date">Le dimanche 
 28 janvier 2018</div><ul class="gski-epreuve-liste-infos"><li>Codex épreuve
  AMVF0261</li><li>Slalom</li><li>Catégorie(s) : U16 (Filles)</li></ul></li>
 <li><div class="gski-epreuve-date">Le dimanche 28 janvier 2018</div><ul cla
 ss="gski-epreuve-liste-infos"><li>Codex épreuve AMVF0262</li><li>Slalom</li
 ><li>Catégorie(s) : U18 a Masters (Dames)</li></ul></li><li><div class="gsk
 i-epreuve-date">Le dimanche 28 janvier 2018</div><ul class="gski-epreuve-li
 ste-infos"><li>Codex épreuve AMVM0262</li><li>Slalom</li><li>Catégorie(s) :
  U18 a Masters (Hommes)</li></ul></li></ul></div><div class="gskiepreuves-l
 inks"><ul><li><a href="https://skivosges.net/index.php?option=com_jevents&t
 ask=icalevent.detail&evid=911&Itemid=6289">Voir les informations dans l'age
 nda...</a></li><li><a href="https://skivosges.net/index.php?option=com_gski
 epreuves&view=afficheresultats&format_option=tous&filter[search]=AMVT0260&f
 ilter[date_debut]=28-01-2018&filter[date_fin]=28-01-2018&code_activite=ALP&
 Itemid=6289">Vers les résultats...</a></li><li>Publications concernant cet 
 évènement :<ul><li><a href="https://skivosges.net/index.php?option=com_cont
 ent&view=article&id=6082&Itemid=6289">Samedi 27 Janvier 2018 à 20:57 : Le 2
 8/01/2018 MARKSTEIN Liste de départs</a></li><li><a href="https://skivosges
 .net/index.php?option=com_content&view=article&id=6075&Itemid=6289">Samedi 
 27 Janvier 2018 à 07:19 : Le 28/01/2018 MARKSTEIN Liste de départs</a></li>
 <li><a href="https://skivosges.net/index.php?option=com_content&view=articl
 e&id=6074&Itemid=6289">Vendredi 26 Janvier 2018 à 22:34 : Le 28/01/2018 MAR
 KSTEIN Informations</a></li></ul></li></ul></div></div"><!-- #/gskiepreuve 
 fin du dode généré par le plugin jevents pour GskiEpreuves. . Ne pas modifi
 er cette ligne, ni tout le contenu précedant.  #/gskiepreuve --> <a href="h
 ttps://skivosges.net/agenda/a-venir/detailevenement/916/-/cam-grand-prix-do
 maine-welty-j-michel?tmpl=component">Cet évènement a été importé depuis :ht
 tps://skivosges.net/agenda/a-venir/detailevenement/916/-/cam-grand-prix-dom
 aine-welty-j-michel?tmpl=component</a>DTSTAMP:20260424T074009
DTSTART;TZID=Europe/Paris;VALUE=DATE:20180128
DTEND;TZID=Europe/Paris;VALUE=DATE:20180129
SEQUENCE:0
TRANSP:OPAQUE
END:VEVENT
END:VCALENDAR