BEGIN:VCALENDAR
VERSION:2.0
PRODID:-//jEvents 2.0 for Joomla//EN
CALSCALE:GREGORIAN
METHOD:PUBLISH
BEGIN:VTIMEZONE
TZID:Europe/Paris
BEGIN:STANDARD
DTSTART:20170127T000000
RDATE:20170326T030000
TZOFFSETFROM:+0200
TZOFFSETTO:+0100
TZNAME:Europe/Paris CET
END:STANDARD
BEGIN:STANDARD
DTSTART:20171029T020000
RDATE:20180325T030000
TZOFFSETFROM:+0200
TZOFFSETTO:+0100
TZNAME:Europe/Paris CET
END:STANDARD
BEGIN:STANDARD
DTSTART:20181028T020000
RDATE:20190331T030000
TZOFFSETFROM:+0200
TZOFFSETTO:+0100
TZNAME:Europe/Paris CET
END:STANDARD
BEGIN:STANDARD
DTSTART:20191027T020000
RDATE:20200329T030000
TZOFFSETFROM:+0200
TZOFFSETTO:+0100
TZNAME:Europe/Paris CET
END:STANDARD
BEGIN:STANDARD
DTSTART:20201025T020000
RDATE:20210328T030000
TZOFFSETFROM:+0200
TZOFFSETTO:+0100
TZNAME:Europe/Paris CET
END:STANDARD
BEGIN:STANDARD
DTSTART:20211031T020000
RDATE:20220327T030000
TZOFFSETFROM:+0200
TZOFFSETTO:+0100
TZNAME:Europe/Paris CET
END:STANDARD
BEGIN:STANDARD
DTSTART:20221030T020000
RDATE:20230326T030000
TZOFFSETFROM:+0200
TZOFFSETTO:+0100
TZNAME:Europe/Paris CET
END:STANDARD
BEGIN:STANDARD
DTSTART:20231029T020000
RDATE:20240331T030000
TZOFFSETFROM:+0200
TZOFFSETTO:+0100
TZNAME:Europe/Paris CET
END:STANDARD
BEGIN:STANDARD
DTSTART:20241027T020000
RDATE:20250330T030000
TZOFFSETFROM:+0200
TZOFFSETTO:+0100
TZNAME:Europe/Paris CET
END:STANDARD
BEGIN:STANDARD
DTSTART:20251026T020000
RDATE:20260329T030000
TZOFFSETFROM:+0200
TZOFFSETTO:+0100
TZNAME:Europe/Paris CET
END:STANDARD
BEGIN:STANDARD
DTSTART:20261025T020000
RDATE:20270328T030000
TZOFFSETFROM:+0200
TZOFFSETTO:+0100
TZNAME:Europe/Paris CET
END:STANDARD
BEGIN:DAYLIGHT
DTSTART:20170326T030000
RDATE:20171029T020000
TZOFFSETFROM:+0100
TZOFFSETTO:+0200
TZNAME:Europe/Paris CEST
END:DAYLIGHT
BEGIN:DAYLIGHT
DTSTART:20180325T030000
RDATE:20181028T020000
TZOFFSETFROM:+0100
TZOFFSETTO:+0200
TZNAME:Europe/Paris CEST
END:DAYLIGHT
BEGIN:DAYLIGHT
DTSTART:20190331T030000
RDATE:20191027T020000
TZOFFSETFROM:+0100
TZOFFSETTO:+0200
TZNAME:Europe/Paris CEST
END:DAYLIGHT
BEGIN:DAYLIGHT
DTSTART:20200329T030000
RDATE:20201025T020000
TZOFFSETFROM:+0100
TZOFFSETTO:+0200
TZNAME:Europe/Paris CEST
END:DAYLIGHT
BEGIN:DAYLIGHT
DTSTART:20210328T030000
RDATE:20211031T020000
TZOFFSETFROM:+0100
TZOFFSETTO:+0200
TZNAME:Europe/Paris CEST
END:DAYLIGHT
BEGIN:DAYLIGHT
DTSTART:20220327T030000
RDATE:20221030T020000
TZOFFSETFROM:+0100
TZOFFSETTO:+0200
TZNAME:Europe/Paris CEST
END:DAYLIGHT
BEGIN:DAYLIGHT
DTSTART:20230326T030000
RDATE:20231029T020000
TZOFFSETFROM:+0100
TZOFFSETTO:+0200
TZNAME:Europe/Paris CEST
END:DAYLIGHT
BEGIN:DAYLIGHT
DTSTART:20240331T030000
RDATE:20241027T020000
TZOFFSETFROM:+0100
TZOFFSETTO:+0200
TZNAME:Europe/Paris CEST
END:DAYLIGHT
BEGIN:DAYLIGHT
DTSTART:20250330T030000
RDATE:20251026T020000
TZOFFSETFROM:+0100
TZOFFSETTO:+0200
TZNAME:Europe/Paris CEST
END:DAYLIGHT
BEGIN:DAYLIGHT
DTSTART:20260329T030000
RDATE:20261025T020000
TZOFFSETFROM:+0100
TZOFFSETTO:+0200
TZNAME:Europe/Paris CEST
END:DAYLIGHT
END:VTIMEZONE
BEGIN:VEVENT
UID:85f6767b4dab04b3cb0f629ce7aaa6b6
CATEGORIES:Circuit Massif Jeunes (alpin)
CREATED:20171121T093310
SUMMARY:CJM Coupe d'Argent U14 Dal'alu Beausire Traitement des toitures
URL;VALUE=URI:https://skivosges.net/agenda/a-venir/detailevenement/917/-/cjm-coupe-dargen
 t-u14-dalalu-beausire-traitement-des-toitures?tmpl=component
DESCRIPTION:<!-- #gskiepreuve code généré par le plugin jevents pour GskiEpreuves. Ne p
 as modifier cette ligne, ni tout le contenu suivant  #gskiepreuve --><div c
 lass="gski-evenement_infos"><div class="gski-evenement-nom">CJM Coupe d'Arg
 ent U14 Dal'alu Beausire Traitement des toitures</div><div class="gski-even
 ement-report"></div><ul class="gski-evenement-liste-infos"><li>Codex évenem
 ent AMVT0280</li><li>Station : GERARDMER</li><li>Piste : Stade</li><li>Orga
 nisateur : 14089 GERARDMER SKI ALPIN</li><li>Courriel : <!-- Cette adresse 
 électronique est protégée contre les robots spammeurs. --><span class="cloa
 ked_email ep_7c469bcf"><span data-ep-b="&#102;&#114;" data-ep-a="&#97;&#115
 ;g&#115;k"><span data-ep-b="a&#100;&#111;&#111;." data-ep-a="&#105;.ge&#114
 ;"><span data-ep-a="ard&#109;&#101;" data-ep-b="&#114;&#64;w&#97;&#110;"></
 span></span></span></span><script>RegularLabs.EmailProtector.unCloak("ep_7c
 469bcf");</script></li><li>Téléphone : 03 29 60 98 04</li><li><span class="
 gski-evenement-obs">Délégué Technique : BANZET RICHARD</span></li></ul><div
  class="gski-evenement-infos-2"><div class="gski-evenement-info-inscription
 s"><div class="gski-evenement-inscriptions-periodes">Période d'inscription 
 à l'evènement du dimanche 21 janvier 2018 à 00:00 au vendredi 26 janvier 20
 18 à 16:00 <span class="gski-evenement-inscriptions-impossibles">(Inscripti
 ons impossibles).</span><div class="gski-evenement-inscriptions-types-titre
 s">Inscriptions ouvertes aux detenteurs des titres Fédéraux valides suivant
 s : Licenciés Compétiteurs</div></div></div><div class="gski-evenement-info
 -live">L'épreuve sera chronometrée avec les résultats publiés en direct (li
 ve)</div><div class="gski-evenement-epreuves"><div class="gski-evenement-ep
 reuves-titres">Epreuves :</div><ul class="gski-evenement-epreuves-list"><li
 ><div class="gski-epreuve-date">Le dimanche 28 janvier 2018 à 10:00</div><u
 l class="gski-epreuve-liste-infos"><li>Codex épreuve AMVM0281</li><li>Slalo
 m</li><li>Catégorie(s) : U14 (Garçons)</li></ul></li><li><div class="gski-e
 preuve-date">Le dimanche 28 janvier 2018 à 10:00</div><ul class="gski-epreu
 ve-liste-infos"><li>Codex épreuve AMVF0281</li><li>Slalom</li><li>Catégorie
 (s) : U14 (Filles)</li></ul></li></ul></div><div class="gskiepreuves-links"
 ><ul><li><a href="/index.php?option=com_jevents&task=icalevent.detail&evid=
 912&Itemid=6289">Voir les informations dans l'agenda...</a></li><li><a href
 ="/index.php?option=com_gskiepreuves&view=afficheresultats&format_option=to
 us&filter[search]=AMVT0280&filter[date_debut]=28-01-2018&filter[date_fin]=2
 8-01-2018&code_activite=ALP&Itemid=6289">Vers les résultats...</a></li><li>
 Publications concernant cet évènement :<ul><li><a href="/index.php?option=c
 om_content&view=article&id=6084&Itemid=6289">Dimanche 28 Janvier 2018 à 13:
 36 : Le 28/01/2018 GERARDMER Résultats</a></li><li><a href="/index.php?opti
 on=com_content&view=article&id=6080&Itemid=6289">Samedi 27 Janvier 2018 à 1
 1:14 : Le 28/01/2018 GERARDMER Liste de départs</a></li><li><a href="/index
 .php?option=com_content&view=article&id=6072&Itemid=6289">Vendredi 26 Janvi
 er 2018 à 16:48 : Le 28/01/2018 GERARDMER Liste de départs</a></li></ul></l
 i></ul></div></div"><!-- #/gskiepreuve fin du dode généré par le plugin jev
 ents pour GskiEpreuves. . Ne pas modifier cette ligne, ni tout le contenu p
 récedant.  #/gskiepreuve --> <a href="https://skivosges.net/agenda/a-venir/
 detailevenement/917/-/cjm-coupe-dargent-u14-dalalu-beausire-traitement-des-
 toitures?tmpl=component">Cet évènement a été importé depuis :https://skivos
 ges.net/agenda/a-venir/detailevenement/917/-/cjm-coupe-dargent-u14-dalalu-b
 eausire-traitement-des-toitures?tmpl=component</a>
X-ALT-DESC;FMTTYPE=text/html:<!-- #gskiepreuve code généré par le plugin jevents pour GskiEpreuves. Ne p
 as modifier cette ligne, ni tout le contenu suivant  #gskiepreuve --><div c
 lass="gski-evenement_infos"><div class="gski-evenement-nom">CJM Coupe d'Arg
 ent U14 Dal'alu Beausire Traitement des toitures</div><div class="gski-even
 ement-report"></div><ul class="gski-evenement-liste-infos"><li>Codex évenem
 ent AMVT0280</li><li>Station : GERARDMER</li><li>Piste : Stade</li><li>Orga
 nisateur : 14089 GERARDMER SKI ALPIN</li><li>Courriel : <!-- Cette adresse 
 électronique est protégée contre les robots spammeurs. --><span class="cloa
 ked_email ep_7c469bcf"><span data-ep-b="&#102;&#114;" data-ep-a="&#97;&#115
 ;g&#115;k"><span data-ep-b="a&#100;&#111;&#111;." data-ep-a="&#105;.ge&#114
 ;"><span data-ep-a="ard&#109;&#101;" data-ep-b="&#114;&#64;w&#97;&#110;"></
 span></span></span></span><script>RegularLabs.EmailProtector.unCloak("ep_7c
 469bcf");</script></li><li>Téléphone : 03 29 60 98 04</li><li><span class="
 gski-evenement-obs">Délégué Technique : BANZET RICHARD</span></li></ul><div
  class="gski-evenement-infos-2"><div class="gski-evenement-info-inscription
 s"><div class="gski-evenement-inscriptions-periodes">Période d'inscription 
 à l'evènement du dimanche 21 janvier 2018 à 00:00 au vendredi 26 janvier 20
 18 à 16:00 <span class="gski-evenement-inscriptions-impossibles">(Inscripti
 ons impossibles).</span><div class="gski-evenement-inscriptions-types-titre
 s">Inscriptions ouvertes aux detenteurs des titres Fédéraux valides suivant
 s : Licenciés Compétiteurs</div></div></div><div class="gski-evenement-info
 -live">L'épreuve sera chronometrée avec les résultats publiés en direct (li
 ve)</div><div class="gski-evenement-epreuves"><div class="gski-evenement-ep
 reuves-titres">Epreuves :</div><ul class="gski-evenement-epreuves-list"><li
 ><div class="gski-epreuve-date">Le dimanche 28 janvier 2018 à 10:00</div><u
 l class="gski-epreuve-liste-infos"><li>Codex épreuve AMVM0281</li><li>Slalo
 m</li><li>Catégorie(s) : U14 (Garçons)</li></ul></li><li><div class="gski-e
 preuve-date">Le dimanche 28 janvier 2018 à 10:00</div><ul class="gski-epreu
 ve-liste-infos"><li>Codex épreuve AMVF0281</li><li>Slalom</li><li>Catégorie
 (s) : U14 (Filles)</li></ul></li></ul></div><div class="gskiepreuves-links"
 ><ul><li><a href="https://skivosges.net/index.php?option=com_jevents&task=i
 calevent.detail&evid=912&Itemid=6289">Voir les informations dans l'agenda..
 .</a></li><li><a href="https://skivosges.net/index.php?option=com_gskiepreu
 ves&view=afficheresultats&format_option=tous&filter[search]=AMVT0280&filter
 [date_debut]=28-01-2018&filter[date_fin]=28-01-2018&code_activite=ALP&Itemi
 d=6289">Vers les résultats...</a></li><li>Publications concernant cet évène
 ment :<ul><li><a href="https://skivosges.net/index.php?option=com_content&v
 iew=article&id=6084&Itemid=6289">Dimanche 28 Janvier 2018 à 13:36 : Le 28/0
 1/2018 GERARDMER Résultats</a></li><li><a href="https://skivosges.net/index
 .php?option=com_content&view=article&id=6080&Itemid=6289">Samedi 27 Janvier
  2018 à 11:14 : Le 28/01/2018 GERARDMER Liste de départs</a></li><li><a hre
 f="https://skivosges.net/index.php?option=com_content&view=article&id=6072&
 Itemid=6289">Vendredi 26 Janvier 2018 à 16:48 : Le 28/01/2018 GERARDMER Lis
 te de départs</a></li></ul></li></ul></div></div"><!-- #/gskiepreuve fin du
  dode généré par le plugin jevents pour GskiEpreuves. . Ne pas modifier cet
 te ligne, ni tout le contenu précedant.  #/gskiepreuve --> <a href="https:/
 /skivosges.net/agenda/a-venir/detailevenement/917/-/cjm-coupe-dargent-u14-d
 alalu-beausire-traitement-des-toitures?tmpl=component">Cet évènement a été 
 importé depuis :https://skivosges.net/agenda/a-venir/detailevenement/917/-/
 cjm-coupe-dargent-u14-dalalu-beausire-traitement-des-toitures?tmpl=componen
 t</a>DTSTAMP:20260424T012602
DTSTART;TZID=Europe/Paris;VALUE=DATE:20180128
DTEND;TZID=Europe/Paris;VALUE=DATE:20180129
SEQUENCE:0
TRANSP:OPAQUE
END:VEVENT
END:VCALENDAR