BEGIN:VCALENDAR
VERSION:2.0
PRODID:-//jEvents 2.0 for Joomla//EN
CALSCALE:GREGORIAN
METHOD:PUBLISH
BEGIN:VTIMEZONE
TZID:Europe/Paris
BEGIN:STANDARD
DTSTART:20170127T000000
RDATE:20170326T030000
TZOFFSETFROM:+0200
TZOFFSETTO:+0100
TZNAME:Europe/Paris CET
END:STANDARD
BEGIN:STANDARD
DTSTART:20171029T020000
RDATE:20180325T030000
TZOFFSETFROM:+0200
TZOFFSETTO:+0100
TZNAME:Europe/Paris CET
END:STANDARD
BEGIN:STANDARD
DTSTART:20181028T020000
RDATE:20190331T030000
TZOFFSETFROM:+0200
TZOFFSETTO:+0100
TZNAME:Europe/Paris CET
END:STANDARD
BEGIN:STANDARD
DTSTART:20191027T020000
RDATE:20200329T030000
TZOFFSETFROM:+0200
TZOFFSETTO:+0100
TZNAME:Europe/Paris CET
END:STANDARD
BEGIN:STANDARD
DTSTART:20201025T020000
RDATE:20210328T030000
TZOFFSETFROM:+0200
TZOFFSETTO:+0100
TZNAME:Europe/Paris CET
END:STANDARD
BEGIN:STANDARD
DTSTART:20211031T020000
RDATE:20220327T030000
TZOFFSETFROM:+0200
TZOFFSETTO:+0100
TZNAME:Europe/Paris CET
END:STANDARD
BEGIN:STANDARD
DTSTART:20221030T020000
RDATE:20230326T030000
TZOFFSETFROM:+0200
TZOFFSETTO:+0100
TZNAME:Europe/Paris CET
END:STANDARD
BEGIN:STANDARD
DTSTART:20231029T020000
RDATE:20240331T030000
TZOFFSETFROM:+0200
TZOFFSETTO:+0100
TZNAME:Europe/Paris CET
END:STANDARD
BEGIN:STANDARD
DTSTART:20241027T020000
RDATE:20250330T030000
TZOFFSETFROM:+0200
TZOFFSETTO:+0100
TZNAME:Europe/Paris CET
END:STANDARD
BEGIN:STANDARD
DTSTART:20251026T020000
RDATE:20260329T030000
TZOFFSETFROM:+0200
TZOFFSETTO:+0100
TZNAME:Europe/Paris CET
END:STANDARD
BEGIN:STANDARD
DTSTART:20261025T020000
RDATE:20270328T030000
TZOFFSETFROM:+0200
TZOFFSETTO:+0100
TZNAME:Europe/Paris CET
END:STANDARD
BEGIN:DAYLIGHT
DTSTART:20170326T030000
RDATE:20171029T020000
TZOFFSETFROM:+0100
TZOFFSETTO:+0200
TZNAME:Europe/Paris CEST
END:DAYLIGHT
BEGIN:DAYLIGHT
DTSTART:20180325T030000
RDATE:20181028T020000
TZOFFSETFROM:+0100
TZOFFSETTO:+0200
TZNAME:Europe/Paris CEST
END:DAYLIGHT
BEGIN:DAYLIGHT
DTSTART:20190331T030000
RDATE:20191027T020000
TZOFFSETFROM:+0100
TZOFFSETTO:+0200
TZNAME:Europe/Paris CEST
END:DAYLIGHT
BEGIN:DAYLIGHT
DTSTART:20200329T030000
RDATE:20201025T020000
TZOFFSETFROM:+0100
TZOFFSETTO:+0200
TZNAME:Europe/Paris CEST
END:DAYLIGHT
BEGIN:DAYLIGHT
DTSTART:20210328T030000
RDATE:20211031T020000
TZOFFSETFROM:+0100
TZOFFSETTO:+0200
TZNAME:Europe/Paris CEST
END:DAYLIGHT
BEGIN:DAYLIGHT
DTSTART:20220327T030000
RDATE:20221030T020000
TZOFFSETFROM:+0100
TZOFFSETTO:+0200
TZNAME:Europe/Paris CEST
END:DAYLIGHT
BEGIN:DAYLIGHT
DTSTART:20230326T030000
RDATE:20231029T020000
TZOFFSETFROM:+0100
TZOFFSETTO:+0200
TZNAME:Europe/Paris CEST
END:DAYLIGHT
BEGIN:DAYLIGHT
DTSTART:20240331T030000
RDATE:20241027T020000
TZOFFSETFROM:+0100
TZOFFSETTO:+0200
TZNAME:Europe/Paris CEST
END:DAYLIGHT
BEGIN:DAYLIGHT
DTSTART:20250330T030000
RDATE:20251026T020000
TZOFFSETFROM:+0100
TZOFFSETTO:+0200
TZNAME:Europe/Paris CEST
END:DAYLIGHT
BEGIN:DAYLIGHT
DTSTART:20260329T030000
RDATE:20261025T020000
TZOFFSETFROM:+0100
TZOFFSETTO:+0200
TZNAME:Europe/Paris CEST
END:DAYLIGHT
END:VTIMEZONE
BEGIN:VEVENT
UID:c269832a565f2e1cdf616bee7df426ef
CATEGORIES:Circuit Massif Jeunes (alpin)
CREATED:20171121T093310
SUMMARY:CJM Micro Coupe Massif U8/U10 Prix du SC Barr
URL;VALUE=URI:https://skivosges.net/agenda/a-venir/detailevenement/918/-/cjm-micro-coupe-
 massif-u8-u10-prix-du-sc-barr?tmpl=component
DESCRIPTION:<!-- #gskiepreuve code généré par le plugin jevents pour GskiEpreuves. Ne p
 as modifier cette ligne, ni tout le contenu suivant  #gskiepreuve --><div c
 lass="gski-evenement_infos"><div class="gski-evenement-nom">CJM Micro Coupe
  Massif U8/U10 Prix du SC Barr</div><div class="gski-evenement-report"></di
 v><ul class="gski-evenement-liste-infos"><li>Codex évenement AMVT0290</li><
 li>Station : Schnepfenried</li><li>Piste : Panoramic</li><li>Organisateur :
  14003 SKI CLUB BARR</li><li>Courriel : <!-- Cette adresse électronique est
  protégée contre les robots spammeurs. --><span class="cloaked_email ep_194
 c7e3d"><span data-ep-a="&#119;&#105;e&#115;&#46;" data-ep-b=""><span data-e
 p-a="&#99;&#104;&#114;&#105;&#115;" data-ep-b="&#108;.c&#111;m"><span data-
 ep-b="&#64;&#103;mai" data-ep-a="&#116;&#111;&#112;&#104;&#101;"></span></s
 pan></span></span><script>RegularLabs.EmailProtector.unCloak("ep_194c7e3d")
 ;</script></li><li><span class="gski-evenement-obs">Délégué Technique : EIS
 ENBLAETTER MAURICE</span></li></ul><div class="gski-evenement-infos-2"><div
  class="gski-evenement-info-inscriptions"><div class="gski-evenement-inscri
 ptions-periodes">Période d'inscription à l'evènement du dimanche 21 janvier
  2018 à 00:00 au vendredi 26 janvier 2018 à 20:00 <span class="gski-eveneme
 nt-inscriptions-impossibles">(Inscriptions impossibles).</span><div class="
 gski-evenement-inscriptions-types-titres">Inscriptions ouvertes aux detente
 urs des titres Fédéraux valides suivants : Licenciés Compétiteurs</div></di
 v></div><div class="gski-evenement-info-live">L'épreuve sera chronometrée a
 vec les résultats publiés en direct (live)</div><div class="gski-evenement-
 epreuves"><div class="gski-evenement-epreuves-titres">Epreuves :</div><ul c
 lass="gski-evenement-epreuves-list"><li><div class="gski-epreuve-date">Le d
 imanche 28 janvier 2018 à 09:30</div><ul class="gski-epreuve-liste-infos"><
 li>Codex épreuve AMVM0291</li><li>Slalom Geant</li><li>Catégorie(s) : U8/U1
 0 (Garçons)</li></ul></li><li><div class="gski-epreuve-date">Le dimanche 28
  janvier 2018 à 09:30</div><ul class="gski-epreuve-liste-infos"><li>Codex é
 preuve AMVF0291</li><li>Slalom Geant</li><li>Catégorie(s) : U8/U10 (Filles)
 </li></ul></li><li><div class="gski-epreuve-date">Le dimanche 28 janvier 20
 18 à 09:30</div><ul class="gski-epreuve-liste-infos"><li>Codex épreuve AMVM
 0292</li><li>Slalom Geant</li><li>Catégorie(s) : U8/U10 (Garçons)</li></ul>
 </li><li><div class="gski-epreuve-date">Le dimanche 28 janvier 2018 à 09:30
 </div><ul class="gski-epreuve-liste-infos"><li>Codex épreuve AMVF0292</li><
 li>Slalom Geant</li><li>Catégorie(s) : U8/U10 (Filles)</li></ul></li></ul><
 /div><div class="gskiepreuves-links"><ul><li><a href="/index.php?option=com
 _jevents&task=icalevent.detail&evid=913&Itemid=6289">Voir les informations 
 dans l'agenda...</a></li><li><a href="/index.php?option=com_gskiepreuves&vi
 ew=afficheresultats&format_option=tous&filter[search]=AMVT0290&filter[date_
 debut]=28-01-2018&filter[date_fin]=28-01-2018&code_activite=ALP&Itemid=6289
 ">Vers les résultats...</a></li><li>Publications concernant cet évènement :
 <ul><li><a href="/index.php?option=com_content&view=article&id=6088&Itemid=
 6289">Dimanche 28 Janvier 2018 à 17:53 : Le 28/01/2018 SCHNEPFENRIED Résult
 ats</a></li><li><a href="/index.php?option=com_content&view=article&id=6085
 &Itemid=6289">Dimanche 28 Janvier 2018 à 14:30 : Le 28/01/2018 SCHNEPFENRIE
 D Résultats</a></li></ul></li></ul></div></div"><!-- #/gskiepreuve fin du d
 ode généré par le plugin jevents pour GskiEpreuves. . Ne pas modifier cette
  ligne, ni tout le contenu précedant.  #/gskiepreuve --> <a href="https://s
 kivosges.net/agenda/a-venir/detailevenement/918/-/cjm-micro-coupe-massif-u8
 -u10-prix-du-sc-barr?tmpl=component">Cet évènement a été importé depuis :ht
 tps://skivosges.net/agenda/a-venir/detailevenement/918/-/cjm-micro-coupe-ma
 ssif-u8-u10-prix-du-sc-barr?tmpl=component</a>
X-ALT-DESC;FMTTYPE=text/html:<!-- #gskiepreuve code généré par le plugin jevents pour GskiEpreuves. Ne p
 as modifier cette ligne, ni tout le contenu suivant  #gskiepreuve --><div c
 lass="gski-evenement_infos"><div class="gski-evenement-nom">CJM Micro Coupe
  Massif U8/U10 Prix du SC Barr</div><div class="gski-evenement-report"></di
 v><ul class="gski-evenement-liste-infos"><li>Codex évenement AMVT0290</li><
 li>Station : Schnepfenried</li><li>Piste : Panoramic</li><li>Organisateur :
  14003 SKI CLUB BARR</li><li>Courriel : <!-- Cette adresse électronique est
  protégée contre les robots spammeurs. --><span class="cloaked_email ep_194
 c7e3d"><span data-ep-a="&#119;&#105;e&#115;&#46;" data-ep-b=""><span data-e
 p-a="&#99;&#104;&#114;&#105;&#115;" data-ep-b="&#108;.c&#111;m"><span data-
 ep-b="&#64;&#103;mai" data-ep-a="&#116;&#111;&#112;&#104;&#101;"></span></s
 pan></span></span><script>RegularLabs.EmailProtector.unCloak("ep_194c7e3d")
 ;</script></li><li><span class="gski-evenement-obs">Délégué Technique : EIS
 ENBLAETTER MAURICE</span></li></ul><div class="gski-evenement-infos-2"><div
  class="gski-evenement-info-inscriptions"><div class="gski-evenement-inscri
 ptions-periodes">Période d'inscription à l'evènement du dimanche 21 janvier
  2018 à 00:00 au vendredi 26 janvier 2018 à 20:00 <span class="gski-eveneme
 nt-inscriptions-impossibles">(Inscriptions impossibles).</span><div class="
 gski-evenement-inscriptions-types-titres">Inscriptions ouvertes aux detente
 urs des titres Fédéraux valides suivants : Licenciés Compétiteurs</div></di
 v></div><div class="gski-evenement-info-live">L'épreuve sera chronometrée a
 vec les résultats publiés en direct (live)</div><div class="gski-evenement-
 epreuves"><div class="gski-evenement-epreuves-titres">Epreuves :</div><ul c
 lass="gski-evenement-epreuves-list"><li><div class="gski-epreuve-date">Le d
 imanche 28 janvier 2018 à 09:30</div><ul class="gski-epreuve-liste-infos"><
 li>Codex épreuve AMVM0291</li><li>Slalom Geant</li><li>Catégorie(s) : U8/U1
 0 (Garçons)</li></ul></li><li><div class="gski-epreuve-date">Le dimanche 28
  janvier 2018 à 09:30</div><ul class="gski-epreuve-liste-infos"><li>Codex é
 preuve AMVF0291</li><li>Slalom Geant</li><li>Catégorie(s) : U8/U10 (Filles)
 </li></ul></li><li><div class="gski-epreuve-date">Le dimanche 28 janvier 20
 18 à 09:30</div><ul class="gski-epreuve-liste-infos"><li>Codex épreuve AMVM
 0292</li><li>Slalom Geant</li><li>Catégorie(s) : U8/U10 (Garçons)</li></ul>
 </li><li><div class="gski-epreuve-date">Le dimanche 28 janvier 2018 à 09:30
 </div><ul class="gski-epreuve-liste-infos"><li>Codex épreuve AMVF0292</li><
 li>Slalom Geant</li><li>Catégorie(s) : U8/U10 (Filles)</li></ul></li></ul><
 /div><div class="gskiepreuves-links"><ul><li><a href="https://skivosges.net
 /index.php?option=com_jevents&task=icalevent.detail&evid=913&Itemid=6289">V
 oir les informations dans l'agenda...</a></li><li><a href="https://skivosge
 s.net/index.php?option=com_gskiepreuves&view=afficheresultats&format_option
 =tous&filter[search]=AMVT0290&filter[date_debut]=28-01-2018&filter[date_fin
 ]=28-01-2018&code_activite=ALP&Itemid=6289">Vers les résultats...</a></li><
 li>Publications concernant cet évènement :<ul><li><a href="https://skivosge
 s.net/index.php?option=com_content&view=article&id=6088&Itemid=6289">Dimanc
 he 28 Janvier 2018 à 17:53 : Le 28/01/2018 SCHNEPFENRIED Résultats</a></li>
 <li><a href="https://skivosges.net/index.php?option=com_content&view=articl
 e&id=6085&Itemid=6289">Dimanche 28 Janvier 2018 à 14:30 : Le 28/01/2018 SCH
 NEPFENRIED Résultats</a></li></ul></li></ul></div></div"><!-- #/gskiepreuve
  fin du dode généré par le plugin jevents pour GskiEpreuves. . Ne pas modif
 ier cette ligne, ni tout le contenu précedant.  #/gskiepreuve --> <a href="
 https://skivosges.net/agenda/a-venir/detailevenement/918/-/cjm-micro-coupe-
 massif-u8-u10-prix-du-sc-barr?tmpl=component">Cet évènement a été importé d
 epuis :https://skivosges.net/agenda/a-venir/detailevenement/918/-/cjm-micro
 -coupe-massif-u8-u10-prix-du-sc-barr?tmpl=component</a>DTSTAMP:20260424T012603
DTSTART;TZID=Europe/Paris;VALUE=DATE:20180128
DTEND;TZID=Europe/Paris;VALUE=DATE:20180129
SEQUENCE:0
TRANSP:OPAQUE
END:VEVENT
END:VCALENDAR