BEGIN:VCALENDAR
VERSION:2.0
PRODID:-//jEvents 2.0 for Joomla//EN
CALSCALE:GREGORIAN
METHOD:PUBLISH
BEGIN:VTIMEZONE
TZID:Europe/Paris
BEGIN:STANDARD
DTSTART:20170127T000000
RDATE:20170326T030000
TZOFFSETFROM:+0200
TZOFFSETTO:+0100
TZNAME:Europe/Paris CET
END:STANDARD
BEGIN:STANDARD
DTSTART:20171029T020000
RDATE:20180325T030000
TZOFFSETFROM:+0200
TZOFFSETTO:+0100
TZNAME:Europe/Paris CET
END:STANDARD
BEGIN:STANDARD
DTSTART:20181028T020000
RDATE:20190331T030000
TZOFFSETFROM:+0200
TZOFFSETTO:+0100
TZNAME:Europe/Paris CET
END:STANDARD
BEGIN:STANDARD
DTSTART:20191027T020000
RDATE:20200329T030000
TZOFFSETFROM:+0200
TZOFFSETTO:+0100
TZNAME:Europe/Paris CET
END:STANDARD
BEGIN:STANDARD
DTSTART:20201025T020000
RDATE:20210328T030000
TZOFFSETFROM:+0200
TZOFFSETTO:+0100
TZNAME:Europe/Paris CET
END:STANDARD
BEGIN:STANDARD
DTSTART:20211031T020000
RDATE:20220327T030000
TZOFFSETFROM:+0200
TZOFFSETTO:+0100
TZNAME:Europe/Paris CET
END:STANDARD
BEGIN:STANDARD
DTSTART:20221030T020000
RDATE:20230326T030000
TZOFFSETFROM:+0200
TZOFFSETTO:+0100
TZNAME:Europe/Paris CET
END:STANDARD
BEGIN:STANDARD
DTSTART:20231029T020000
RDATE:20240331T030000
TZOFFSETFROM:+0200
TZOFFSETTO:+0100
TZNAME:Europe/Paris CET
END:STANDARD
BEGIN:STANDARD
DTSTART:20241027T020000
RDATE:20250330T030000
TZOFFSETFROM:+0200
TZOFFSETTO:+0100
TZNAME:Europe/Paris CET
END:STANDARD
BEGIN:STANDARD
DTSTART:20251026T020000
RDATE:20260329T030000
TZOFFSETFROM:+0200
TZOFFSETTO:+0100
TZNAME:Europe/Paris CET
END:STANDARD
BEGIN:STANDARD
DTSTART:20261025T020000
RDATE:20270328T030000
TZOFFSETFROM:+0200
TZOFFSETTO:+0100
TZNAME:Europe/Paris CET
END:STANDARD
BEGIN:DAYLIGHT
DTSTART:20170326T030000
RDATE:20171029T020000
TZOFFSETFROM:+0100
TZOFFSETTO:+0200
TZNAME:Europe/Paris CEST
END:DAYLIGHT
BEGIN:DAYLIGHT
DTSTART:20180325T030000
RDATE:20181028T020000
TZOFFSETFROM:+0100
TZOFFSETTO:+0200
TZNAME:Europe/Paris CEST
END:DAYLIGHT
BEGIN:DAYLIGHT
DTSTART:20190331T030000
RDATE:20191027T020000
TZOFFSETFROM:+0100
TZOFFSETTO:+0200
TZNAME:Europe/Paris CEST
END:DAYLIGHT
BEGIN:DAYLIGHT
DTSTART:20200329T030000
RDATE:20201025T020000
TZOFFSETFROM:+0100
TZOFFSETTO:+0200
TZNAME:Europe/Paris CEST
END:DAYLIGHT
BEGIN:DAYLIGHT
DTSTART:20210328T030000
RDATE:20211031T020000
TZOFFSETFROM:+0100
TZOFFSETTO:+0200
TZNAME:Europe/Paris CEST
END:DAYLIGHT
BEGIN:DAYLIGHT
DTSTART:20220327T030000
RDATE:20221030T020000
TZOFFSETFROM:+0100
TZOFFSETTO:+0200
TZNAME:Europe/Paris CEST
END:DAYLIGHT
BEGIN:DAYLIGHT
DTSTART:20230326T030000
RDATE:20231029T020000
TZOFFSETFROM:+0100
TZOFFSETTO:+0200
TZNAME:Europe/Paris CEST
END:DAYLIGHT
BEGIN:DAYLIGHT
DTSTART:20240331T030000
RDATE:20241027T020000
TZOFFSETFROM:+0100
TZOFFSETTO:+0200
TZNAME:Europe/Paris CEST
END:DAYLIGHT
BEGIN:DAYLIGHT
DTSTART:20250330T030000
RDATE:20251026T020000
TZOFFSETFROM:+0100
TZOFFSETTO:+0200
TZNAME:Europe/Paris CEST
END:DAYLIGHT
BEGIN:DAYLIGHT
DTSTART:20260329T030000
RDATE:20261025T020000
TZOFFSETFROM:+0100
TZOFFSETTO:+0200
TZNAME:Europe/Paris CEST
END:DAYLIGHT
END:VTIMEZONE
BEGIN:VEVENT
UID:eb77e333e93f5b25c625852117dfca6b
CATEGORIES:Circuit Massif D2 (alpin)
CREATED:20171121T093310
SUMMARY:CD2 Prix de l'US Bussang **REPORTE**
URL;VALUE=URI:https://skivosges.net/agenda/a-venir/detailevenement/921/-/cd2-prix-de-lus-
 bussang-reporte?tmpl=component
DESCRIPTION:CD2 Prix de l'US Bussang (Epreuve reportée, date à determiner)\n - Codex év
 enement AMVT0970\n - Station : BUSSANG LARCENAIRE\n - Organisateur : 14007 
 UNION SPORTIVE BUSSANG\n - Courriel : RegularLabs.EmailProtector.unCloak("e
 p_426d6301");\n - Délégué Technique : CLAUDEL RENEPériode d'inscription à l
 'evènement du dimanche 21 janvier 2018 à 00:00 au vendredi 26 janvier 2018 
 à 12:00 (Inscriptions impossibles).Inscriptions ouvertes aux detenteurs des
  titres Fédéraux valides suivants : Licenciés CompétiteursEpreuves :\n - Le
  dimanche 28 janvier 2018\n - Codex épreuve AMVM0971\n - Slalom\n - Catégor
 ie(s) : U16 (Garçons)\n - Le dimanche 28 janvier 2018\n - Codex épreuve AMV
 F0971\n - Slalom\n - Catégorie(s) : U16 (Filles)\n - Le dimanche 28 janvier
  2018\n - Codex épreuve AMVM0972\n - Slalom\n - Catégorie(s) : U18 a Master
 s (Hommes)\n - Le dimanche 28 janvier 2018\n - Codex épreuve AMVF0972\n - S
 lalom\n - Catégorie(s) : U18 a Masters (Dames)\n - Voir les informations da
 ns l'agenda... (/index.php?option=com_jevents&amp;task=icalevent.detail&amp
 ;evid=916&amp;Itemid=6289) Cet évènement a été importé depuis :https://skiv
 osges.net/agenda/a-venir/detailevenement/921/-/cd2-prix-de-lus-bussang-repo
 rte?tmpl=component
X-ALT-DESC;FMTTYPE=text/html:<!-- #gskiepreuve code généré par le plugin jevents pour GskiEpreuves. Ne p
 as modifier cette ligne, ni tout le contenu suivant  #gskiepreuve --><div c
 lass="gski-evenement_infos"><div class="gski-evenement-nom">CD2 Prix de l'U
 S Bussang</div><div class="gski-evenement-report"> <font class="gskiattenti
 on">(Epreuve reportée, date à determiner)</font></div><ul class="gski-evene
 ment-liste-infos"><li>Codex évenement AMVT0970</li><li>Station : BUSSANG LA
 RCENAIRE</li><li>Organisateur : 14007 UNION SPORTIVE BUSSANG</li><li>Courri
 el : <!-- Cette adresse électronique est protégée contre les robots spammeu
 rs. --><span class="cloaked_email ep_426d6301"><span data-ep-b="" data-ep-a
 ="&#100;&#97;&#110;&#105;"><span data-ep-a="&#101;&#108;.m" data-ep-b="r&#4
 6;&#102;&#114;"><span data-ep-a="or&#101;&#108;" data-ep-b="&#53;&#64;&#115
 ;&#102;"></span></span></span></span><script>RegularLabs.EmailProtector.unC
 loak("ep_426d6301");</script></li><li><span class="gski-evenement-obs">Délé
 gué Technique : CLAUDEL RENE</span></li></ul><div class="gski-evenement-inf
 os-2"><div class="gski-evenement-info-inscriptions"><div class="gski-evenem
 ent-inscriptions-periodes">Période d'inscription à l'evènement du dimanche 
 21 janvier 2018 à 00:00 au vendredi 26 janvier 2018 à 12:00 <span class="gs
 ki-evenement-inscriptions-impossibles">(Inscriptions impossibles).</span><d
 iv class="gski-evenement-inscriptions-types-titres">Inscriptions ouvertes a
 ux detenteurs des titres Fédéraux valides suivants : Licenciés Compétiteurs
 </div></div></div><div class="gski-evenement-epreuves"><div class="gski-eve
 nement-epreuves-titres">Epreuves :</div><ul class="gski-evenement-epreuves-
 list"><li><div class="gski-epreuve-date">Le dimanche 28 janvier 2018</div><
 ul class="gski-epreuve-liste-infos"><li>Codex épreuve AMVM0971</li><li>Slal
 om</li><li>Catégorie(s) : U16 (Garçons)</li></ul></li><li><div class="gski-
 epreuve-date">Le dimanche 28 janvier 2018</div><ul class="gski-epreuve-list
 e-infos"><li>Codex épreuve AMVF0971</li><li>Slalom</li><li>Catégorie(s) : U
 16 (Filles)</li></ul></li><li><div class="gski-epreuve-date">Le dimanche 28
  janvier 2018</div><ul class="gski-epreuve-liste-infos"><li>Codex épreuve A
 MVM0972</li><li>Slalom</li><li>Catégorie(s) : U18 a Masters (Hommes)</li></
 ul></li><li><div class="gski-epreuve-date">Le dimanche 28 janvier 2018</div
 ><ul class="gski-epreuve-liste-infos"><li>Codex épreuve AMVF0972</li><li>Sl
 alom</li><li>Catégorie(s) : U18 a Masters (Dames)</li></ul></li></ul></div>
 <div class="gskiepreuves-links"><ul><li><a href="https://skivosges.net/inde
 x.php?option=com_jevents&task=icalevent.detail&evid=916&Itemid=6289">Voir l
 es informations dans l'agenda...</a></li></ul></div></div"><!-- #/gskiepreu
 ve fin du dode généré par le plugin jevents pour GskiEpreuves. . Ne pas mod
 ifier cette ligne, ni tout le contenu précedant.  #/gskiepreuve --> <a href
 ="https://skivosges.net/agenda/a-venir/detailevenement/921/-/cd2-prix-de-lu
 s-bussang-reporte?tmpl=component">Cet évènement a été importé depuis :https
 ://skivosges.net/agenda/a-venir/detailevenement/921/-/cd2-prix-de-lus-bussa
 ng-reporte?tmpl=component</a>DTSTAMP:20260424T030425
DTSTART;TZID=Europe/Paris;VALUE=DATE:20180128
DTEND;TZID=Europe/Paris;VALUE=DATE:20180129
SEQUENCE:0
TRANSP:OPAQUE
END:VEVENT
END:VCALENDAR