BEGIN:VCALENDAR
VERSION:2.0
PRODID:-//jEvents 2.0 for Joomla//EN
CALSCALE:GREGORIAN
METHOD:PUBLISH
BEGIN:VTIMEZONE
TZID:Europe/Paris
BEGIN:STANDARD
DTSTART:20170202T000000
RDATE:20170326T030000
TZOFFSETFROM:+0200
TZOFFSETTO:+0100
TZNAME:Europe/Paris CET
END:STANDARD
BEGIN:STANDARD
DTSTART:20171029T020000
RDATE:20180325T030000
TZOFFSETFROM:+0200
TZOFFSETTO:+0100
TZNAME:Europe/Paris CET
END:STANDARD
BEGIN:STANDARD
DTSTART:20181028T020000
RDATE:20190331T030000
TZOFFSETFROM:+0200
TZOFFSETTO:+0100
TZNAME:Europe/Paris CET
END:STANDARD
BEGIN:STANDARD
DTSTART:20191027T020000
RDATE:20200329T030000
TZOFFSETFROM:+0200
TZOFFSETTO:+0100
TZNAME:Europe/Paris CET
END:STANDARD
BEGIN:STANDARD
DTSTART:20201025T020000
RDATE:20210328T030000
TZOFFSETFROM:+0200
TZOFFSETTO:+0100
TZNAME:Europe/Paris CET
END:STANDARD
BEGIN:STANDARD
DTSTART:20211031T020000
RDATE:20220327T030000
TZOFFSETFROM:+0200
TZOFFSETTO:+0100
TZNAME:Europe/Paris CET
END:STANDARD
BEGIN:STANDARD
DTSTART:20221030T020000
RDATE:20230326T030000
TZOFFSETFROM:+0200
TZOFFSETTO:+0100
TZNAME:Europe/Paris CET
END:STANDARD
BEGIN:STANDARD
DTSTART:20231029T020000
RDATE:20240331T030000
TZOFFSETFROM:+0200
TZOFFSETTO:+0100
TZNAME:Europe/Paris CET
END:STANDARD
BEGIN:STANDARD
DTSTART:20241027T020000
RDATE:20250330T030000
TZOFFSETFROM:+0200
TZOFFSETTO:+0100
TZNAME:Europe/Paris CET
END:STANDARD
BEGIN:STANDARD
DTSTART:20251026T020000
RDATE:20260329T030000
TZOFFSETFROM:+0200
TZOFFSETTO:+0100
TZNAME:Europe/Paris CET
END:STANDARD
BEGIN:STANDARD
DTSTART:20261025T020000
RDATE:20270328T030000
TZOFFSETFROM:+0200
TZOFFSETTO:+0100
TZNAME:Europe/Paris CET
END:STANDARD
BEGIN:DAYLIGHT
DTSTART:20170326T030000
RDATE:20171029T020000
TZOFFSETFROM:+0100
TZOFFSETTO:+0200
TZNAME:Europe/Paris CEST
END:DAYLIGHT
BEGIN:DAYLIGHT
DTSTART:20180325T030000
RDATE:20181028T020000
TZOFFSETFROM:+0100
TZOFFSETTO:+0200
TZNAME:Europe/Paris CEST
END:DAYLIGHT
BEGIN:DAYLIGHT
DTSTART:20190331T030000
RDATE:20191027T020000
TZOFFSETFROM:+0100
TZOFFSETTO:+0200
TZNAME:Europe/Paris CEST
END:DAYLIGHT
BEGIN:DAYLIGHT
DTSTART:20200329T030000
RDATE:20201025T020000
TZOFFSETFROM:+0100
TZOFFSETTO:+0200
TZNAME:Europe/Paris CEST
END:DAYLIGHT
BEGIN:DAYLIGHT
DTSTART:20210328T030000
RDATE:20211031T020000
TZOFFSETFROM:+0100
TZOFFSETTO:+0200
TZNAME:Europe/Paris CEST
END:DAYLIGHT
BEGIN:DAYLIGHT
DTSTART:20220327T030000
RDATE:20221030T020000
TZOFFSETFROM:+0100
TZOFFSETTO:+0200
TZNAME:Europe/Paris CEST
END:DAYLIGHT
BEGIN:DAYLIGHT
DTSTART:20230326T030000
RDATE:20231029T020000
TZOFFSETFROM:+0100
TZOFFSETTO:+0200
TZNAME:Europe/Paris CEST
END:DAYLIGHT
BEGIN:DAYLIGHT
DTSTART:20240331T030000
RDATE:20241027T020000
TZOFFSETFROM:+0100
TZOFFSETTO:+0200
TZNAME:Europe/Paris CEST
END:DAYLIGHT
BEGIN:DAYLIGHT
DTSTART:20250330T030000
RDATE:20251026T020000
TZOFFSETFROM:+0100
TZOFFSETTO:+0200
TZNAME:Europe/Paris CEST
END:DAYLIGHT
BEGIN:DAYLIGHT
DTSTART:20260329T030000
RDATE:20261025T020000
TZOFFSETFROM:+0100
TZOFFSETTO:+0200
TZNAME:Europe/Paris CEST
END:DAYLIGHT
END:VTIMEZONE
BEGIN:VEVENT
UID:d5aca2c7270b4fe19637487bdbeb2951
CATEGORIES:Compétition Saut
CREATED:20171121T093310
SUMMARY:LA BRESSE Samse tour U15 - Saut spécial - combiné nordique   Lispach K40m
URL;VALUE=URI:https://skivosges.net/agenda/a-venir/detailevenement/923/-/la-bresse-samse-
 tour-u15-saut-special-combine-nordique-lispach-k40m?tmpl=component
DESCRIPTION:LA BRESSE Samse tour U15 - Saut spécial - combiné nordique   Lispach K40m\n
  - Codex évenement TMVT0060\n - Station : LA BRESSE LISPACH\n - Organisateu
 r : 14024 LA BRESSAUDE SECTION SKIPériode d'inscription à l'evènement du sa
 medi 27 janvier 2018 à 00:00 au jeudi 01 février 2018 à 12:00 (Inscriptions
  impossibles).Inscriptions ouvertes aux detenteurs des titres Fédéraux vali
 des suivants : Licenciés CompétiteursEpreuves :\n - Le samedi 03 février 20
 18\n - Codex épreuve TMVF0061\n - Saut Special\n - Catégorie(s) : U15 (Fill
 es)\n - Le samedi 03 février 2018\n - Codex épreuve TMVM0061\n - Saut Speci
 al\n - Catégorie(s) : U15 (Garçons)\n - Voir les informations dans l'agenda
 ... (/index.php?option=com_jevents&amp;task=icalevent.detail&amp;evid=918&a
 mp;Itemid=6289) Cet évènement a été importé depuis :https://skivosges.net/a
 genda/a-venir/detailevenement/923/-/la-bresse-samse-tour-u15-saut-special-c
 ombine-nordique-lispach-k40m?tmpl=component
X-ALT-DESC;FMTTYPE=text/html:<!-- #gskiepreuve code généré par le plugin jevents pour GskiEpreuves. Ne p
 as modifier cette ligne, ni tout le contenu suivant  #gskiepreuve --><div c
 lass="gski-evenement_infos"><div class="gski-evenement-nom">LA BRESSE Samse
  tour U15 - Saut spécial - combiné nordique   Lispach K40m</div><div class=
 "gski-evenement-report"></div><ul class="gski-evenement-liste-infos"><li>Co
 dex évenement TMVT0060</li><li>Station : LA BRESSE LISPACH</li><li>Organisa
 teur : 14024 LA BRESSAUDE SECTION SKI</li></ul><div class="gski-evenement-i
 nfos-2"><div class="gski-evenement-info-inscriptions"><div class="gski-even
 ement-inscriptions-periodes">Période d'inscription à l'evènement du samedi 
 27 janvier 2018 à 00:00 au jeudi 01 février 2018 à 12:00 <span class="gski-
 evenement-inscriptions-impossibles">(Inscriptions impossibles).</span><div 
 class="gski-evenement-inscriptions-types-titres">Inscriptions ouvertes aux 
 detenteurs des titres Fédéraux valides suivants : Licenciés Compétiteurs</d
 iv></div></div><div class="gski-evenement-epreuves"><div class="gski-evenem
 ent-epreuves-titres">Epreuves :</div><ul class="gski-evenement-epreuves-lis
 t"><li><div class="gski-epreuve-date">Le samedi 03 février 2018</div><ul cl
 ass="gski-epreuve-liste-infos"><li>Codex épreuve TMVF0061</li><li>Saut Spec
 ial</li><li>Catégorie(s) : U15 (Filles)</li></ul></li><li><div class="gski-
 epreuve-date">Le samedi 03 février 2018</div><ul class="gski-epreuve-liste-
 infos"><li>Codex épreuve TMVM0061</li><li>Saut Special</li><li>Catégorie(s)
  : U15 (Garçons)</li></ul></li></ul></div><div class="gskiepreuves-links"><
 ul><li><a href="https://skivosges.net/index.php?option=com_jevents&task=ica
 levent.detail&evid=918&Itemid=6289">Voir les informations dans l'agenda...<
 /a></li></ul></div></div"><!-- #/gskiepreuve fin du dode généré par le plug
 in jevents pour GskiEpreuves. . Ne pas modifier cette ligne, ni tout le con
 tenu précedant.  #/gskiepreuve --> <a href="https://skivosges.net/agenda/a-
 venir/detailevenement/923/-/la-bresse-samse-tour-u15-saut-special-combine-n
 ordique-lispach-k40m?tmpl=component">Cet évènement a été importé depuis :ht
 tps://skivosges.net/agenda/a-venir/detailevenement/923/-/la-bresse-samse-to
 ur-u15-saut-special-combine-nordique-lispach-k40m?tmpl=component</a>DTSTAMP:20260424T073937
DTSTART;TZID=Europe/Paris;VALUE=DATE:20180203
DTEND;TZID=Europe/Paris;VALUE=DATE:20180205
SEQUENCE:0
TRANSP:OPAQUE
END:VEVENT
END:VCALENDAR