BEGIN:VCALENDAR
VERSION:2.0
PRODID:-//jEvents 2.0 for Joomla//EN
CALSCALE:GREGORIAN
METHOD:PUBLISH
BEGIN:VTIMEZONE
TZID:Europe/Paris
BEGIN:STANDARD
DTSTART:20170203T000000
RDATE:20170326T030000
TZOFFSETFROM:+0200
TZOFFSETTO:+0100
TZNAME:Europe/Paris CET
END:STANDARD
BEGIN:STANDARD
DTSTART:20171029T020000
RDATE:20180325T030000
TZOFFSETFROM:+0200
TZOFFSETTO:+0100
TZNAME:Europe/Paris CET
END:STANDARD
BEGIN:STANDARD
DTSTART:20181028T020000
RDATE:20190331T030000
TZOFFSETFROM:+0200
TZOFFSETTO:+0100
TZNAME:Europe/Paris CET
END:STANDARD
BEGIN:STANDARD
DTSTART:20191027T020000
RDATE:20200329T030000
TZOFFSETFROM:+0200
TZOFFSETTO:+0100
TZNAME:Europe/Paris CET
END:STANDARD
BEGIN:STANDARD
DTSTART:20201025T020000
RDATE:20210328T030000
TZOFFSETFROM:+0200
TZOFFSETTO:+0100
TZNAME:Europe/Paris CET
END:STANDARD
BEGIN:STANDARD
DTSTART:20211031T020000
RDATE:20220327T030000
TZOFFSETFROM:+0200
TZOFFSETTO:+0100
TZNAME:Europe/Paris CET
END:STANDARD
BEGIN:STANDARD
DTSTART:20221030T020000
RDATE:20230326T030000
TZOFFSETFROM:+0200
TZOFFSETTO:+0100
TZNAME:Europe/Paris CET
END:STANDARD
BEGIN:STANDARD
DTSTART:20231029T020000
RDATE:20240331T030000
TZOFFSETFROM:+0200
TZOFFSETTO:+0100
TZNAME:Europe/Paris CET
END:STANDARD
BEGIN:STANDARD
DTSTART:20241027T020000
RDATE:20250330T030000
TZOFFSETFROM:+0200
TZOFFSETTO:+0100
TZNAME:Europe/Paris CET
END:STANDARD
BEGIN:STANDARD
DTSTART:20251026T020000
RDATE:20260329T030000
TZOFFSETFROM:+0200
TZOFFSETTO:+0100
TZNAME:Europe/Paris CET
END:STANDARD
BEGIN:STANDARD
DTSTART:20261025T020000
RDATE:20270328T030000
TZOFFSETFROM:+0200
TZOFFSETTO:+0100
TZNAME:Europe/Paris CET
END:STANDARD
BEGIN:DAYLIGHT
DTSTART:20170326T030000
RDATE:20171029T020000
TZOFFSETFROM:+0100
TZOFFSETTO:+0200
TZNAME:Europe/Paris CEST
END:DAYLIGHT
BEGIN:DAYLIGHT
DTSTART:20180325T030000
RDATE:20181028T020000
TZOFFSETFROM:+0100
TZOFFSETTO:+0200
TZNAME:Europe/Paris CEST
END:DAYLIGHT
BEGIN:DAYLIGHT
DTSTART:20190331T030000
RDATE:20191027T020000
TZOFFSETFROM:+0100
TZOFFSETTO:+0200
TZNAME:Europe/Paris CEST
END:DAYLIGHT
BEGIN:DAYLIGHT
DTSTART:20200329T030000
RDATE:20201025T020000
TZOFFSETFROM:+0100
TZOFFSETTO:+0200
TZNAME:Europe/Paris CEST
END:DAYLIGHT
BEGIN:DAYLIGHT
DTSTART:20210328T030000
RDATE:20211031T020000
TZOFFSETFROM:+0100
TZOFFSETTO:+0200
TZNAME:Europe/Paris CEST
END:DAYLIGHT
BEGIN:DAYLIGHT
DTSTART:20220327T030000
RDATE:20221030T020000
TZOFFSETFROM:+0100
TZOFFSETTO:+0200
TZNAME:Europe/Paris CEST
END:DAYLIGHT
BEGIN:DAYLIGHT
DTSTART:20230326T030000
RDATE:20231029T020000
TZOFFSETFROM:+0100
TZOFFSETTO:+0200
TZNAME:Europe/Paris CEST
END:DAYLIGHT
BEGIN:DAYLIGHT
DTSTART:20240331T030000
RDATE:20241027T020000
TZOFFSETFROM:+0100
TZOFFSETTO:+0200
TZNAME:Europe/Paris CEST
END:DAYLIGHT
BEGIN:DAYLIGHT
DTSTART:20250330T030000
RDATE:20251026T020000
TZOFFSETFROM:+0100
TZOFFSETTO:+0200
TZNAME:Europe/Paris CEST
END:DAYLIGHT
BEGIN:DAYLIGHT
DTSTART:20260329T030000
RDATE:20261025T020000
TZOFFSETFROM:+0100
TZOFFSETTO:+0200
TZNAME:Europe/Paris CEST
END:DAYLIGHT
END:VTIMEZONE
BEGIN:VEVENT
UID:18a469c674ed7ebc5c76667f7b041f80
CATEGORIES:Compétition Ski de Fond
CREATED:20171121T093310
SUMMARY:COUPE DES TROIS FOURS-VALLÉE DE MUNSTER BIG-MAT-ATOMIC N°8 U14  CREDIT-MUTUEL N°4
URL;VALUE=URI:https://skivosges.net/agenda/a-venir/detailevenement/928/-/coupe-des-trois-
 fours-vallee-de-munster-big-mat-atomic-n-8-u14-credit-mutuel-n-4?tmpl=compo
 nent
DESCRIPTION:COUPE DES TROIS FOURS-VALLÉE DE MUNSTER BIG-MAT-ATOMIC N°8 U14  CREDIT-MUTU
 EL N°4\n - Codex évenement FMVT0130\n - Station : site des trois fours\n - 
 Organisateur : 14199 SKIEURS DU TANET\n - Courriel : RegularLabs.EmailProte
 ctor.unCloak("ep_88e8e06c");\n - Délégué Technique : SIMON ROBERTPériode d'
 inscription à l'evènement du dimanche 28 janvier 2018 à 00:00 au vendredi 0
 2 février 2018 à 12:00 (Inscriptions impossibles).Inscriptions ouvertes aux
  detenteurs des titres Fédéraux valides suivants : Licenciés CompétiteursEp
 reuves :\n - Le dimanche 04 février 2018\n - Codex épreuve FMVF0131\n - Dep
 art Individuel\n - Catégorie(s) : U14 (Filles)\n - Le dimanche 04 février 2
 018\n - Codex épreuve FMVF0132\n - Depart Individuel\n - Catégorie(s) : U16
  (Filles)\n - Le dimanche 04 février 2018\n - Codex épreuve FMVF0133\n - De
 part Individuel\n - Catégorie(s) : U18/U20 (Dames)\n - Le dimanche 04 févri
 er 2018\n - Codex épreuve FMVF0134\n - Depart Individuel\n - Catégorie(s) :
  Senior (Dames)\n - Le dimanche 04 février 2018\n - Codex épreuve FMVM0131\
 n - Depart Individuel\n - Catégorie(s) : U14 (Garçons)\n - Le dimanche 04 f
 évrier 2018\n - Codex épreuve FMVM0132\n - Depart Individuel\n - Catégorie(
 s) : U16 (Garçons)\n - Le dimanche 04 février 2018\n - Codex épreuve FMVM01
 33\n - Depart Individuel\n - Catégorie(s) : U18/U20 (Hommes)\n - Le dimanch
 e 04 février 2018\n - Codex épreuve FMVM0134\n - Depart Individuel\n - Caté
 gorie(s) : Senior (Hommes)\n - Voir les informations dans l'agenda... (/ind
 ex.php?option=com_jevents&amp;task=icalevent.detail&amp;evid=923&amp;Itemid
 =6289)\n - Vers les résultats... (/index.php?option=com_gskiepreuves&amp;vi
 ew=afficheresultats&amp;format_option=tous&amp;filter[search]=FMVT0130&amp;
 filter[date_debut]=04-02-2018&amp;filter[date_fin]=04-02-2018&amp;code_acti
 vite=FOND&amp;Itemid=6289) Cet évènement a été importé depuis :https://skiv
 osges.net/agenda/a-venir/detailevenement/928/-/coupe-des-trois-fours-vallee
 -de-munster-big-mat-atomic-n-8-u14-credit-mutuel-n-4?tmpl=component
X-ALT-DESC;FMTTYPE=text/html:<!-- #gskiepreuve code généré par le plugin jevents pour GskiEpreuves. Ne p
 as modifier cette ligne, ni tout le contenu suivant  #gskiepreuve --><div c
 lass="gski-evenement_infos"><div class="gski-evenement-nom">COUPE DES TROIS
  FOURS-VALLÉE DE MUNSTER BIG-MAT-ATOMIC N°8 U14  CREDIT-MUTUEL N°4</div><di
 v class="gski-evenement-report"></div><ul class="gski-evenement-liste-infos
 "><li>Codex évenement FMVT0130</li><li>Station : site des trois fours</li><
 li>Organisateur : 14199 SKIEURS DU TANET</li><li>Courriel : <!-- Cette adre
 sse électronique est protégée contre les robots spammeurs. --><span class="
 cloaked_email ep_88e8e06c"><span data-ep-a="&#115;c&#104;&#105;&#108;" data
 -ep-b="o.&#102;r"><span data-ep-a="&#108;&#105;&#110;g&#101;" data-ep-b="a&
 #110;&#97;&#100;&#111;"><span data-ep-b="&#105;&#101;&#114;&#64;&#119;" dat
 a-ep-a="&#114;.&#100;&#105;d"></span></span></span></span><script>RegularLa
 bs.EmailProtector.unCloak("ep_88e8e06c");</script></li><li><span class="gsk
 i-evenement-obs">Délégué Technique : SIMON ROBERT</span></li></ul><div clas
 s="gski-evenement-infos-2"><div class="gski-evenement-info-inscriptions"><d
 iv class="gski-evenement-inscriptions-periodes">Période d'inscription à l'e
 vènement du dimanche 28 janvier 2018 à 00:00 au vendredi 02 février 2018 à 
 12:00 <span class="gski-evenement-inscriptions-impossibles">(Inscriptions i
 mpossibles).</span><div class="gski-evenement-inscriptions-types-titres">In
 scriptions ouvertes aux detenteurs des titres Fédéraux valides suivants : L
 icenciés Compétiteurs</div></div></div><div class="gski-evenement-epreuves"
 ><div class="gski-evenement-epreuves-titres">Epreuves :</div><ul class="gsk
 i-evenement-epreuves-list"><li><div class="gski-epreuve-date">Le dimanche 0
 4 février 2018</div><ul class="gski-epreuve-liste-infos"><li>Codex épreuve 
 FMVF0131</li><li>Depart Individuel</li><li>Catégorie(s) : U14 (Filles)</li>
 </ul></li><li><div class="gski-epreuve-date">Le dimanche 04 février 2018</d
 iv><ul class="gski-epreuve-liste-infos"><li>Codex épreuve FMVF0132</li><li>
 Depart Individuel</li><li>Catégorie(s) : U16 (Filles)</li></ul></li><li><di
 v class="gski-epreuve-date">Le dimanche 04 février 2018</div><ul class="gsk
 i-epreuve-liste-infos"><li>Codex épreuve FMVF0133</li><li>Depart Individuel
 </li><li>Catégorie(s) : U18/U20 (Dames)</li></ul></li><li><div class="gski-
 epreuve-date">Le dimanche 04 février 2018</div><ul class="gski-epreuve-list
 e-infos"><li>Codex épreuve FMVF0134</li><li>Depart Individuel</li><li>Catég
 orie(s) : Senior (Dames)</li></ul></li><li><div class="gski-epreuve-date">L
 e dimanche 04 février 2018</div><ul class="gski-epreuve-liste-infos"><li>Co
 dex épreuve FMVM0131</li><li>Depart Individuel</li><li>Catégorie(s) : U14 (
 Garçons)</li></ul></li><li><div class="gski-epreuve-date">Le dimanche 04 fé
 vrier 2018</div><ul class="gski-epreuve-liste-infos"><li>Codex épreuve FMVM
 0132</li><li>Depart Individuel</li><li>Catégorie(s) : U16 (Garçons)</li></u
 l></li><li><div class="gski-epreuve-date">Le dimanche 04 février 2018</div>
 <ul class="gski-epreuve-liste-infos"><li>Codex épreuve FMVM0133</li><li>Dep
 art Individuel</li><li>Catégorie(s) : U18/U20 (Hommes)</li></ul></li><li><d
 iv class="gski-epreuve-date">Le dimanche 04 février 2018</div><ul class="gs
 ki-epreuve-liste-infos"><li>Codex épreuve FMVM0134</li><li>Depart Individue
 l</li><li>Catégorie(s) : Senior (Hommes)</li></ul></li></ul></div><div clas
 s="gskiepreuves-links"><ul><li><a href="https://skivosges.net/index.php?opt
 ion=com_jevents&task=icalevent.detail&evid=923&Itemid=6289">Voir les inform
 ations dans l'agenda...</a></li><li><a href="https://skivosges.net/index.ph
 p?option=com_gskiepreuves&view=afficheresultats&format_option=tous&filter[s
 earch]=FMVT0130&filter[date_debut]=04-02-2018&filter[date_fin]=04-02-2018&c
 ode_activite=FOND&Itemid=6289">Vers les résultats...</a></li></ul></div></d
 iv"><!-- #/gskiepreuve fin du dode généré par le plugin jevents pour GskiEp
 reuves. . Ne pas modifier cette ligne, ni tout le contenu précedant.  #/gsk
 iepreuve --> <a href="https://skivosges.net/agenda/a-venir/detailevenement/
 928/-/coupe-des-trois-fours-vallee-de-munster-big-mat-atomic-n-8-u14-credit
 -mutuel-n-4?tmpl=component">Cet évènement a été importé depuis :https://ski
 vosges.net/agenda/a-venir/detailevenement/928/-/coupe-des-trois-fours-valle
 e-de-munster-big-mat-atomic-n-8-u14-credit-mutuel-n-4?tmpl=component</a>DTSTAMP:20260424T083659
DTSTART;TZID=Europe/Paris;VALUE=DATE:20180204
DTEND;TZID=Europe/Paris;VALUE=DATE:20180205
SEQUENCE:0
TRANSP:OPAQUE
END:VEVENT
END:VCALENDAR