BEGIN:VCALENDAR
VERSION:2.0
PRODID:-//jEvents 2.0 for Joomla//EN
CALSCALE:GREGORIAN
METHOD:PUBLISH
BEGIN:VTIMEZONE
TZID:Europe/Paris
BEGIN:STANDARD
DTSTART:20170206T000000
RDATE:20170326T030000
TZOFFSETFROM:+0200
TZOFFSETTO:+0100
TZNAME:Europe/Paris CET
END:STANDARD
BEGIN:STANDARD
DTSTART:20171029T020000
RDATE:20180325T030000
TZOFFSETFROM:+0200
TZOFFSETTO:+0100
TZNAME:Europe/Paris CET
END:STANDARD
BEGIN:STANDARD
DTSTART:20181028T020000
RDATE:20190331T030000
TZOFFSETFROM:+0200
TZOFFSETTO:+0100
TZNAME:Europe/Paris CET
END:STANDARD
BEGIN:STANDARD
DTSTART:20191027T020000
RDATE:20200329T030000
TZOFFSETFROM:+0200
TZOFFSETTO:+0100
TZNAME:Europe/Paris CET
END:STANDARD
BEGIN:STANDARD
DTSTART:20201025T020000
RDATE:20210328T030000
TZOFFSETFROM:+0200
TZOFFSETTO:+0100
TZNAME:Europe/Paris CET
END:STANDARD
BEGIN:STANDARD
DTSTART:20211031T020000
RDATE:20220327T030000
TZOFFSETFROM:+0200
TZOFFSETTO:+0100
TZNAME:Europe/Paris CET
END:STANDARD
BEGIN:STANDARD
DTSTART:20221030T020000
RDATE:20230326T030000
TZOFFSETFROM:+0200
TZOFFSETTO:+0100
TZNAME:Europe/Paris CET
END:STANDARD
BEGIN:STANDARD
DTSTART:20231029T020000
RDATE:20240331T030000
TZOFFSETFROM:+0200
TZOFFSETTO:+0100
TZNAME:Europe/Paris CET
END:STANDARD
BEGIN:STANDARD
DTSTART:20241027T020000
RDATE:20250330T030000
TZOFFSETFROM:+0200
TZOFFSETTO:+0100
TZNAME:Europe/Paris CET
END:STANDARD
BEGIN:STANDARD
DTSTART:20251026T020000
RDATE:20260329T030000
TZOFFSETFROM:+0200
TZOFFSETTO:+0100
TZNAME:Europe/Paris CET
END:STANDARD
BEGIN:STANDARD
DTSTART:20261025T020000
RDATE:20270328T030000
TZOFFSETFROM:+0200
TZOFFSETTO:+0100
TZNAME:Europe/Paris CET
END:STANDARD
BEGIN:DAYLIGHT
DTSTART:20170326T030000
RDATE:20171029T020000
TZOFFSETFROM:+0100
TZOFFSETTO:+0200
TZNAME:Europe/Paris CEST
END:DAYLIGHT
BEGIN:DAYLIGHT
DTSTART:20180325T030000
RDATE:20181028T020000
TZOFFSETFROM:+0100
TZOFFSETTO:+0200
TZNAME:Europe/Paris CEST
END:DAYLIGHT
BEGIN:DAYLIGHT
DTSTART:20190331T030000
RDATE:20191027T020000
TZOFFSETFROM:+0100
TZOFFSETTO:+0200
TZNAME:Europe/Paris CEST
END:DAYLIGHT
BEGIN:DAYLIGHT
DTSTART:20200329T030000
RDATE:20201025T020000
TZOFFSETFROM:+0100
TZOFFSETTO:+0200
TZNAME:Europe/Paris CEST
END:DAYLIGHT
BEGIN:DAYLIGHT
DTSTART:20210328T030000
RDATE:20211031T020000
TZOFFSETFROM:+0100
TZOFFSETTO:+0200
TZNAME:Europe/Paris CEST
END:DAYLIGHT
BEGIN:DAYLIGHT
DTSTART:20220327T030000
RDATE:20221030T020000
TZOFFSETFROM:+0100
TZOFFSETTO:+0200
TZNAME:Europe/Paris CEST
END:DAYLIGHT
BEGIN:DAYLIGHT
DTSTART:20230326T030000
RDATE:20231029T020000
TZOFFSETFROM:+0100
TZOFFSETTO:+0200
TZNAME:Europe/Paris CEST
END:DAYLIGHT
BEGIN:DAYLIGHT
DTSTART:20240331T030000
RDATE:20241027T020000
TZOFFSETFROM:+0100
TZOFFSETTO:+0200
TZNAME:Europe/Paris CEST
END:DAYLIGHT
BEGIN:DAYLIGHT
DTSTART:20250330T030000
RDATE:20251026T020000
TZOFFSETFROM:+0100
TZOFFSETTO:+0200
TZNAME:Europe/Paris CEST
END:DAYLIGHT
BEGIN:DAYLIGHT
DTSTART:20260329T030000
RDATE:20261025T020000
TZOFFSETFROM:+0100
TZOFFSETTO:+0200
TZNAME:Europe/Paris CEST
END:DAYLIGHT
END:VTIMEZONE
BEGIN:VEVENT
UID:49e8b43e0e59bd80412af956495d944e
CATEGORIES:Circuit Massif Jeunes (alpin)
CREATED:20171121T093310
SUMMARY:CJM Coupe d'Argent U14 Coupe du Stade de Slalom Serge Lang
URL;VALUE=URI:https://skivosges.net/agenda/a-venir/detailevenement/934/-/cjm-coupe-dargen
 t-u14-coupe-du-stade-de-slalom-serge-lang?tmpl=component
DESCRIPTION:CJM Coupe d'Argent U14 Coupe du Stade de Slalom Serge Lang\n - Codex évenem
 ent AMVT0380\n - Lieu : STADE DE SLALOM SERGE LANG\n - Station : MARKSTEIN\
 n - Piste : STADE DE SLALOM\n - Organisateur : 14186 S.C VALLEE DE WESSERLI
 NG\n - Courriel : RegularLabs.EmailProtector.unCloak("ep_da8d1e28");\n - Té
 léphone : 03 89 82 78 08\n - Délégué Technique : L'EPINGLE JEAN CLAUDEPério
 de d'inscription à l'evènement du mercredi 31 janvier 2018 à 00:00 au mardi
  06 février 2018 à 15:00 (Inscriptions impossibles).Inscriptions ouvertes a
 ux detenteurs des titres Fédéraux valides suivants : Licenciés Compétiteurs
 Epreuves :\n - Le mercredi 07 février 2018\n - Codex épreuve AMVM0381\n - S
 lalom\n - Catégorie(s) : U14 (Garçons)\n - Le mercredi 07 février 2018\n - 
 Codex épreuve AMVF0381\n - Slalom\n - Catégorie(s) : U14 (Filles)\n - Le me
 rcredi 07 février 2018\n - Codex épreuve AMVM0382\n - Slalom\n - Catégorie(
 s) : U14 (Garçons)\n - Le mercredi 07 février 2018\n - Codex épreuve AMVF03
 82\n - Slalom\n - Catégorie(s) : U14 (Filles)\n - Voir les informations dan
 s l'agenda... (/index.php?option=com_jevents&amp;task=icalevent.detail&amp;
 evid=929&amp;Itemid=6289)\n - Vers les résultats... (/index.php?option=com_
 gskiepreuves&amp;view=afficheresultats&amp;format_option=tous&amp;filter[se
 arch]=AMVT0380&amp;filter[date_debut]=07-02-2018&amp;filter[date_fin]=07-02
 -2018&amp;code_activite=ALP&amp;Itemid=6289)\n - Publications concernant ce
 t évènement :\n - Mardi 6 Février 2018 à 17:28 : Le 07/02/2018 MARKSTEIN In
 formations\n - Lundi 5 Février 2018 à 13:35 : Le 07/02/2018 MARKSTEIN Infor
 mations Cet évènement a été importé depuis :https://skivosges.net/agenda/a-
 venir/detailevenement/934/-/cjm-coupe-dargent-u14-coupe-du-stade-de-slalom-
 serge-lang?tmpl=component
X-ALT-DESC;FMTTYPE=text/html:<!-- #gskiepreuve code généré par le plugin jevents pour GskiEpreuves. Ne p
 as modifier cette ligne, ni tout le contenu suivant  #gskiepreuve --><div c
 lass="gski-evenement_infos"><div class="gski-evenement-nom">CJM Coupe d'Arg
 ent U14 Coupe du Stade de Slalom Serge Lang</div><div class="gski-evenement
 -report"></div><ul class="gski-evenement-liste-infos"><li>Codex évenement A
 MVT0380</li><li>Lieu : STADE DE SLALOM SERGE LANG</li><li>Station : MARKSTE
 IN</li><li>Piste : STADE DE SLALOM</li><li>Organisateur : 14186 S.C VALLEE 
 DE WESSERLING</li><li>Courriel : <!-- Cette adresse électronique est protég
 ée contre les robots spammeurs. --><span class="cloaked_email ep_da8d1e28">
 <span data-ep-b="&#109;" data-ep-a="s&#99;&#118;&#119;"><span data-ep-a="&#
 101;ss&#101;" data-ep-b="&#108;.&#99;o"><span data-ep-a="&#114;&#108;in" da
 ta-ep-b="g&#64;&#97;&#111;"></span></span></span></span><script>RegularLabs
 .EmailProtector.unCloak("ep_da8d1e28");</script></li><li>Téléphone : 03 89 
 82 78 08</li><li><span class="gski-evenement-obs">Délégué Technique : L'EPI
 NGLE JEAN CLAUDE</span></li></ul><div class="gski-evenement-infos-2"><div c
 lass="gski-evenement-info-inscriptions"><div class="gski-evenement-inscript
 ions-periodes">Période d'inscription à l'evènement du mercredi 31 janvier 2
 018 à 00:00 au mardi 06 février 2018 à 15:00 <span class="gski-evenement-in
 scriptions-impossibles">(Inscriptions impossibles).</span><div class="gski-
 evenement-inscriptions-types-titres">Inscriptions ouvertes aux detenteurs d
 es titres Fédéraux valides suivants : Licenciés Compétiteurs</div></div></d
 iv><div class="gski-evenement-epreuves"><div class="gski-evenement-epreuves
 -titres">Epreuves :</div><ul class="gski-evenement-epreuves-list"><li><div 
 class="gski-epreuve-date">Le mercredi 07 février 2018</div><ul class="gski-
 epreuve-liste-infos"><li>Codex épreuve AMVM0381</li><li>Slalom</li><li>Caté
 gorie(s) : U14 (Garçons)</li></ul></li><li><div class="gski-epreuve-date">L
 e mercredi 07 février 2018</div><ul class="gski-epreuve-liste-infos"><li>Co
 dex épreuve AMVF0381</li><li>Slalom</li><li>Catégorie(s) : U14 (Filles)</li
 ></ul></li><li><div class="gski-epreuve-date">Le mercredi 07 février 2018</
 div><ul class="gski-epreuve-liste-infos"><li>Codex épreuve AMVM0382</li><li
 >Slalom</li><li>Catégorie(s) : U14 (Garçons)</li></ul></li><li><div class="
 gski-epreuve-date">Le mercredi 07 février 2018</div><ul class="gski-epreuve
 -liste-infos"><li>Codex épreuve AMVF0382</li><li>Slalom</li><li>Catégorie(s
 ) : U14 (Filles)</li></ul></li></ul></div><div class="gskiepreuves-links"><
 ul><li><a href="https://skivosges.net/index.php?option=com_jevents&task=ica
 levent.detail&evid=929&Itemid=6289">Voir les informations dans l'agenda...<
 /a></li><li><a href="https://skivosges.net/index.php?option=com_gskiepreuve
 s&view=afficheresultats&format_option=tous&filter[search]=AMVT0380&filter[d
 ate_debut]=07-02-2018&filter[date_fin]=07-02-2018&code_activite=ALP&Itemid=
 6289">Vers les résultats...</a></li><li>Publications concernant cet évèneme
 nt :<ul><li><a href="https://skivosges.net/index.php?option=com_content&vie
 w=article&id=6108&Itemid=6289">Mardi 6 Février 2018 à 17:28 : Le 07/02/2018
  MARKSTEIN Informations</a></li><li><a href="https://skivosges.net/index.ph
 p?option=com_content&view=article&id=6104&Itemid=6289">Lundi 5 Février 2018
  à 13:35 : Le 07/02/2018 MARKSTEIN Informations</a></li></ul></li></ul></di
 v></div"><!-- #/gskiepreuve fin du dode généré par le plugin jevents pour G
 skiEpreuves. . Ne pas modifier cette ligne, ni tout le contenu précedant.  
 #/gskiepreuve --> <a href="https://skivosges.net/agenda/a-venir/detailevene
 ment/934/-/cjm-coupe-dargent-u14-coupe-du-stade-de-slalom-serge-lang?tmpl=c
 omponent">Cet évènement a été importé depuis :https://skivosges.net/agenda/
 a-venir/detailevenement/934/-/cjm-coupe-dargent-u14-coupe-du-stade-de-slalo
 m-serge-lang?tmpl=component</a>DTSTAMP:20260424T030532
DTSTART;TZID=Europe/Paris;VALUE=DATE:20180207
DTEND;TZID=Europe/Paris;VALUE=DATE:20180208
SEQUENCE:0
TRANSP:OPAQUE
END:VEVENT
END:VCALENDAR