BEGIN:VCALENDAR
VERSION:2.0
PRODID:-//jEvents 2.0 for Joomla//EN
CALSCALE:GREGORIAN
METHOD:PUBLISH
BEGIN:VTIMEZONE
TZID:Europe/Paris
BEGIN:STANDARD
DTSTART:20170206T000000
RDATE:20170326T030000
TZOFFSETFROM:+0200
TZOFFSETTO:+0100
TZNAME:Europe/Paris CET
END:STANDARD
BEGIN:STANDARD
DTSTART:20171029T020000
RDATE:20180325T030000
TZOFFSETFROM:+0200
TZOFFSETTO:+0100
TZNAME:Europe/Paris CET
END:STANDARD
BEGIN:STANDARD
DTSTART:20181028T020000
RDATE:20190331T030000
TZOFFSETFROM:+0200
TZOFFSETTO:+0100
TZNAME:Europe/Paris CET
END:STANDARD
BEGIN:STANDARD
DTSTART:20191027T020000
RDATE:20200329T030000
TZOFFSETFROM:+0200
TZOFFSETTO:+0100
TZNAME:Europe/Paris CET
END:STANDARD
BEGIN:STANDARD
DTSTART:20201025T020000
RDATE:20210328T030000
TZOFFSETFROM:+0200
TZOFFSETTO:+0100
TZNAME:Europe/Paris CET
END:STANDARD
BEGIN:STANDARD
DTSTART:20211031T020000
RDATE:20220327T030000
TZOFFSETFROM:+0200
TZOFFSETTO:+0100
TZNAME:Europe/Paris CET
END:STANDARD
BEGIN:STANDARD
DTSTART:20221030T020000
RDATE:20230326T030000
TZOFFSETFROM:+0200
TZOFFSETTO:+0100
TZNAME:Europe/Paris CET
END:STANDARD
BEGIN:STANDARD
DTSTART:20231029T020000
RDATE:20240331T030000
TZOFFSETFROM:+0200
TZOFFSETTO:+0100
TZNAME:Europe/Paris CET
END:STANDARD
BEGIN:STANDARD
DTSTART:20241027T020000
RDATE:20250330T030000
TZOFFSETFROM:+0200
TZOFFSETTO:+0100
TZNAME:Europe/Paris CET
END:STANDARD
BEGIN:STANDARD
DTSTART:20251026T020000
RDATE:20260329T030000
TZOFFSETFROM:+0200
TZOFFSETTO:+0100
TZNAME:Europe/Paris CET
END:STANDARD
BEGIN:STANDARD
DTSTART:20261025T020000
RDATE:20270328T030000
TZOFFSETFROM:+0200
TZOFFSETTO:+0100
TZNAME:Europe/Paris CET
END:STANDARD
BEGIN:DAYLIGHT
DTSTART:20170326T030000
RDATE:20171029T020000
TZOFFSETFROM:+0100
TZOFFSETTO:+0200
TZNAME:Europe/Paris CEST
END:DAYLIGHT
BEGIN:DAYLIGHT
DTSTART:20180325T030000
RDATE:20181028T020000
TZOFFSETFROM:+0100
TZOFFSETTO:+0200
TZNAME:Europe/Paris CEST
END:DAYLIGHT
BEGIN:DAYLIGHT
DTSTART:20190331T030000
RDATE:20191027T020000
TZOFFSETFROM:+0100
TZOFFSETTO:+0200
TZNAME:Europe/Paris CEST
END:DAYLIGHT
BEGIN:DAYLIGHT
DTSTART:20200329T030000
RDATE:20201025T020000
TZOFFSETFROM:+0100
TZOFFSETTO:+0200
TZNAME:Europe/Paris CEST
END:DAYLIGHT
BEGIN:DAYLIGHT
DTSTART:20210328T030000
RDATE:20211031T020000
TZOFFSETFROM:+0100
TZOFFSETTO:+0200
TZNAME:Europe/Paris CEST
END:DAYLIGHT
BEGIN:DAYLIGHT
DTSTART:20220327T030000
RDATE:20221030T020000
TZOFFSETFROM:+0100
TZOFFSETTO:+0200
TZNAME:Europe/Paris CEST
END:DAYLIGHT
BEGIN:DAYLIGHT
DTSTART:20230326T030000
RDATE:20231029T020000
TZOFFSETFROM:+0100
TZOFFSETTO:+0200
TZNAME:Europe/Paris CEST
END:DAYLIGHT
BEGIN:DAYLIGHT
DTSTART:20240331T030000
RDATE:20241027T020000
TZOFFSETFROM:+0100
TZOFFSETTO:+0200
TZNAME:Europe/Paris CEST
END:DAYLIGHT
BEGIN:DAYLIGHT
DTSTART:20250330T030000
RDATE:20251026T020000
TZOFFSETFROM:+0100
TZOFFSETTO:+0200
TZNAME:Europe/Paris CEST
END:DAYLIGHT
BEGIN:DAYLIGHT
DTSTART:20260329T030000
RDATE:20261025T020000
TZOFFSETFROM:+0100
TZOFFSETTO:+0200
TZNAME:Europe/Paris CEST
END:DAYLIGHT
END:VTIMEZONE
BEGIN:VEVENT
UID:c6dfddc37111bf20e95030057c601841
CATEGORIES:Opens et Promos (alpin)
CREATED:20171121T093310
SUMMARY:PROMO Haribo Snow Kids Cup 2018 Epreuve 3 **REPORTE(E) au 11/02/2018**
URL;VALUE=URI:https://skivosges.net/agenda/a-venir/detailevenement/935/-/promo-haribo-sno
 w-kids-cup-2018-epreuve-3-reporte-e-au-11-02-2018?tmpl=component
DESCRIPTION:PROMO Haribo Snow Kids Cup 2018 Epreuve 3 (Epreuve reportée au 11/02/2018)\
 n - Codex évenement AMVT1000\n - Lieu : STADE DE SLALOM SERGE LANG\n - Stat
 ion : MARKSTEIN\n - Piste : STADE DE SLALOM\n - Organisateur : 14186 S.C VA
 LLEE DE WESSERLING\n - Courriel : RegularLabs.EmailProtector.unCloak("ep_cb
 8f34a4");\n - Téléphone : 03 89 82 78 08\n - Délégué Technique : MULLER JEA
 N CLAUDEPériode d'inscription à l'evènement du mercredi 31 janvier 2018 à 0
 0:00 au mardi 06 février 2018 à 15:00 (Inscriptions impossibles).Inscriptio
 ns ouvertes aux detenteurs des titres Fédéraux valides suivants : Licenciés
  Compétiteurs et Titres Loisirs et DirigeantsEpreuves :\n - Le mercredi 07 
 février 2018\n - Codex épreuve AMVM1001\n - Slalom Geant\n - Catégorie(s) :
  U8/U10 (Garçons)\n - Le mercredi 07 février 2018\n - Codex épreuve AMVF100
 1\n - Slalom Geant\n - Catégorie(s) : U8/U10 (Filles)\n - Le mercredi 07 fé
 vrier 2018\n - Codex épreuve AMVM1002\n - Slalom Geant\n - Catégorie(s) : U
 12 a U16 (Garçons)\n - Le mercredi 07 février 2018\n - Codex épreuve AMVF10
 02\n - Slalom Geant\n - Catégorie(s) : U12 a U16 (Filles)\n - Voir les info
 rmations dans l'agenda... (/index.php?option=com_jevents&amp;task=icalevent
 .detail&amp;evid=930&amp;Itemid=6289)\n - Vers les résultats... (/index.php
 ?option=com_gskiepreuves&amp;view=afficheresultats&amp;format_option=tous&a
 mp;filter[search]=AMVT1000&amp;filter[date_debut]=11-02-2018&amp;filter[dat
 e_fin]=11-02-2018&amp;code_activite=ALP&amp;Itemid=6289)\n - Publications c
 oncernant cet évènement :\n - Samedi 10 Février 2018 à 15:11 : Le 11/02/201
 8 MARKSTEIN Liste de départs Cet évènement a été importé depuis :https://sk
 ivosges.net/agenda/a-venir/detailevenement/935/-/promo-haribo-snow-kids-cup
 -2018-epreuve-3-reporte-e-au-11-02-2018?tmpl=component
X-ALT-DESC;FMTTYPE=text/html:<!-- #gskiepreuve code généré par le plugin jevents pour GskiEpreuves. Ne p
 as modifier cette ligne, ni tout le contenu suivant  #gskiepreuve --><div c
 lass="gski-evenement_infos"><div class="gski-evenement-nom">PROMO Haribo Sn
 ow Kids Cup 2018 Epreuve 3</div><div class="gski-evenement-report"> <font c
 lass="gskiattention">(Epreuve reportée au 11/02/2018)</font></div><ul class
 ="gski-evenement-liste-infos"><li>Codex évenement AMVT1000</li><li>Lieu : S
 TADE DE SLALOM SERGE LANG</li><li>Station : MARKSTEIN</li><li>Piste : STADE
  DE SLALOM</li><li>Organisateur : 14186 S.C VALLEE DE WESSERLING</li><li>Co
 urriel : <!-- Cette adresse électronique est protégée contre les robots spa
 mmeurs. --><span class="cloaked_email ep_cb8f34a4"><span data-ep-a="&#115;&
 #99;&#118;&#119;" data-ep-b="&#109;"><span data-ep-b="l&#46;&#99;&#111;" da
 ta-ep-a="&#101;s&#115;&#101;"><span data-ep-b="g&#64;&#97;o" data-ep-a="rl&
 #105;&#110;"></span></span></span></span><script>RegularLabs.EmailProtector
 .unCloak("ep_cb8f34a4");</script></li><li>Téléphone : 03 89 82 78 08</li><l
 i><span class="gski-evenement-obs">Délégué Technique : MULLER JEAN CLAUDE</
 span></li></ul><div class="gski-evenement-infos-2"><div class="gski-eveneme
 nt-info-inscriptions"><div class="gski-evenement-inscriptions-periodes">Pér
 iode d'inscription à l'evènement du mercredi 31 janvier 2018 à 00:00 au mar
 di 06 février 2018 à 15:00 <span class="gski-evenement-inscriptions-impossi
 bles">(Inscriptions impossibles).</span><div class="gski-evenement-inscript
 ions-types-titres">Inscriptions ouvertes aux detenteurs des titres Fédéraux
  valides suivants : Licenciés Compétiteurs et Titres Loisirs et Dirigeants<
 /div></div></div><div class="gski-evenement-epreuves"><div class="gski-even
 ement-epreuves-titres">Epreuves :</div><ul class="gski-evenement-epreuves-l
 ist"><li><div class="gski-epreuve-date">Le mercredi 07 février 2018</div><u
 l class="gski-epreuve-liste-infos"><li>Codex épreuve AMVM1001</li><li>Slalo
 m Geant</li><li>Catégorie(s) : U8/U10 (Garçons)</li></ul></li><li><div clas
 s="gski-epreuve-date">Le mercredi 07 février 2018</div><ul class="gski-epre
 uve-liste-infos"><li>Codex épreuve AMVF1001</li><li>Slalom Geant</li><li>Ca
 tégorie(s) : U8/U10 (Filles)</li></ul></li><li><div class="gski-epreuve-dat
 e">Le mercredi 07 février 2018</div><ul class="gski-epreuve-liste-infos"><l
 i>Codex épreuve AMVM1002</li><li>Slalom Geant</li><li>Catégorie(s) : U12 a 
 U16 (Garçons)</li></ul></li><li><div class="gski-epreuve-date">Le mercredi 
 07 février 2018</div><ul class="gski-epreuve-liste-infos"><li>Codex épreuve
  AMVF1002</li><li>Slalom Geant</li><li>Catégorie(s) : U12 a U16 (Filles)</l
 i></ul></li></ul></div><div class="gskiepreuves-links"><ul><li><a href="htt
 ps://skivosges.net/index.php?option=com_jevents&task=icalevent.detail&evid=
 930&Itemid=6289">Voir les informations dans l'agenda...</a></li><li><a href
 ="https://skivosges.net/index.php?option=com_gskiepreuves&view=afficheresul
 tats&format_option=tous&filter[search]=AMVT1000&filter[date_debut]=11-02-20
 18&filter[date_fin]=11-02-2018&code_activite=ALP&Itemid=6289">Vers les résu
 ltats...</a></li><li>Publications concernant cet évènement :<ul><li><a href
 ="https://skivosges.net/index.php?option=com_content&view=article&id=6129&I
 temid=6289">Samedi 10 Février 2018 à 15:11 : Le 11/02/2018 MARKSTEIN Liste 
 de départs</a></li></ul></li></ul></div></div"><!-- #/gskiepreuve fin du do
 de généré par le plugin jevents pour GskiEpreuves. . Ne pas modifier cette 
 ligne, ni tout le contenu précedant.  #/gskiepreuve --> <a href="https://sk
 ivosges.net/agenda/a-venir/detailevenement/935/-/promo-haribo-snow-kids-cup
 -2018-epreuve-3-reporte-e-au-11-02-2018?tmpl=component">Cet évènement a été
  importé depuis :https://skivosges.net/agenda/a-venir/detailevenement/935/-
 /promo-haribo-snow-kids-cup-2018-epreuve-3-reporte-e-au-11-02-2018?tmpl=com
 ponent</a>DTSTAMP:20260424T073900
DTSTART;TZID=Europe/Paris;VALUE=DATE:20180207
DTEND;TZID=Europe/Paris;VALUE=DATE:20180208
SEQUENCE:0
TRANSP:OPAQUE
END:VEVENT
END:VCALENDAR