BEGIN:VCALENDAR
VERSION:2.0
PRODID:-//jEvents 2.0 for Joomla//EN
CALSCALE:GREGORIAN
METHOD:PUBLISH
BEGIN:VTIMEZONE
TZID:Europe/Paris
BEGIN:STANDARD
DTSTART:20170209T000000
RDATE:20170326T030000
TZOFFSETFROM:+0200
TZOFFSETTO:+0100
TZNAME:Europe/Paris CET
END:STANDARD
BEGIN:STANDARD
DTSTART:20171029T020000
RDATE:20180325T030000
TZOFFSETFROM:+0200
TZOFFSETTO:+0100
TZNAME:Europe/Paris CET
END:STANDARD
BEGIN:STANDARD
DTSTART:20181028T020000
RDATE:20190331T030000
TZOFFSETFROM:+0200
TZOFFSETTO:+0100
TZNAME:Europe/Paris CET
END:STANDARD
BEGIN:STANDARD
DTSTART:20191027T020000
RDATE:20200329T030000
TZOFFSETFROM:+0200
TZOFFSETTO:+0100
TZNAME:Europe/Paris CET
END:STANDARD
BEGIN:STANDARD
DTSTART:20201025T020000
RDATE:20210328T030000
TZOFFSETFROM:+0200
TZOFFSETTO:+0100
TZNAME:Europe/Paris CET
END:STANDARD
BEGIN:STANDARD
DTSTART:20211031T020000
RDATE:20220327T030000
TZOFFSETFROM:+0200
TZOFFSETTO:+0100
TZNAME:Europe/Paris CET
END:STANDARD
BEGIN:STANDARD
DTSTART:20221030T020000
RDATE:20230326T030000
TZOFFSETFROM:+0200
TZOFFSETTO:+0100
TZNAME:Europe/Paris CET
END:STANDARD
BEGIN:STANDARD
DTSTART:20231029T020000
RDATE:20240331T030000
TZOFFSETFROM:+0200
TZOFFSETTO:+0100
TZNAME:Europe/Paris CET
END:STANDARD
BEGIN:STANDARD
DTSTART:20241027T020000
RDATE:20250330T030000
TZOFFSETFROM:+0200
TZOFFSETTO:+0100
TZNAME:Europe/Paris CET
END:STANDARD
BEGIN:STANDARD
DTSTART:20251026T020000
RDATE:20260329T030000
TZOFFSETFROM:+0200
TZOFFSETTO:+0100
TZNAME:Europe/Paris CET
END:STANDARD
BEGIN:STANDARD
DTSTART:20261025T020000
RDATE:20270328T030000
TZOFFSETFROM:+0200
TZOFFSETTO:+0100
TZNAME:Europe/Paris CET
END:STANDARD
BEGIN:DAYLIGHT
DTSTART:20170326T030000
RDATE:20171029T020000
TZOFFSETFROM:+0100
TZOFFSETTO:+0200
TZNAME:Europe/Paris CEST
END:DAYLIGHT
BEGIN:DAYLIGHT
DTSTART:20180325T030000
RDATE:20181028T020000
TZOFFSETFROM:+0100
TZOFFSETTO:+0200
TZNAME:Europe/Paris CEST
END:DAYLIGHT
BEGIN:DAYLIGHT
DTSTART:20190331T030000
RDATE:20191027T020000
TZOFFSETFROM:+0100
TZOFFSETTO:+0200
TZNAME:Europe/Paris CEST
END:DAYLIGHT
BEGIN:DAYLIGHT
DTSTART:20200329T030000
RDATE:20201025T020000
TZOFFSETFROM:+0100
TZOFFSETTO:+0200
TZNAME:Europe/Paris CEST
END:DAYLIGHT
BEGIN:DAYLIGHT
DTSTART:20210328T030000
RDATE:20211031T020000
TZOFFSETFROM:+0100
TZOFFSETTO:+0200
TZNAME:Europe/Paris CEST
END:DAYLIGHT
BEGIN:DAYLIGHT
DTSTART:20220327T030000
RDATE:20221030T020000
TZOFFSETFROM:+0100
TZOFFSETTO:+0200
TZNAME:Europe/Paris CEST
END:DAYLIGHT
BEGIN:DAYLIGHT
DTSTART:20230326T030000
RDATE:20231029T020000
TZOFFSETFROM:+0100
TZOFFSETTO:+0200
TZNAME:Europe/Paris CEST
END:DAYLIGHT
BEGIN:DAYLIGHT
DTSTART:20240331T030000
RDATE:20241027T020000
TZOFFSETFROM:+0100
TZOFFSETTO:+0200
TZNAME:Europe/Paris CEST
END:DAYLIGHT
BEGIN:DAYLIGHT
DTSTART:20250330T030000
RDATE:20251026T020000
TZOFFSETFROM:+0100
TZOFFSETTO:+0200
TZNAME:Europe/Paris CEST
END:DAYLIGHT
BEGIN:DAYLIGHT
DTSTART:20260329T030000
RDATE:20261025T020000
TZOFFSETFROM:+0100
TZOFFSETTO:+0200
TZNAME:Europe/Paris CEST
END:DAYLIGHT
END:VTIMEZONE
BEGIN:VEVENT
UID:6219043de1ef5a26271857a1da6075d3
CATEGORIES:Circuit Massif Jeunes (alpin)
CREATED:20171121T093310
SUMMARY:CJM Coupe d'Argent U16 Crédit Mutuel des Hautes Vosges Gérardmer
URL;VALUE=URI:https://skivosges.net/agenda/a-venir/detailevenement/941/-/cjm-coupe-dargen
 t-u16-credit-mutuel-des-hautes-vosges-gerardmer?tmpl=component
DESCRIPTION:<!-- #gskiepreuve code généré par le plugin jevents pour GskiEpreuves. Ne p
 as modifier cette ligne, ni tout le contenu suivant  #gskiepreuve --><div c
 lass="gski-evenement_infos"><div class="gski-evenement-nom">CJM Coupe d'Arg
 ent U16 Crédit Mutuel des Hautes Vosges Gérardmer</div><div class="gski-eve
 nement-report"></div><ul class="gski-evenement-liste-infos"><li>Codex évene
 ment AMVT0400</li><li>Lieu : Stade</li><li>Station : GERARDMER</li><li>Pist
 e : Stade</li><li>Organisateur : 14089 GERARDMER SKI ALPIN</li><li>Courriel
  : <!-- Cette adresse électronique est protégée contre les robots spammeurs
 . --><span class="cloaked_email ep_09f707dd"><span data-ep-a="as&#103;&#115
 ;&#107;" data-ep-b="&#102;&#114;"><span data-ep-b="a&#100;oo&#46;" data-ep-
 a="&#105;.g&#101;r"><span data-ep-a="&#97;rd&#109;&#101;" data-ep-b="&#114;
 &#64;&#119;a&#110;"></span></span></span></span><script>RegularLabs.EmailPr
 otector.unCloak("ep_09f707dd");</script></li><li>Téléphone : 03 29 60 98 04
 </li><li><span class="gski-evenement-obs">Délégué Technique : CLAUDEL RENE<
 /span></li></ul><div class="gski-evenement-infos-2"><div class="gski-evenem
 ent-info-inscriptions"><div class="gski-evenement-inscriptions-periodes">Pé
 riode d'inscription à l'evènement du samedi 03 février 2018 à 00:00 au vend
 redi 09 février 2018 à 16:00 <span class="gski-evenement-inscriptions-impos
 sibles">(Inscriptions impossibles).</span><div class="gski-evenement-inscri
 ptions-types-titres">Inscriptions ouvertes aux detenteurs des titres Fédéra
 ux valides suivants : Licenciés Compétiteurs</div></div></div><div class="g
 ski-evenement-info-live">L'épreuve sera chronometrée avec les résultats pub
 liés en direct (live)</div><div class="gski-evenement-epreuves"><div class=
 "gski-evenement-epreuves-titres">Epreuves :</div><ul class="gski-evenement-
 epreuves-list"><li><div class="gski-epreuve-date">Le samedi 10 février 2018
  à 10:00</div><ul class="gski-epreuve-liste-infos"><li>Codex épreuve AMVM04
 01</li><li>Slalom Geant</li><li>Catégorie(s) : U16 (Garçons)</li></ul></li>
 <li><div class="gski-epreuve-date">Le samedi 10 février 2018 à 10:00</div><
 ul class="gski-epreuve-liste-infos"><li>Codex épreuve AMVF0401</li><li>Slal
 om Geant</li><li>Catégorie(s) : U16 (Filles)</li></ul></li><li><div class="
 gski-epreuve-date">Le samedi 10 février 2018</div><ul class="gski-epreuve-l
 iste-infos"><li>Codex épreuve AMVM0402</li><li>Slalom Geant</li><li>Catégor
 ie(s) : U16 (Garçons)</li></ul></li><li><div class="gski-epreuve-date">Le s
 amedi 10 février 2018</div><ul class="gski-epreuve-liste-infos"><li>Codex é
 preuve AMVF0402</li><li>Slalom Geant</li><li>Catégorie(s) : U16 (Filles)</l
 i></ul></li></ul></div><div class="gskiepreuves-links"><ul><li><a href="/in
 dex.php?option=com_jevents&task=icalevent.detail&evid=936&Itemid=6289">Voir
  les informations dans l'agenda...</a></li><li><a href="/index.php?option=c
 om_gskiepreuves&view=afficheresultats&format_option=tous&filter[search]=AMV
 T0400&filter[date_debut]=10-02-2018&filter[date_fin]=10-02-2018&code_activi
 te=ALP&Itemid=6289">Vers les résultats...</a></li></ul></div></div"><!-- #/
 gskiepreuve fin du dode généré par le plugin jevents pour GskiEpreuves. . N
 e pas modifier cette ligne, ni tout le contenu précedant.  #/gskiepreuve --
 > <a href="https://skivosges.net/agenda/a-venir/detailevenement/941/-/cjm-c
 oupe-dargent-u16-credit-mutuel-des-hautes-vosges-gerardmer?tmpl=component">
 Cet évènement a été importé depuis :https://skivosges.net/agenda/a-venir/de
 tailevenement/941/-/cjm-coupe-dargent-u16-credit-mutuel-des-hautes-vosges-g
 erardmer?tmpl=component</a>
X-ALT-DESC;FMTTYPE=text/html:<!-- #gskiepreuve code généré par le plugin jevents pour GskiEpreuves. Ne p
 as modifier cette ligne, ni tout le contenu suivant  #gskiepreuve --><div c
 lass="gski-evenement_infos"><div class="gski-evenement-nom">CJM Coupe d'Arg
 ent U16 Crédit Mutuel des Hautes Vosges Gérardmer</div><div class="gski-eve
 nement-report"></div><ul class="gski-evenement-liste-infos"><li>Codex évene
 ment AMVT0400</li><li>Lieu : Stade</li><li>Station : GERARDMER</li><li>Pist
 e : Stade</li><li>Organisateur : 14089 GERARDMER SKI ALPIN</li><li>Courriel
  : <!-- Cette adresse électronique est protégée contre les robots spammeurs
 . --><span class="cloaked_email ep_09f707dd"><span data-ep-a="as&#103;&#115
 ;&#107;" data-ep-b="&#102;&#114;"><span data-ep-b="a&#100;oo&#46;" data-ep-
 a="&#105;.g&#101;r"><span data-ep-a="&#97;rd&#109;&#101;" data-ep-b="&#114;
 &#64;&#119;a&#110;"></span></span></span></span><script>RegularLabs.EmailPr
 otector.unCloak("ep_09f707dd");</script></li><li>Téléphone : 03 29 60 98 04
 </li><li><span class="gski-evenement-obs">Délégué Technique : CLAUDEL RENE<
 /span></li></ul><div class="gski-evenement-infos-2"><div class="gski-evenem
 ent-info-inscriptions"><div class="gski-evenement-inscriptions-periodes">Pé
 riode d'inscription à l'evènement du samedi 03 février 2018 à 00:00 au vend
 redi 09 février 2018 à 16:00 <span class="gski-evenement-inscriptions-impos
 sibles">(Inscriptions impossibles).</span><div class="gski-evenement-inscri
 ptions-types-titres">Inscriptions ouvertes aux detenteurs des titres Fédéra
 ux valides suivants : Licenciés Compétiteurs</div></div></div><div class="g
 ski-evenement-info-live">L'épreuve sera chronometrée avec les résultats pub
 liés en direct (live)</div><div class="gski-evenement-epreuves"><div class=
 "gski-evenement-epreuves-titres">Epreuves :</div><ul class="gski-evenement-
 epreuves-list"><li><div class="gski-epreuve-date">Le samedi 10 février 2018
  à 10:00</div><ul class="gski-epreuve-liste-infos"><li>Codex épreuve AMVM04
 01</li><li>Slalom Geant</li><li>Catégorie(s) : U16 (Garçons)</li></ul></li>
 <li><div class="gski-epreuve-date">Le samedi 10 février 2018 à 10:00</div><
 ul class="gski-epreuve-liste-infos"><li>Codex épreuve AMVF0401</li><li>Slal
 om Geant</li><li>Catégorie(s) : U16 (Filles)</li></ul></li><li><div class="
 gski-epreuve-date">Le samedi 10 février 2018</div><ul class="gski-epreuve-l
 iste-infos"><li>Codex épreuve AMVM0402</li><li>Slalom Geant</li><li>Catégor
 ie(s) : U16 (Garçons)</li></ul></li><li><div class="gski-epreuve-date">Le s
 amedi 10 février 2018</div><ul class="gski-epreuve-liste-infos"><li>Codex é
 preuve AMVF0402</li><li>Slalom Geant</li><li>Catégorie(s) : U16 (Filles)</l
 i></ul></li></ul></div><div class="gskiepreuves-links"><ul><li><a href="htt
 ps://skivosges.net/index.php?option=com_jevents&task=icalevent.detail&evid=
 936&Itemid=6289">Voir les informations dans l'agenda...</a></li><li><a href
 ="https://skivosges.net/index.php?option=com_gskiepreuves&view=afficheresul
 tats&format_option=tous&filter[search]=AMVT0400&filter[date_debut]=10-02-20
 18&filter[date_fin]=10-02-2018&code_activite=ALP&Itemid=6289">Vers les résu
 ltats...</a></li></ul></div></div"><!-- #/gskiepreuve fin du dode généré pa
 r le plugin jevents pour GskiEpreuves. . Ne pas modifier cette ligne, ni to
 ut le contenu précedant.  #/gskiepreuve --> <a href="https://skivosges.net/
 agenda/a-venir/detailevenement/941/-/cjm-coupe-dargent-u16-credit-mutuel-de
 s-hautes-vosges-gerardmer?tmpl=component">Cet évènement a été importé depui
 s :https://skivosges.net/agenda/a-venir/detailevenement/941/-/cjm-coupe-dar
 gent-u16-credit-mutuel-des-hautes-vosges-gerardmer?tmpl=component</a>DTSTAMP:20260424T074014
DTSTART;TZID=Europe/Paris;VALUE=DATE:20180210
DTEND;TZID=Europe/Paris;VALUE=DATE:20180211
SEQUENCE:0
TRANSP:OPAQUE
END:VEVENT
END:VCALENDAR