BEGIN:VCALENDAR
VERSION:2.0
PRODID:-//jEvents 2.0 for Joomla//EN
CALSCALE:GREGORIAN
METHOD:PUBLISH
BEGIN:VTIMEZONE
TZID:Europe/Paris
BEGIN:STANDARD
DTSTART:20170210T000000
RDATE:20170326T030000
TZOFFSETFROM:+0200
TZOFFSETTO:+0100
TZNAME:Europe/Paris CET
END:STANDARD
BEGIN:STANDARD
DTSTART:20171029T020000
RDATE:20180325T030000
TZOFFSETFROM:+0200
TZOFFSETTO:+0100
TZNAME:Europe/Paris CET
END:STANDARD
BEGIN:STANDARD
DTSTART:20181028T020000
RDATE:20190331T030000
TZOFFSETFROM:+0200
TZOFFSETTO:+0100
TZNAME:Europe/Paris CET
END:STANDARD
BEGIN:STANDARD
DTSTART:20191027T020000
RDATE:20200329T030000
TZOFFSETFROM:+0200
TZOFFSETTO:+0100
TZNAME:Europe/Paris CET
END:STANDARD
BEGIN:STANDARD
DTSTART:20201025T020000
RDATE:20210328T030000
TZOFFSETFROM:+0200
TZOFFSETTO:+0100
TZNAME:Europe/Paris CET
END:STANDARD
BEGIN:STANDARD
DTSTART:20211031T020000
RDATE:20220327T030000
TZOFFSETFROM:+0200
TZOFFSETTO:+0100
TZNAME:Europe/Paris CET
END:STANDARD
BEGIN:STANDARD
DTSTART:20221030T020000
RDATE:20230326T030000
TZOFFSETFROM:+0200
TZOFFSETTO:+0100
TZNAME:Europe/Paris CET
END:STANDARD
BEGIN:STANDARD
DTSTART:20231029T020000
RDATE:20240331T030000
TZOFFSETFROM:+0200
TZOFFSETTO:+0100
TZNAME:Europe/Paris CET
END:STANDARD
BEGIN:STANDARD
DTSTART:20241027T020000
RDATE:20250330T030000
TZOFFSETFROM:+0200
TZOFFSETTO:+0100
TZNAME:Europe/Paris CET
END:STANDARD
BEGIN:STANDARD
DTSTART:20251026T020000
RDATE:20260329T030000
TZOFFSETFROM:+0200
TZOFFSETTO:+0100
TZNAME:Europe/Paris CET
END:STANDARD
BEGIN:STANDARD
DTSTART:20261025T020000
RDATE:20270328T030000
TZOFFSETFROM:+0200
TZOFFSETTO:+0100
TZNAME:Europe/Paris CET
END:STANDARD
BEGIN:DAYLIGHT
DTSTART:20170326T030000
RDATE:20171029T020000
TZOFFSETFROM:+0100
TZOFFSETTO:+0200
TZNAME:Europe/Paris CEST
END:DAYLIGHT
BEGIN:DAYLIGHT
DTSTART:20180325T030000
RDATE:20181028T020000
TZOFFSETFROM:+0100
TZOFFSETTO:+0200
TZNAME:Europe/Paris CEST
END:DAYLIGHT
BEGIN:DAYLIGHT
DTSTART:20190331T030000
RDATE:20191027T020000
TZOFFSETFROM:+0100
TZOFFSETTO:+0200
TZNAME:Europe/Paris CEST
END:DAYLIGHT
BEGIN:DAYLIGHT
DTSTART:20200329T030000
RDATE:20201025T020000
TZOFFSETFROM:+0100
TZOFFSETTO:+0200
TZNAME:Europe/Paris CEST
END:DAYLIGHT
BEGIN:DAYLIGHT
DTSTART:20210328T030000
RDATE:20211031T020000
TZOFFSETFROM:+0100
TZOFFSETTO:+0200
TZNAME:Europe/Paris CEST
END:DAYLIGHT
BEGIN:DAYLIGHT
DTSTART:20220327T030000
RDATE:20221030T020000
TZOFFSETFROM:+0100
TZOFFSETTO:+0200
TZNAME:Europe/Paris CEST
END:DAYLIGHT
BEGIN:DAYLIGHT
DTSTART:20230326T030000
RDATE:20231029T020000
TZOFFSETFROM:+0100
TZOFFSETTO:+0200
TZNAME:Europe/Paris CEST
END:DAYLIGHT
BEGIN:DAYLIGHT
DTSTART:20240331T030000
RDATE:20241027T020000
TZOFFSETFROM:+0100
TZOFFSETTO:+0200
TZNAME:Europe/Paris CEST
END:DAYLIGHT
BEGIN:DAYLIGHT
DTSTART:20250330T030000
RDATE:20251026T020000
TZOFFSETFROM:+0100
TZOFFSETTO:+0200
TZNAME:Europe/Paris CEST
END:DAYLIGHT
BEGIN:DAYLIGHT
DTSTART:20260329T030000
RDATE:20261025T020000
TZOFFSETFROM:+0100
TZOFFSETTO:+0200
TZNAME:Europe/Paris CEST
END:DAYLIGHT
END:VTIMEZONE
BEGIN:VEVENT
UID:af58ec19b241fa399c3505253469a042
CATEGORIES:Compétition Saut
CREATED:20171121T093310
SUMMARY:LA BRESSE Coupe des VO saut spécial + Champ des VO  Lispach K40m -K20m
URL;VALUE=URI:https://skivosges.net/agenda/a-venir/detailevenement/943/-/la-bresse-coupe-
 des-vo-saut-special-champ-des-vo-lispach-k40m-k20m?tmpl=component
DESCRIPTION:LA BRESSE Coupe des VO saut spécial + Champ des VO  Lispach K40m -K20m\n - 
 Codex évenement TMVT0080\n - Station : LA BRESSE LISPACH\n - Organisateur :
  14024 LA BRESSAUDE SECTION SKIPériode d'inscription à l'evènement du diman
 che 04 février 2018 à 00:00 au vendredi 09 février 2018 à 12:00 (Inscriptio
 ns impossibles).Inscriptions ouvertes aux detenteurs des titres Fédéraux va
 lides suivants : Licenciés CompétiteursEpreuves :\n - Le dimanche 11 févrie
 r 2018\n - Codex épreuve TMVF0081\n - Saut Special\n - Catégorie(s) : U7 a 
 U20 (Filles)\n - Le dimanche 11 février 2018\n - Codex épreuve TMVF0082\n -
  Saut Special\n - Catégorie(s) : Senior (Dames)\n - Le dimanche 11 février 
 2018\n - Codex épreuve TMVM0081\n - Saut Special\n - Catégorie(s) : U7 a U2
 0 (Garçons)\n - Le dimanche 11 février 2018\n - Codex épreuve TMVM0082\n - 
 Saut Special\n - Catégorie(s) : Senior (Hommes)\n - Voir les informations d
 ans l'agenda... (/index.php?option=com_jevents&amp;task=icalevent.detail&am
 p;evid=938&amp;Itemid=6289) Cet évènement a été importé depuis :https://ski
 vosges.net/agenda/a-venir/detailevenement/943/-/la-bresse-coupe-des-vo-saut
 -special-champ-des-vo-lispach-k40m-k20m?tmpl=component (https://skivosges.n
 et/agenda/a-venir/detailevenement/943/-/la-bresse-coupe-des-vo-saut-special
 -champ-des-vo-lispach-k40m-k20m?tmpl=component)
X-ALT-DESC;FMTTYPE=text/html:<!-- #gskiepreuve code généré par le plugin jevents pour GskiEpreuves. Ne p
 as modifier cette ligne, ni tout le contenu suivant  #gskiepreuve --><div c
 lass="gski-evenement_infos"><div class="gski-evenement-nom">LA BRESSE Coupe
  des VO saut spécial + Champ des VO  Lispach K40m -K20m</div><div class="gs
 ki-evenement-report"></div><ul class="gski-evenement-liste-infos"><li>Codex
  évenement TMVT0080</li><li>Station : LA BRESSE LISPACH</li><li>Organisateu
 r : 14024 LA BRESSAUDE SECTION SKI</li></ul><div class="gski-evenement-info
 s-2"><div class="gski-evenement-info-inscriptions"><div class="gski-eveneme
 nt-inscriptions-periodes">Période d'inscription à l'evènement du dimanche 0
 4 février 2018 à 00:00 au vendredi 09 février 2018 à 12:00 <span class="gsk
 i-evenement-inscriptions-impossibles">(Inscriptions impossibles).</span><di
 v class="gski-evenement-inscriptions-types-titres">Inscriptions ouvertes au
 x detenteurs des titres Fédéraux valides suivants : Licenciés Compétiteurs<
 /div></div></div><div class="gski-evenement-epreuves"><div class="gski-even
 ement-epreuves-titres">Epreuves :</div><ul class="gski-evenement-epreuves-l
 ist"><li><div class="gski-epreuve-date">Le dimanche 11 février 2018</div><u
 l class="gski-epreuve-liste-infos"><li>Codex épreuve TMVF0081</li><li>Saut 
 Special</li><li>Catégorie(s) : U7 a U20 (Filles)</li></ul></li><li><div cla
 ss="gski-epreuve-date">Le dimanche 11 février 2018</div><ul class="gski-epr
 euve-liste-infos"><li>Codex épreuve TMVF0082</li><li>Saut Special</li><li>C
 atégorie(s) : Senior (Dames)</li></ul></li><li><div class="gski-epreuve-dat
 e">Le dimanche 11 février 2018</div><ul class="gski-epreuve-liste-infos"><l
 i>Codex épreuve TMVM0081</li><li>Saut Special</li><li>Catégorie(s) : U7 a U
 20 (Garçons)</li></ul></li><li><div class="gski-epreuve-date">Le dimanche 1
 1 février 2018</div><ul class="gski-epreuve-liste-infos"><li>Codex épreuve 
 TMVM0082</li><li>Saut Special</li><li>Catégorie(s) : Senior (Hommes)</li></
 ul></li></ul></div><div class="gskiepreuves-links"><ul><li><a href="https:/
 /skivosges.net/index.php?option=com_jevents&task=icalevent.detail&evid=938&
 Itemid=6289">Voir les informations dans l'agenda...</a></li></ul></div></di
 v"><!-- #/gskiepreuve fin du dode généré par le plugin jevents pour GskiEpr
 euves. . Ne pas modifier cette ligne, ni tout le contenu précedant.  #/gski
 epreuve --> <a href="https://skivosges.net/agenda/a-venir/detailevenement/9
 43/-/la-bresse-coupe-des-vo-saut-special-champ-des-vo-lispach-k40m-k20m?tmp
 l=component">Cet évènement a été importé depuis :https://skivosges.net/agen
 da/a-venir/detailevenement/943/-/la-bresse-coupe-des-vo-saut-special-champ-
 des-vo-lispach-k40m-k20m?tmpl=component</a>DTSTAMP:20260424T073910
DTSTART;TZID=Europe/Paris;VALUE=DATE:20180211
DTEND;TZID=Europe/Paris;VALUE=DATE:20180212
SEQUENCE:0
TRANSP:OPAQUE
END:VEVENT
END:VCALENDAR