BEGIN:VCALENDAR
VERSION:2.0
PRODID:-//jEvents 2.0 for Joomla//EN
CALSCALE:GREGORIAN
METHOD:PUBLISH
BEGIN:VTIMEZONE
TZID:Europe/Paris
BEGIN:STANDARD
DTSTART:20170210T000000
RDATE:20170326T030000
TZOFFSETFROM:+0200
TZOFFSETTO:+0100
TZNAME:Europe/Paris CET
END:STANDARD
BEGIN:STANDARD
DTSTART:20171029T020000
RDATE:20180325T030000
TZOFFSETFROM:+0200
TZOFFSETTO:+0100
TZNAME:Europe/Paris CET
END:STANDARD
BEGIN:STANDARD
DTSTART:20181028T020000
RDATE:20190331T030000
TZOFFSETFROM:+0200
TZOFFSETTO:+0100
TZNAME:Europe/Paris CET
END:STANDARD
BEGIN:STANDARD
DTSTART:20191027T020000
RDATE:20200329T030000
TZOFFSETFROM:+0200
TZOFFSETTO:+0100
TZNAME:Europe/Paris CET
END:STANDARD
BEGIN:STANDARD
DTSTART:20201025T020000
RDATE:20210328T030000
TZOFFSETFROM:+0200
TZOFFSETTO:+0100
TZNAME:Europe/Paris CET
END:STANDARD
BEGIN:STANDARD
DTSTART:20211031T020000
RDATE:20220327T030000
TZOFFSETFROM:+0200
TZOFFSETTO:+0100
TZNAME:Europe/Paris CET
END:STANDARD
BEGIN:STANDARD
DTSTART:20221030T020000
RDATE:20230326T030000
TZOFFSETFROM:+0200
TZOFFSETTO:+0100
TZNAME:Europe/Paris CET
END:STANDARD
BEGIN:STANDARD
DTSTART:20231029T020000
RDATE:20240331T030000
TZOFFSETFROM:+0200
TZOFFSETTO:+0100
TZNAME:Europe/Paris CET
END:STANDARD
BEGIN:STANDARD
DTSTART:20241027T020000
RDATE:20250330T030000
TZOFFSETFROM:+0200
TZOFFSETTO:+0100
TZNAME:Europe/Paris CET
END:STANDARD
BEGIN:STANDARD
DTSTART:20251026T020000
RDATE:20260329T030000
TZOFFSETFROM:+0200
TZOFFSETTO:+0100
TZNAME:Europe/Paris CET
END:STANDARD
BEGIN:STANDARD
DTSTART:20261025T020000
RDATE:20270328T030000
TZOFFSETFROM:+0200
TZOFFSETTO:+0100
TZNAME:Europe/Paris CET
END:STANDARD
BEGIN:DAYLIGHT
DTSTART:20170326T030000
RDATE:20171029T020000
TZOFFSETFROM:+0100
TZOFFSETTO:+0200
TZNAME:Europe/Paris CEST
END:DAYLIGHT
BEGIN:DAYLIGHT
DTSTART:20180325T030000
RDATE:20181028T020000
TZOFFSETFROM:+0100
TZOFFSETTO:+0200
TZNAME:Europe/Paris CEST
END:DAYLIGHT
BEGIN:DAYLIGHT
DTSTART:20190331T030000
RDATE:20191027T020000
TZOFFSETFROM:+0100
TZOFFSETTO:+0200
TZNAME:Europe/Paris CEST
END:DAYLIGHT
BEGIN:DAYLIGHT
DTSTART:20200329T030000
RDATE:20201025T020000
TZOFFSETFROM:+0100
TZOFFSETTO:+0200
TZNAME:Europe/Paris CEST
END:DAYLIGHT
BEGIN:DAYLIGHT
DTSTART:20210328T030000
RDATE:20211031T020000
TZOFFSETFROM:+0100
TZOFFSETTO:+0200
TZNAME:Europe/Paris CEST
END:DAYLIGHT
BEGIN:DAYLIGHT
DTSTART:20220327T030000
RDATE:20221030T020000
TZOFFSETFROM:+0100
TZOFFSETTO:+0200
TZNAME:Europe/Paris CEST
END:DAYLIGHT
BEGIN:DAYLIGHT
DTSTART:20230326T030000
RDATE:20231029T020000
TZOFFSETFROM:+0100
TZOFFSETTO:+0200
TZNAME:Europe/Paris CEST
END:DAYLIGHT
BEGIN:DAYLIGHT
DTSTART:20240331T030000
RDATE:20241027T020000
TZOFFSETFROM:+0100
TZOFFSETTO:+0200
TZNAME:Europe/Paris CEST
END:DAYLIGHT
BEGIN:DAYLIGHT
DTSTART:20250330T030000
RDATE:20251026T020000
TZOFFSETFROM:+0100
TZOFFSETTO:+0200
TZNAME:Europe/Paris CEST
END:DAYLIGHT
BEGIN:DAYLIGHT
DTSTART:20260329T030000
RDATE:20261025T020000
TZOFFSETFROM:+0100
TZOFFSETTO:+0200
TZNAME:Europe/Paris CEST
END:DAYLIGHT
END:VTIMEZONE
BEGIN:VEVENT
UID:b5e3c47f36b6215898f459348e247177
CATEGORIES:Circuit Alsace Adultes (alpin)
CREATED:20171121T093310
SUMMARY:CAA U16 à Masters Championnats d'Alsace
URL;VALUE=URI:https://skivosges.net/agenda/a-venir/detailevenement/946/-/caa-u16-a-master
 s-championnats-dalsace?tmpl=component
DESCRIPTION:<!-- #gskiepreuve code généré par le plugin jevents pour GskiEpreuves. Ne p
 as modifier cette ligne, ni tout le contenu suivant  #gskiepreuve --><div c
 lass="gski-evenement_infos"><div class="gski-evenement-nom">CAA U16 à Maste
 rs Championnats d'Alsace</div><div class="gski-evenement-report"></div><ul 
 class="gski-evenement-liste-infos"><li>Codex évenement AMVT0430</li><li>Cir
 cuit : Circuit Adultes Alsace</li><li>Lieu : STADE DE SLALOM SERGE LANG</li
 ><li>Station : MARKSTEIN</li><li>Piste : STADE DE SLALOM</li><li>Organisate
 ur : 14186 S.C VALLEE DE WESSERLING</li><li>Courriel : <!-- Cette adresse é
 lectronique est protégée contre les robots spammeurs. --><span class="cloak
 ed_email ep_e6b79ed8"><span data-ep-b="&#109;" data-ep-a="s&#99;&#118;w"><s
 pan data-ep-a="&#101;&#115;&#115;&#101;" data-ep-b="&#108;&#46;&#99;&#111;"
 ><span data-ep-b="&#103;&#64;a&#111;" data-ep-a="&#114;&#108;&#105;&#110;">
 </span></span></span></span><script>RegularLabs.EmailProtector.unCloak("ep_
 e6b79ed8");</script></li><li>Téléphone : 03 89 82 78 08</li><li><span class
 ="gski-evenement-obs">Délégué Technique : GLOHR FABIEN</span></li></ul><div
  class="gski-evenement-infos-2"><div class="gski-evenement-info-inscription
 s"><div class="gski-evenement-inscriptions-periodes">Période d'inscription 
 à l'evènement du dimanche 04 février 2018 à 00:00 au vendredi 09 février 20
 18 à 22:00 <span class="gski-evenement-inscriptions-impossibles">(Inscripti
 ons impossibles).</span><div class="gski-evenement-inscriptions-types-titre
 s">Inscriptions ouvertes aux detenteurs des titres Fédéraux valides suivant
 s : Licenciés Compétiteurs</div></div></div><div class="gski-evenement-info
 -live">L'épreuve sera chronometrée avec les résultats publiés en direct (li
 ve)</div><div class="gski-evenement-epreuves"><div class="gski-evenement-ep
 reuves-titres">Epreuves :</div><ul class="gski-evenement-epreuves-list"><li
 ><div class="gski-epreuve-date">Le dimanche 11 février 2018</div><ul class=
 "gski-epreuve-liste-infos"><li>Codex épreuve AMVM0431</li><li>Slalom</li><l
 i>Circuit : Circuit Adultes Alsace</li><li>Catégorie(s) : U16 (Garçons)</li
 ></ul></li><li><div class="gski-epreuve-date">Le dimanche 11 février 2018</
 div><ul class="gski-epreuve-liste-infos"><li>Codex épreuve AMVF0431</li><li
 >Slalom</li><li>Circuit : Circuit Adultes Alsace</li><li>Catégorie(s) : U16
  (Filles)</li></ul></li><li><div class="gski-epreuve-date">Le dimanche 11 f
 évrier 2018</div><ul class="gski-epreuve-liste-infos"><li>Codex épreuve AMV
 F0432</li><li>Slalom</li><li>Circuit : Circuit Adultes Alsace</li><li>Catég
 orie(s) : U18 a Masters (Dames)</li></ul></li><li><div class="gski-epreuve-
 date">Le dimanche 11 février 2018</div><ul class="gski-epreuve-liste-infos"
 ><li>Codex épreuve AMVM0432</li><li>Slalom</li><li>Circuit : Circuit Adulte
 s Alsace</li><li>Catégorie(s) : U18 a Masters (Hommes)</li></ul></li></ul><
 /div><div class="gskiepreuves-links"><ul><li><a href="/index.php?option=com
 _jevents&task=icalevent.detail&evid=941&Itemid=6289">Voir les informations 
 dans l'agenda...</a></li><li><a href="/index.php?option=com_gskiepreuves&vi
 ew=afficheresultats&format_option=tous&filter[search]=AMVT0430&filter[date_
 debut]=11-02-2018&filter[date_fin]=11-02-2018&code_activite=ALP&Itemid=6289
 ">Vers les résultats...</a></li><li>Publications concernant cet évènement :
 <ul><li><a href="/index.php?option=com_content&view=article&id=6128&Itemid=
 6289">Samedi 10 Février 2018 à 13:44 : Le 11/02/2018 MARKSTEIN Liste de dép
 arts</a></li><li><a href="/index.php?option=com_content&view=article&id=612
 3&Itemid=6289">Samedi 10 Février 2018 à 07:38 : Le 11/02/2018 MARKSTEIN Lis
 te de départs</a></li></ul></li></ul></div></div"><!-- #/gskiepreuve fin du
  dode généré par le plugin jevents pour GskiEpreuves. . Ne pas modifier cet
 te ligne, ni tout le contenu précedant.  #/gskiepreuve --> <a href="https:/
 /skivosges.net/agenda/a-venir/detailevenement/946/-/caa-u16-a-masters-champ
 ionnats-dalsace?tmpl=component">Cet évènement a été importé depuis :https:/
 /skivosges.net/agenda/a-venir/detailevenement/946/-/caa-u16-a-masters-champ
 ionnats-dalsace?tmpl=component</a>
X-ALT-DESC;FMTTYPE=text/html:<!-- #gskiepreuve code généré par le plugin jevents pour GskiEpreuves. Ne p
 as modifier cette ligne, ni tout le contenu suivant  #gskiepreuve --><div c
 lass="gski-evenement_infos"><div class="gski-evenement-nom">CAA U16 à Maste
 rs Championnats d'Alsace</div><div class="gski-evenement-report"></div><ul 
 class="gski-evenement-liste-infos"><li>Codex évenement AMVT0430</li><li>Cir
 cuit : Circuit Adultes Alsace</li><li>Lieu : STADE DE SLALOM SERGE LANG</li
 ><li>Station : MARKSTEIN</li><li>Piste : STADE DE SLALOM</li><li>Organisate
 ur : 14186 S.C VALLEE DE WESSERLING</li><li>Courriel : <!-- Cette adresse é
 lectronique est protégée contre les robots spammeurs. --><span class="cloak
 ed_email ep_e6b79ed8"><span data-ep-b="&#109;" data-ep-a="s&#99;&#118;w"><s
 pan data-ep-a="&#101;&#115;&#115;&#101;" data-ep-b="&#108;&#46;&#99;&#111;"
 ><span data-ep-b="&#103;&#64;a&#111;" data-ep-a="&#114;&#108;&#105;&#110;">
 </span></span></span></span><script>RegularLabs.EmailProtector.unCloak("ep_
 e6b79ed8");</script></li><li>Téléphone : 03 89 82 78 08</li><li><span class
 ="gski-evenement-obs">Délégué Technique : GLOHR FABIEN</span></li></ul><div
  class="gski-evenement-infos-2"><div class="gski-evenement-info-inscription
 s"><div class="gski-evenement-inscriptions-periodes">Période d'inscription 
 à l'evènement du dimanche 04 février 2018 à 00:00 au vendredi 09 février 20
 18 à 22:00 <span class="gski-evenement-inscriptions-impossibles">(Inscripti
 ons impossibles).</span><div class="gski-evenement-inscriptions-types-titre
 s">Inscriptions ouvertes aux detenteurs des titres Fédéraux valides suivant
 s : Licenciés Compétiteurs</div></div></div><div class="gski-evenement-info
 -live">L'épreuve sera chronometrée avec les résultats publiés en direct (li
 ve)</div><div class="gski-evenement-epreuves"><div class="gski-evenement-ep
 reuves-titres">Epreuves :</div><ul class="gski-evenement-epreuves-list"><li
 ><div class="gski-epreuve-date">Le dimanche 11 février 2018</div><ul class=
 "gski-epreuve-liste-infos"><li>Codex épreuve AMVM0431</li><li>Slalom</li><l
 i>Circuit : Circuit Adultes Alsace</li><li>Catégorie(s) : U16 (Garçons)</li
 ></ul></li><li><div class="gski-epreuve-date">Le dimanche 11 février 2018</
 div><ul class="gski-epreuve-liste-infos"><li>Codex épreuve AMVF0431</li><li
 >Slalom</li><li>Circuit : Circuit Adultes Alsace</li><li>Catégorie(s) : U16
  (Filles)</li></ul></li><li><div class="gski-epreuve-date">Le dimanche 11 f
 évrier 2018</div><ul class="gski-epreuve-liste-infos"><li>Codex épreuve AMV
 F0432</li><li>Slalom</li><li>Circuit : Circuit Adultes Alsace</li><li>Catég
 orie(s) : U18 a Masters (Dames)</li></ul></li><li><div class="gski-epreuve-
 date">Le dimanche 11 février 2018</div><ul class="gski-epreuve-liste-infos"
 ><li>Codex épreuve AMVM0432</li><li>Slalom</li><li>Circuit : Circuit Adulte
 s Alsace</li><li>Catégorie(s) : U18 a Masters (Hommes)</li></ul></li></ul><
 /div><div class="gskiepreuves-links"><ul><li><a href="https://skivosges.net
 /index.php?option=com_jevents&task=icalevent.detail&evid=941&Itemid=6289">V
 oir les informations dans l'agenda...</a></li><li><a href="https://skivosge
 s.net/index.php?option=com_gskiepreuves&view=afficheresultats&format_option
 =tous&filter[search]=AMVT0430&filter[date_debut]=11-02-2018&filter[date_fin
 ]=11-02-2018&code_activite=ALP&Itemid=6289">Vers les résultats...</a></li><
 li>Publications concernant cet évènement :<ul><li><a href="https://skivosge
 s.net/index.php?option=com_content&view=article&id=6128&Itemid=6289">Samedi
  10 Février 2018 à 13:44 : Le 11/02/2018 MARKSTEIN Liste de départs</a></li
 ><li><a href="https://skivosges.net/index.php?option=com_content&view=artic
 le&id=6123&Itemid=6289">Samedi 10 Février 2018 à 07:38 : Le 11/02/2018 MARK
 STEIN Liste de départs</a></li></ul></li></ul></div></div"><!-- #/gskiepreu
 ve fin du dode généré par le plugin jevents pour GskiEpreuves. . Ne pas mod
 ifier cette ligne, ni tout le contenu précedant.  #/gskiepreuve --> <a href
 ="https://skivosges.net/agenda/a-venir/detailevenement/946/-/caa-u16-a-mast
 ers-championnats-dalsace?tmpl=component">Cet évènement a été importé depuis
  :https://skivosges.net/agenda/a-venir/detailevenement/946/-/caa-u16-a-mast
 ers-championnats-dalsace?tmpl=component</a>DTSTAMP:20260424T060810
DTSTART;TZID=Europe/Paris;VALUE=DATE:20180211
DTEND;TZID=Europe/Paris;VALUE=DATE:20180212
SEQUENCE:0
TRANSP:OPAQUE
END:VEVENT
END:VCALENDAR