BEGIN:VCALENDAR
VERSION:2.0
PRODID:-//jEvents 2.0 for Joomla//EN
CALSCALE:GREGORIAN
METHOD:PUBLISH
BEGIN:VTIMEZONE
TZID:Europe/Paris
BEGIN:STANDARD
DTSTART:20170210T000000
RDATE:20170326T030000
TZOFFSETFROM:+0200
TZOFFSETTO:+0100
TZNAME:Europe/Paris CET
END:STANDARD
BEGIN:STANDARD
DTSTART:20171029T020000
RDATE:20180325T030000
TZOFFSETFROM:+0200
TZOFFSETTO:+0100
TZNAME:Europe/Paris CET
END:STANDARD
BEGIN:STANDARD
DTSTART:20181028T020000
RDATE:20190331T030000
TZOFFSETFROM:+0200
TZOFFSETTO:+0100
TZNAME:Europe/Paris CET
END:STANDARD
BEGIN:STANDARD
DTSTART:20191027T020000
RDATE:20200329T030000
TZOFFSETFROM:+0200
TZOFFSETTO:+0100
TZNAME:Europe/Paris CET
END:STANDARD
BEGIN:STANDARD
DTSTART:20201025T020000
RDATE:20210328T030000
TZOFFSETFROM:+0200
TZOFFSETTO:+0100
TZNAME:Europe/Paris CET
END:STANDARD
BEGIN:STANDARD
DTSTART:20211031T020000
RDATE:20220327T030000
TZOFFSETFROM:+0200
TZOFFSETTO:+0100
TZNAME:Europe/Paris CET
END:STANDARD
BEGIN:STANDARD
DTSTART:20221030T020000
RDATE:20230326T030000
TZOFFSETFROM:+0200
TZOFFSETTO:+0100
TZNAME:Europe/Paris CET
END:STANDARD
BEGIN:STANDARD
DTSTART:20231029T020000
RDATE:20240331T030000
TZOFFSETFROM:+0200
TZOFFSETTO:+0100
TZNAME:Europe/Paris CET
END:STANDARD
BEGIN:STANDARD
DTSTART:20241027T020000
RDATE:20250330T030000
TZOFFSETFROM:+0200
TZOFFSETTO:+0100
TZNAME:Europe/Paris CET
END:STANDARD
BEGIN:STANDARD
DTSTART:20251026T020000
RDATE:20260329T030000
TZOFFSETFROM:+0200
TZOFFSETTO:+0100
TZNAME:Europe/Paris CET
END:STANDARD
BEGIN:STANDARD
DTSTART:20261025T020000
RDATE:20270328T030000
TZOFFSETFROM:+0200
TZOFFSETTO:+0100
TZNAME:Europe/Paris CET
END:STANDARD
BEGIN:DAYLIGHT
DTSTART:20170326T030000
RDATE:20171029T020000
TZOFFSETFROM:+0100
TZOFFSETTO:+0200
TZNAME:Europe/Paris CEST
END:DAYLIGHT
BEGIN:DAYLIGHT
DTSTART:20180325T030000
RDATE:20181028T020000
TZOFFSETFROM:+0100
TZOFFSETTO:+0200
TZNAME:Europe/Paris CEST
END:DAYLIGHT
BEGIN:DAYLIGHT
DTSTART:20190331T030000
RDATE:20191027T020000
TZOFFSETFROM:+0100
TZOFFSETTO:+0200
TZNAME:Europe/Paris CEST
END:DAYLIGHT
BEGIN:DAYLIGHT
DTSTART:20200329T030000
RDATE:20201025T020000
TZOFFSETFROM:+0100
TZOFFSETTO:+0200
TZNAME:Europe/Paris CEST
END:DAYLIGHT
BEGIN:DAYLIGHT
DTSTART:20210328T030000
RDATE:20211031T020000
TZOFFSETFROM:+0100
TZOFFSETTO:+0200
TZNAME:Europe/Paris CEST
END:DAYLIGHT
BEGIN:DAYLIGHT
DTSTART:20220327T030000
RDATE:20221030T020000
TZOFFSETFROM:+0100
TZOFFSETTO:+0200
TZNAME:Europe/Paris CEST
END:DAYLIGHT
BEGIN:DAYLIGHT
DTSTART:20230326T030000
RDATE:20231029T020000
TZOFFSETFROM:+0100
TZOFFSETTO:+0200
TZNAME:Europe/Paris CEST
END:DAYLIGHT
BEGIN:DAYLIGHT
DTSTART:20240331T030000
RDATE:20241027T020000
TZOFFSETFROM:+0100
TZOFFSETTO:+0200
TZNAME:Europe/Paris CEST
END:DAYLIGHT
BEGIN:DAYLIGHT
DTSTART:20250330T030000
RDATE:20251026T020000
TZOFFSETFROM:+0100
TZOFFSETTO:+0200
TZNAME:Europe/Paris CEST
END:DAYLIGHT
BEGIN:DAYLIGHT
DTSTART:20260329T030000
RDATE:20261025T020000
TZOFFSETFROM:+0100
TZOFFSETTO:+0200
TZNAME:Europe/Paris CEST
END:DAYLIGHT
END:VTIMEZONE
BEGIN:VEVENT
UID:7bd398338fedf9c1690e00b5bd4b5595
CATEGORIES:Circuit Lorraine Adultes (alpin)
CREATED:20171121T093310
SUMMARY:CAL U16 à Masters Championnat de Lorraine ACW carrosserie Gérardmer
URL;VALUE=URI:https://skivosges.net/agenda/a-venir/detailevenement/947/-/cal-u16-a-master
 s-championnat-de-lorraine-acw-carrosserie-gerardmer?tmpl=component
DESCRIPTION:CAL U16 à Masters Championnat de Lorraine ACW carrosserie Gérardmer\n - Cod
 ex évenement AMVT0440\n - Lieu : Stade\n - Station : GERARDMER\n - Piste : 
 Stade\n - Organisateur : 14089 GERARDMER SKI ALPIN\n - Courriel : RegularLa
 bs.EmailProtector.unCloak("ep_3c2a0e54");\n - Téléphone : 03 29 60 98 04\n 
 - Délégué Technique : TURRI TIZIANOPériode d'inscription à l'evènement du d
 imanche 04 février 2018 à 00:00 au vendredi 09 février 2018 à 16:00 (Inscri
 ptions impossibles).Inscriptions ouvertes aux detenteurs des titres Fédérau
 x valides suivants : Licenciés CompétiteursL'épreuve sera chronometrée avec
  les résultats publiés en direct (live)Epreuves :\n - Le dimanche 11 févrie
 r 2018 à 10:00\n - Codex épreuve AMVM0441\n - Slalom\n - Catégorie(s) : U16
  a Masters (Garçons)\n - Le dimanche 11 février 2018 à 10:00\n - Codex épre
 uve AMVF0441\n - Slalom\n - Catégorie(s) : U16 a Masters (Filles)\n - Voir 
 les informations dans l'agenda... (/index.php?option=com_jevents&amp;task=i
 calevent.detail&amp;evid=942&amp;Itemid=6289)\n - Vers les résultats... (/i
 ndex.php?option=com_gskiepreuves&amp;view=afficheresultats&amp;format_optio
 n=tous&amp;filter[search]=AMVT0440&amp;filter[date_debut]=11-02-2018&amp;fi
 lter[date_fin]=11-02-2018&amp;code_activite=ALP&amp;Itemid=6289)\n - Public
 ations concernant cet évènement :\n - Vendredi 9 Février 2018 à 17:12 : Le 
 11/02/2018 GERARDMER Liste de départs Cet évènement a été importé depuis :h
 ttps://skivosges.net/agenda/a-venir/detailevenement/947/-/cal-u16-a-masters
 -championnat-de-lorraine-acw-carrosserie-gerardmer?tmpl=component
X-ALT-DESC;FMTTYPE=text/html:<!-- #gskiepreuve code généré par le plugin jevents pour GskiEpreuves. Ne p
 as modifier cette ligne, ni tout le contenu suivant  #gskiepreuve --><div c
 lass="gski-evenement_infos"><div class="gski-evenement-nom">CAL U16 à Maste
 rs Championnat de Lorraine ACW carrosserie Gérardmer</div><div class="gski-
 evenement-report"></div><ul class="gski-evenement-liste-infos"><li>Codex év
 enement AMVT0440</li><li>Lieu : Stade</li><li>Station : GERARDMER</li><li>P
 iste : Stade</li><li>Organisateur : 14089 GERARDMER SKI ALPIN</li><li>Courr
 iel : <!-- Cette adresse électronique est protégée contre les robots spamme
 urs. --><span class="cloaked_email ep_3c2a0e54"><span data-ep-a="&#97;sg&#1
 15;&#107;" data-ep-b="&#102;&#114;"><span data-ep-b="&#97;&#100;&#111;&#111
 ;." data-ep-a="i&#46;&#103;er"><span data-ep-b="&#114;&#64;wa&#110;" data-e
 p-a="&#97;rdme"></span></span></span></span><script>RegularLabs.EmailProtec
 tor.unCloak("ep_3c2a0e54");</script></li><li>Téléphone : 03 29 60 98 04</li
 ><li><span class="gski-evenement-obs">Délégué Technique : TURRI TIZIANO</sp
 an></li></ul><div class="gski-evenement-infos-2"><div class="gski-evenement
 -info-inscriptions"><div class="gski-evenement-inscriptions-periodes">Pério
 de d'inscription à l'evènement du dimanche 04 février 2018 à 00:00 au vendr
 edi 09 février 2018 à 16:00 <span class="gski-evenement-inscriptions-imposs
 ibles">(Inscriptions impossibles).</span><div class="gski-evenement-inscrip
 tions-types-titres">Inscriptions ouvertes aux detenteurs des titres Fédérau
 x valides suivants : Licenciés Compétiteurs</div></div></div><div class="gs
 ki-evenement-info-live">L'épreuve sera chronometrée avec les résultats publ
 iés en direct (live)</div><div class="gski-evenement-epreuves"><div class="
 gski-evenement-epreuves-titres">Epreuves :</div><ul class="gski-evenement-e
 preuves-list"><li><div class="gski-epreuve-date">Le dimanche 11 février 201
 8 à 10:00</div><ul class="gski-epreuve-liste-infos"><li>Codex épreuve AMVM0
 441</li><li>Slalom</li><li>Catégorie(s) : U16 a Masters (Garçons)</li></ul>
 </li><li><div class="gski-epreuve-date">Le dimanche 11 février 2018 à 10:00
 </div><ul class="gski-epreuve-liste-infos"><li>Codex épreuve AMVF0441</li><
 li>Slalom</li><li>Catégorie(s) : U16 a Masters (Filles)</li></ul></li></ul>
 </div><div class="gskiepreuves-links"><ul><li><a href="https://skivosges.ne
 t/index.php?option=com_jevents&task=icalevent.detail&evid=942&Itemid=6289">
 Voir les informations dans l'agenda...</a></li><li><a href="https://skivosg
 es.net/index.php?option=com_gskiepreuves&view=afficheresultats&format_optio
 n=tous&filter[search]=AMVT0440&filter[date_debut]=11-02-2018&filter[date_fi
 n]=11-02-2018&code_activite=ALP&Itemid=6289">Vers les résultats...</a></li>
 <li>Publications concernant cet évènement :<ul><li><a href="https://skivosg
 es.net/index.php?option=com_content&view=article&id=6120&Itemid=6289">Vendr
 edi 9 Février 2018 à 17:12 : Le 11/02/2018 GERARDMER Liste de départs</a></
 li></ul></li></ul></div></div"><!-- #/gskiepreuve fin du dode généré par le
  plugin jevents pour GskiEpreuves. . Ne pas modifier cette ligne, ni tout l
 e contenu précedant.  #/gskiepreuve --> <a href="https://skivosges.net/agen
 da/a-venir/detailevenement/947/-/cal-u16-a-masters-championnat-de-lorraine-
 acw-carrosserie-gerardmer?tmpl=component">Cet évènement a été importé depui
 s :https://skivosges.net/agenda/a-venir/detailevenement/947/-/cal-u16-a-mas
 ters-championnat-de-lorraine-acw-carrosserie-gerardmer?tmpl=component</a>DTSTAMP:20260424T073934
DTSTART;TZID=Europe/Paris;VALUE=DATE:20180211
DTEND;TZID=Europe/Paris;VALUE=DATE:20180212
SEQUENCE:0
TRANSP:OPAQUE
END:VEVENT
END:VCALENDAR