BEGIN:VCALENDAR
VERSION:2.0
PRODID:-//jEvents 2.0 for Joomla//EN
CALSCALE:GREGORIAN
METHOD:PUBLISH
BEGIN:VTIMEZONE
TZID:Europe/Paris
BEGIN:STANDARD
DTSTART:20170216T000000
RDATE:20170326T030000
TZOFFSETFROM:+0200
TZOFFSETTO:+0100
TZNAME:Europe/Paris CET
END:STANDARD
BEGIN:STANDARD
DTSTART:20171029T020000
RDATE:20180325T030000
TZOFFSETFROM:+0200
TZOFFSETTO:+0100
TZNAME:Europe/Paris CET
END:STANDARD
BEGIN:STANDARD
DTSTART:20181028T020000
RDATE:20190331T030000
TZOFFSETFROM:+0200
TZOFFSETTO:+0100
TZNAME:Europe/Paris CET
END:STANDARD
BEGIN:STANDARD
DTSTART:20191027T020000
RDATE:20200329T030000
TZOFFSETFROM:+0200
TZOFFSETTO:+0100
TZNAME:Europe/Paris CET
END:STANDARD
BEGIN:STANDARD
DTSTART:20201025T020000
RDATE:20210328T030000
TZOFFSETFROM:+0200
TZOFFSETTO:+0100
TZNAME:Europe/Paris CET
END:STANDARD
BEGIN:STANDARD
DTSTART:20211031T020000
RDATE:20220327T030000
TZOFFSETFROM:+0200
TZOFFSETTO:+0100
TZNAME:Europe/Paris CET
END:STANDARD
BEGIN:STANDARD
DTSTART:20221030T020000
RDATE:20230326T030000
TZOFFSETFROM:+0200
TZOFFSETTO:+0100
TZNAME:Europe/Paris CET
END:STANDARD
BEGIN:STANDARD
DTSTART:20231029T020000
RDATE:20240331T030000
TZOFFSETFROM:+0200
TZOFFSETTO:+0100
TZNAME:Europe/Paris CET
END:STANDARD
BEGIN:STANDARD
DTSTART:20241027T020000
RDATE:20250330T030000
TZOFFSETFROM:+0200
TZOFFSETTO:+0100
TZNAME:Europe/Paris CET
END:STANDARD
BEGIN:STANDARD
DTSTART:20251026T020000
RDATE:20260329T030000
TZOFFSETFROM:+0200
TZOFFSETTO:+0100
TZNAME:Europe/Paris CET
END:STANDARD
BEGIN:STANDARD
DTSTART:20261025T020000
RDATE:20270328T030000
TZOFFSETFROM:+0200
TZOFFSETTO:+0100
TZNAME:Europe/Paris CET
END:STANDARD
BEGIN:DAYLIGHT
DTSTART:20170326T030000
RDATE:20171029T020000
TZOFFSETFROM:+0100
TZOFFSETTO:+0200
TZNAME:Europe/Paris CEST
END:DAYLIGHT
BEGIN:DAYLIGHT
DTSTART:20180325T030000
RDATE:20181028T020000
TZOFFSETFROM:+0100
TZOFFSETTO:+0200
TZNAME:Europe/Paris CEST
END:DAYLIGHT
BEGIN:DAYLIGHT
DTSTART:20190331T030000
RDATE:20191027T020000
TZOFFSETFROM:+0100
TZOFFSETTO:+0200
TZNAME:Europe/Paris CEST
END:DAYLIGHT
BEGIN:DAYLIGHT
DTSTART:20200329T030000
RDATE:20201025T020000
TZOFFSETFROM:+0100
TZOFFSETTO:+0200
TZNAME:Europe/Paris CEST
END:DAYLIGHT
BEGIN:DAYLIGHT
DTSTART:20210328T030000
RDATE:20211031T020000
TZOFFSETFROM:+0100
TZOFFSETTO:+0200
TZNAME:Europe/Paris CEST
END:DAYLIGHT
BEGIN:DAYLIGHT
DTSTART:20220327T030000
RDATE:20221030T020000
TZOFFSETFROM:+0100
TZOFFSETTO:+0200
TZNAME:Europe/Paris CEST
END:DAYLIGHT
BEGIN:DAYLIGHT
DTSTART:20230326T030000
RDATE:20231029T020000
TZOFFSETFROM:+0100
TZOFFSETTO:+0200
TZNAME:Europe/Paris CEST
END:DAYLIGHT
BEGIN:DAYLIGHT
DTSTART:20240331T030000
RDATE:20241027T020000
TZOFFSETFROM:+0100
TZOFFSETTO:+0200
TZNAME:Europe/Paris CEST
END:DAYLIGHT
BEGIN:DAYLIGHT
DTSTART:20250330T030000
RDATE:20251026T020000
TZOFFSETFROM:+0100
TZOFFSETTO:+0200
TZNAME:Europe/Paris CEST
END:DAYLIGHT
BEGIN:DAYLIGHT
DTSTART:20260329T030000
RDATE:20261025T020000
TZOFFSETFROM:+0100
TZOFFSETTO:+0200
TZNAME:Europe/Paris CEST
END:DAYLIGHT
END:VTIMEZONE
BEGIN:VEVENT
UID:223b3b9544ba46a3d7e8daa2ba192307
CATEGORIES:Compétition Ski de Fond
CREATED:20171121T093310
SUMMARY:PROMO FOYER  TROPHÉE SPORT PASSION
URL;VALUE=URI:https://skivosges.net/agenda/a-venir/detailevenement/949/-/promo-foyer-trop
 hee-sport-passion?tmpl=component
DESCRIPTION:<!-- #gskiepreuve code généré par le plugin jevents pour GskiEpreuves. Ne p
 as modifier cette ligne, ni tout le contenu suivant  #gskiepreuve --><div c
 lass="gski-evenement_infos"><div class="gski-evenement-nom">PROMO FOYER  TR
 OPHÉE SPORT PASSION</div><div class="gski-evenement-report"></div><ul class
 ="gski-evenement-liste-infos"><li>Codex évenement FMVT0170</li><li>Station 
 : GERARDMER</li><li>Piste : Les Hautes Vannes</li><li>Organisateur : 14469 
 A.S GERARDMER SKI NORDIQUE</li><li>Courriel : <!-- Cette adresse électroniq
 ue est protégée contre les robots spammeurs. --><span class="cloaked_email 
 ep_09148666"><span data-ep-a="&#102;&#114;&#97;n" data-ep-b=".&#102;&#114;"
 ><span data-ep-a="&#99;i&#115;&#46;" data-ep-b="b&#98;ox"><span data-ep-a="
 &#107;&#105;e&#110;" data-ep-b="&#116;&#122;&#121;&#64;"></span></span></sp
 an></span><script>RegularLabs.EmailProtector.unCloak("ep_09148666");</scrip
 t></li></ul><div class="gski-evenement-infos-2"><div class="gski-evenement-
 info-inscriptions"><div class="gski-evenement-inscriptions-periodes">Périod
 e d'inscription à l'evènement du samedi 10 février 2018 à 00:00 au jeudi 15
  février 2018 à 22:00 <span class="gski-evenement-inscriptions-impossibles"
 >(Inscriptions impossibles).</span><div class="gski-evenement-inscriptions-
 types-titres">Inscriptions ouvertes aux detenteurs des titres Fédéraux vali
 des suivants : Licenciés Compétiteurs et Titres Loisirs et Dirigeants</div>
 </div></div><div class="gski-evenement-epreuves"><div class="gski-evenement
 -epreuves-titres">Epreuves :</div><ul class="gski-evenement-epreuves-list">
 <li><div class="gski-epreuve-date">Le samedi 17 février 2018 à 14:30</div><
 ul class="gski-epreuve-liste-infos"><li>Codex épreuve FMVF0171</li><li>Depa
 rt Individuel</li><li>Catégorie(s) : U10 (Filles)</li></ul></li><li><div cl
 ass="gski-epreuve-date">Le samedi 17 février 2018</div><ul class="gski-epre
 uve-liste-infos"><li>Codex épreuve FMVF0172</li><li>Depart Individuel</li><
 li>Catégorie(s) : U12 (Filles)</li></ul></li><li><div class="gski-epreuve-d
 ate">Le samedi 17 février 2018</div><ul class="gski-epreuve-liste-infos"><l
 i>Codex épreuve FMVF0173</li><li>Depart Individuel</li><li>Catégorie(s) : U
 14 (Filles)</li></ul></li><li><div class="gski-epreuve-date">Le samedi 17 f
 évrier 2018 à 14:30</div><ul class="gski-epreuve-liste-infos"><li>Codex épr
 euve FMVM0171</li><li>Depart Individuel</li><li>Catégorie(s) : U10 (Garçons
 )</li></ul></li><li><div class="gski-epreuve-date">Le samedi 17 février 201
 8</div><ul class="gski-epreuve-liste-infos"><li>Codex épreuve FMVM0172</li>
 <li>Depart Individuel</li><li>Catégorie(s) : U12 (Garçons)</li></ul></li><l
 i><div class="gski-epreuve-date">Le samedi 17 février 2018</div><ul class="
 gski-epreuve-liste-infos"><li>Codex épreuve FMVM0173</li><li>Depart Individ
 uel</li><li>Catégorie(s) : U14 (Garçons)</li></ul></li></ul></div><div clas
 s="gskiepreuves-links"><ul><li><a href="/index.php?option=com_jevents&task=
 icalevent.detail&evid=944&Itemid=6289">Voir les informations dans l'agenda.
 ..</a></li><li><a href="/index.php?option=com_gskiepreuves&view=afficheresu
 ltats&format_option=tous&filter[search]=FMVT0170&filter[date_debut]=17-02-2
 018&filter[date_fin]=17-02-2018&code_activite=FOND&Itemid=6289">Vers les ré
 sultats...</a></li><li>Publications concernant cet évènement :<ul><li><a hr
 ef="/index.php?option=com_content&view=article&id=6167&Itemid=6289">Mardi 2
 0 Février 2018 à 20:48 : Le 17/02/2018 GERARDMER Résultats</a></li><li><a h
 ref="/index.php?option=com_content&view=article&id=6154&Itemid=6289">Samedi
  17 Février 2018 à 21:20 : Le 17/02/2018 GERARDMER Résultats</a></li></ul><
 /li></ul></div></div"><!-- #/gskiepreuve fin du dode généré par le plugin j
 events pour GskiEpreuves. . Ne pas modifier cette ligne, ni tout le contenu
  précedant.  #/gskiepreuve --> <a href="https://skivosges.net/agenda/a-veni
 r/detailevenement/949/-/promo-foyer-trophee-sport-passion?tmpl=component">C
 et évènement a été importé depuis :https://skivosges.net/agenda/a-venir/det
 ailevenement/949/-/promo-foyer-trophee-sport-passion?tmpl=component</a>
X-ALT-DESC;FMTTYPE=text/html:<!-- #gskiepreuve code généré par le plugin jevents pour GskiEpreuves. Ne p
 as modifier cette ligne, ni tout le contenu suivant  #gskiepreuve --><div c
 lass="gski-evenement_infos"><div class="gski-evenement-nom">PROMO FOYER  TR
 OPHÉE SPORT PASSION</div><div class="gski-evenement-report"></div><ul class
 ="gski-evenement-liste-infos"><li>Codex évenement FMVT0170</li><li>Station 
 : GERARDMER</li><li>Piste : Les Hautes Vannes</li><li>Organisateur : 14469 
 A.S GERARDMER SKI NORDIQUE</li><li>Courriel : <!-- Cette adresse électroniq
 ue est protégée contre les robots spammeurs. --><span class="cloaked_email 
 ep_09148666"><span data-ep-a="&#102;&#114;&#97;n" data-ep-b=".&#102;&#114;"
 ><span data-ep-a="&#99;i&#115;&#46;" data-ep-b="b&#98;ox"><span data-ep-a="
 &#107;&#105;e&#110;" data-ep-b="&#116;&#122;&#121;&#64;"></span></span></sp
 an></span><script>RegularLabs.EmailProtector.unCloak("ep_09148666");</scrip
 t></li></ul><div class="gski-evenement-infos-2"><div class="gski-evenement-
 info-inscriptions"><div class="gski-evenement-inscriptions-periodes">Périod
 e d'inscription à l'evènement du samedi 10 février 2018 à 00:00 au jeudi 15
  février 2018 à 22:00 <span class="gski-evenement-inscriptions-impossibles"
 >(Inscriptions impossibles).</span><div class="gski-evenement-inscriptions-
 types-titres">Inscriptions ouvertes aux detenteurs des titres Fédéraux vali
 des suivants : Licenciés Compétiteurs et Titres Loisirs et Dirigeants</div>
 </div></div><div class="gski-evenement-epreuves"><div class="gski-evenement
 -epreuves-titres">Epreuves :</div><ul class="gski-evenement-epreuves-list">
 <li><div class="gski-epreuve-date">Le samedi 17 février 2018 à 14:30</div><
 ul class="gski-epreuve-liste-infos"><li>Codex épreuve FMVF0171</li><li>Depa
 rt Individuel</li><li>Catégorie(s) : U10 (Filles)</li></ul></li><li><div cl
 ass="gski-epreuve-date">Le samedi 17 février 2018</div><ul class="gski-epre
 uve-liste-infos"><li>Codex épreuve FMVF0172</li><li>Depart Individuel</li><
 li>Catégorie(s) : U12 (Filles)</li></ul></li><li><div class="gski-epreuve-d
 ate">Le samedi 17 février 2018</div><ul class="gski-epreuve-liste-infos"><l
 i>Codex épreuve FMVF0173</li><li>Depart Individuel</li><li>Catégorie(s) : U
 14 (Filles)</li></ul></li><li><div class="gski-epreuve-date">Le samedi 17 f
 évrier 2018 à 14:30</div><ul class="gski-epreuve-liste-infos"><li>Codex épr
 euve FMVM0171</li><li>Depart Individuel</li><li>Catégorie(s) : U10 (Garçons
 )</li></ul></li><li><div class="gski-epreuve-date">Le samedi 17 février 201
 8</div><ul class="gski-epreuve-liste-infos"><li>Codex épreuve FMVM0172</li>
 <li>Depart Individuel</li><li>Catégorie(s) : U12 (Garçons)</li></ul></li><l
 i><div class="gski-epreuve-date">Le samedi 17 février 2018</div><ul class="
 gski-epreuve-liste-infos"><li>Codex épreuve FMVM0173</li><li>Depart Individ
 uel</li><li>Catégorie(s) : U14 (Garçons)</li></ul></li></ul></div><div clas
 s="gskiepreuves-links"><ul><li><a href="https://skivosges.net/index.php?opt
 ion=com_jevents&task=icalevent.detail&evid=944&Itemid=6289">Voir les inform
 ations dans l'agenda...</a></li><li><a href="https://skivosges.net/index.ph
 p?option=com_gskiepreuves&view=afficheresultats&format_option=tous&filter[s
 earch]=FMVT0170&filter[date_debut]=17-02-2018&filter[date_fin]=17-02-2018&c
 ode_activite=FOND&Itemid=6289">Vers les résultats...</a></li><li>Publicatio
 ns concernant cet évènement :<ul><li><a href="https://skivosges.net/index.p
 hp?option=com_content&view=article&id=6167&Itemid=6289">Mardi 20 Février 20
 18 à 20:48 : Le 17/02/2018 GERARDMER Résultats</a></li><li><a href="https:/
 /skivosges.net/index.php?option=com_content&view=article&id=6154&Itemid=628
 9">Samedi 17 Février 2018 à 21:20 : Le 17/02/2018 GERARDMER Résultats</a></
 li></ul></li></ul></div></div"><!-- #/gskiepreuve fin du dode généré par le
  plugin jevents pour GskiEpreuves. . Ne pas modifier cette ligne, ni tout l
 e contenu précedant.  #/gskiepreuve --> <a href="https://skivosges.net/agen
 da/a-venir/detailevenement/949/-/promo-foyer-trophee-sport-passion?tmpl=com
 ponent">Cet évènement a été importé depuis :https://skivosges.net/agenda/a-
 venir/detailevenement/949/-/promo-foyer-trophee-sport-passion?tmpl=componen
 t</a>DTSTAMP:20260424T074016
DTSTART;TZID=Europe/Paris;VALUE=DATE:20180217
DTEND;TZID=Europe/Paris;VALUE=DATE:20180218
SEQUENCE:0
TRANSP:OPAQUE
END:VEVENT
END:VCALENDAR