BEGIN:VCALENDAR
VERSION:2.0
PRODID:-//jEvents 2.0 for Joomla//EN
CALSCALE:GREGORIAN
METHOD:PUBLISH
BEGIN:VTIMEZONE
TZID:Europe/Paris
BEGIN:STANDARD
DTSTART:20130118T080000
RDATE:20130331T030000
TZOFFSETFROM:+0200
TZOFFSETTO:+0100
TZNAME:Europe/Paris CET
END:STANDARD
BEGIN:STANDARD
DTSTART:20131027T020000
RDATE:20140330T030000
TZOFFSETFROM:+0200
TZOFFSETTO:+0100
TZNAME:Europe/Paris CET
END:STANDARD
BEGIN:STANDARD
DTSTART:20141026T020000
RDATE:20150329T030000
TZOFFSETFROM:+0200
TZOFFSETTO:+0100
TZNAME:Europe/Paris CET
END:STANDARD
BEGIN:STANDARD
DTSTART:20151025T020000
RDATE:20160327T030000
TZOFFSETFROM:+0200
TZOFFSETTO:+0100
TZNAME:Europe/Paris CET
END:STANDARD
BEGIN:STANDARD
DTSTART:20161030T020000
RDATE:20170326T030000
TZOFFSETFROM:+0200
TZOFFSETTO:+0100
TZNAME:Europe/Paris CET
END:STANDARD
BEGIN:STANDARD
DTSTART:20171029T020000
RDATE:20180325T030000
TZOFFSETFROM:+0200
TZOFFSETTO:+0100
TZNAME:Europe/Paris CET
END:STANDARD
BEGIN:STANDARD
DTSTART:20181028T020000
RDATE:20190331T030000
TZOFFSETFROM:+0200
TZOFFSETTO:+0100
TZNAME:Europe/Paris CET
END:STANDARD
BEGIN:STANDARD
DTSTART:20191027T020000
RDATE:20200329T030000
TZOFFSETFROM:+0200
TZOFFSETTO:+0100
TZNAME:Europe/Paris CET
END:STANDARD
BEGIN:STANDARD
DTSTART:20201025T020000
RDATE:20210328T030000
TZOFFSETFROM:+0200
TZOFFSETTO:+0100
TZNAME:Europe/Paris CET
END:STANDARD
BEGIN:STANDARD
DTSTART:20211031T020000
RDATE:20220327T030000
TZOFFSETFROM:+0200
TZOFFSETTO:+0100
TZNAME:Europe/Paris CET
END:STANDARD
BEGIN:STANDARD
DTSTART:20221030T020000
RDATE:20230326T030000
TZOFFSETFROM:+0200
TZOFFSETTO:+0100
TZNAME:Europe/Paris CET
END:STANDARD
BEGIN:STANDARD
DTSTART:20231029T020000
RDATE:20240331T030000
TZOFFSETFROM:+0200
TZOFFSETTO:+0100
TZNAME:Europe/Paris CET
END:STANDARD
BEGIN:STANDARD
DTSTART:20241027T020000
RDATE:20250330T030000
TZOFFSETFROM:+0200
TZOFFSETTO:+0100
TZNAME:Europe/Paris CET
END:STANDARD
BEGIN:STANDARD
DTSTART:20251026T020000
RDATE:20260329T030000
TZOFFSETFROM:+0200
TZOFFSETTO:+0100
TZNAME:Europe/Paris CET
END:STANDARD
BEGIN:STANDARD
DTSTART:20261025T020000
RDATE:20270328T030000
TZOFFSETFROM:+0200
TZOFFSETTO:+0100
TZNAME:Europe/Paris CET
END:STANDARD
BEGIN:DAYLIGHT
DTSTART:20130331T030000
RDATE:20131027T020000
TZOFFSETFROM:+0100
TZOFFSETTO:+0200
TZNAME:Europe/Paris CEST
END:DAYLIGHT
BEGIN:DAYLIGHT
DTSTART:20140330T030000
RDATE:20141026T020000
TZOFFSETFROM:+0100
TZOFFSETTO:+0200
TZNAME:Europe/Paris CEST
END:DAYLIGHT
BEGIN:DAYLIGHT
DTSTART:20150329T030000
RDATE:20151025T020000
TZOFFSETFROM:+0100
TZOFFSETTO:+0200
TZNAME:Europe/Paris CEST
END:DAYLIGHT
BEGIN:DAYLIGHT
DTSTART:20160327T030000
RDATE:20161030T020000
TZOFFSETFROM:+0100
TZOFFSETTO:+0200
TZNAME:Europe/Paris CEST
END:DAYLIGHT
BEGIN:DAYLIGHT
DTSTART:20170326T030000
RDATE:20171029T020000
TZOFFSETFROM:+0100
TZOFFSETTO:+0200
TZNAME:Europe/Paris CEST
END:DAYLIGHT
BEGIN:DAYLIGHT
DTSTART:20180325T030000
RDATE:20181028T020000
TZOFFSETFROM:+0100
TZOFFSETTO:+0200
TZNAME:Europe/Paris CEST
END:DAYLIGHT
BEGIN:DAYLIGHT
DTSTART:20190331T030000
RDATE:20191027T020000
TZOFFSETFROM:+0100
TZOFFSETTO:+0200
TZNAME:Europe/Paris CEST
END:DAYLIGHT
BEGIN:DAYLIGHT
DTSTART:20200329T030000
RDATE:20201025T020000
TZOFFSETFROM:+0100
TZOFFSETTO:+0200
TZNAME:Europe/Paris CEST
END:DAYLIGHT
BEGIN:DAYLIGHT
DTSTART:20210328T030000
RDATE:20211031T020000
TZOFFSETFROM:+0100
TZOFFSETTO:+0200
TZNAME:Europe/Paris CEST
END:DAYLIGHT
BEGIN:DAYLIGHT
DTSTART:20220327T030000
RDATE:20221030T020000
TZOFFSETFROM:+0100
TZOFFSETTO:+0200
TZNAME:Europe/Paris CEST
END:DAYLIGHT
BEGIN:DAYLIGHT
DTSTART:20230326T030000
RDATE:20231029T020000
TZOFFSETFROM:+0100
TZOFFSETTO:+0200
TZNAME:Europe/Paris CEST
END:DAYLIGHT
BEGIN:DAYLIGHT
DTSTART:20240331T030000
RDATE:20241027T020000
TZOFFSETFROM:+0100
TZOFFSETTO:+0200
TZNAME:Europe/Paris CEST
END:DAYLIGHT
BEGIN:DAYLIGHT
DTSTART:20250330T030000
RDATE:20251026T020000
TZOFFSETFROM:+0100
TZOFFSETTO:+0200
TZNAME:Europe/Paris CEST
END:DAYLIGHT
BEGIN:DAYLIGHT
DTSTART:20260329T030000
RDATE:20261025T020000
TZOFFSETFROM:+0100
TZOFFSETTO:+0200
TZNAME:Europe/Paris CEST
END:DAYLIGHT
END:VTIMEZONE
BEGIN:VEVENT
UID:9f33df360823977dcafae7347092b9b8
CATEGORIES:Opens et Promos (alpin)
CREATED:20131203T122100
SUMMARY:PROMO J    Les Dimanches de la Glisse / Trophée de l'Auberge Hazemann **REPORTE**
URL;VALUE=URI:https://skivosges.net/agenda/a-venir/detailevenement/95/-/promo-j-les-diman
 ches-de-la-glisse-trophee-de-lauberge-hazemann-reporte?tmpl=component
DESCRIPTION:PROMO J    Les Dimanches de la Glisse / Trophée de l'Auberge Hazemann (Epre
 uve reportée, date à determiner)\n\nLieu : CHAMP DU FEU \nOrganisateur : SK
 I CLUB BELMONT CHAMP DU FEU  (14485 SKI CLUB BELMONT CHAMP DU FEU)\nEmail :
  RegularLabs.EmailProtector.unCloak("ep_b9681de6");\n - AMVF0241  Slalom Ge
 ant U8 Filles\n  PROMO J    Les Dimanches de la Glisse / Trophée de l'Auber
 ge Hazemann\n - AMVM0241  Slalom Geant U8 Garçons\n  PROMO J    Les Dimanch
 es de la Glisse / Trophée de l'Auberge Hazemann\n - AMVF0242  Slalom Geant 
 de 8 a 15ans au 31/12/2012(Mic a Min) Filles\n  PROMO J    Les Dimanches de
  la Glisse / Trophée de l'Auberge Hazemann\n - AMVM0242  Slalom Geant de 8 
 a 15ans au 31/12/2012(Mic a Min) Garçons\n  PROMO J    Les Dimanches de la 
 Glisse / Trophée de l'Auberge Hazemann Cet évènement a été importé depuis :
 https://skivosges.net/agenda/a-venir/detailevenement/95/-/promo-j-les-diman
 ches-de-la-glisse-trophee-de-lauberge-hazemann-reporte?tmpl=component (http
 s://skivosges.net/agenda/a-venir/detailevenement/95/-/promo-j-les-dimanches
 -de-la-glisse-trophee-de-lauberge-hazemann-reporte?tmpl=component)
X-ALT-DESC;FMTTYPE=text/html:<strong>PROMO J    Les Dimanches de la Glisse / Trophée de l'Auberge Hazema
 nn</strong> <font class="attention4">(Epreuve reportée, date à determiner)<
 /font><br /><br />Lieu : CHAMP DU FEU <br />Organisateur : SKI CLUB BELMONT
  CHAMP DU FEU  <small>(14485 SKI CLUB BELMONT CHAMP DU FEU)</small><br />Em
 ail : <!-- Cette adresse électronique est protégée contre les robots spamme
 urs. --><span class="cloaked_email ep_b9681de6"><span data-ep-b="" data-ep-
 a="w&#105;&#101;&#115;."><span data-ep-a="&#99;&#104;&#114;&#105;&#115;" da
 ta-ep-b="&#108;&#46;&#99;&#111;m"><span data-ep-a="&#116;&#111;&#112;h&#101
 ;" data-ep-b="&#64;&#103;&#109;&#97;&#105;"></span></span></span></span><sc
 ript>RegularLabs.EmailProtector.unCloak("ep_b9681de6");</script><ul type="d
 isc"><li>AMVF0241  Slalom Geant <nobr>U8</nobr> Filles<br />&nbsp;&nbsp;PRO
 MO J    Les Dimanches de la Glisse / Trophée de l'Auberge Hazemann</li><li>
 AMVM0241  Slalom Geant <nobr>U8</nobr> Garçons<br />&nbsp;&nbsp;PROMO J    
 Les Dimanches de la Glisse / Trophée de l'Auberge Hazemann</li><li>AMVF0242
   Slalom Geant <nobr>de 8 a 15ans au 31/12/2012(Mic a Min)</nobr> Filles<br
  />&nbsp;&nbsp;PROMO J    Les Dimanches de la Glisse / Trophée de l'Auberge
  Hazemann</li><li>AMVM0242  Slalom Geant <nobr>de 8 a 15ans au 31/12/2012(M
 ic a Min)</nobr> Garçons<br />&nbsp;&nbsp;PROMO J    Les Dimanches de la Gl
 isse / Trophée de l'Auberge Hazemann</li></ul> <a href="https://skivosges.n
 et/agenda/a-venir/detailevenement/95/-/promo-j-les-dimanches-de-la-glisse-t
 rophee-de-lauberge-hazemann-reporte?tmpl=component">Cet évènement a été imp
 orté depuis :https://skivosges.net/agenda/a-venir/detailevenement/95/-/prom
 o-j-les-dimanches-de-la-glisse-trophee-de-lauberge-hazemann-reporte?tmpl=co
 mponent</a>DTSTAMP:20260424T073900
DTSTART;TZID=Europe/Paris:20140119T080000
DTEND;TZID=Europe/Paris:20140119T170000
SEQUENCE:0
TRANSP:OPAQUE
END:VEVENT
END:VCALENDAR