BEGIN:VCALENDAR
VERSION:2.0
PRODID:-//jEvents 2.0 for Joomla//EN
CALSCALE:GREGORIAN
METHOD:PUBLISH
BEGIN:VTIMEZONE
TZID:Europe/Paris
BEGIN:STANDARD
DTSTART:20170217T000000
RDATE:20170326T030000
TZOFFSETFROM:+0200
TZOFFSETTO:+0100
TZNAME:Europe/Paris CET
END:STANDARD
BEGIN:STANDARD
DTSTART:20171029T020000
RDATE:20180325T030000
TZOFFSETFROM:+0200
TZOFFSETTO:+0100
TZNAME:Europe/Paris CET
END:STANDARD
BEGIN:STANDARD
DTSTART:20181028T020000
RDATE:20190331T030000
TZOFFSETFROM:+0200
TZOFFSETTO:+0100
TZNAME:Europe/Paris CET
END:STANDARD
BEGIN:STANDARD
DTSTART:20191027T020000
RDATE:20200329T030000
TZOFFSETFROM:+0200
TZOFFSETTO:+0100
TZNAME:Europe/Paris CET
END:STANDARD
BEGIN:STANDARD
DTSTART:20201025T020000
RDATE:20210328T030000
TZOFFSETFROM:+0200
TZOFFSETTO:+0100
TZNAME:Europe/Paris CET
END:STANDARD
BEGIN:STANDARD
DTSTART:20211031T020000
RDATE:20220327T030000
TZOFFSETFROM:+0200
TZOFFSETTO:+0100
TZNAME:Europe/Paris CET
END:STANDARD
BEGIN:STANDARD
DTSTART:20221030T020000
RDATE:20230326T030000
TZOFFSETFROM:+0200
TZOFFSETTO:+0100
TZNAME:Europe/Paris CET
END:STANDARD
BEGIN:STANDARD
DTSTART:20231029T020000
RDATE:20240331T030000
TZOFFSETFROM:+0200
TZOFFSETTO:+0100
TZNAME:Europe/Paris CET
END:STANDARD
BEGIN:STANDARD
DTSTART:20241027T020000
RDATE:20250330T030000
TZOFFSETFROM:+0200
TZOFFSETTO:+0100
TZNAME:Europe/Paris CET
END:STANDARD
BEGIN:STANDARD
DTSTART:20251026T020000
RDATE:20260329T030000
TZOFFSETFROM:+0200
TZOFFSETTO:+0100
TZNAME:Europe/Paris CET
END:STANDARD
BEGIN:STANDARD
DTSTART:20261025T020000
RDATE:20270328T030000
TZOFFSETFROM:+0200
TZOFFSETTO:+0100
TZNAME:Europe/Paris CET
END:STANDARD
BEGIN:DAYLIGHT
DTSTART:20170326T030000
RDATE:20171029T020000
TZOFFSETFROM:+0100
TZOFFSETTO:+0200
TZNAME:Europe/Paris CEST
END:DAYLIGHT
BEGIN:DAYLIGHT
DTSTART:20180325T030000
RDATE:20181028T020000
TZOFFSETFROM:+0100
TZOFFSETTO:+0200
TZNAME:Europe/Paris CEST
END:DAYLIGHT
BEGIN:DAYLIGHT
DTSTART:20190331T030000
RDATE:20191027T020000
TZOFFSETFROM:+0100
TZOFFSETTO:+0200
TZNAME:Europe/Paris CEST
END:DAYLIGHT
BEGIN:DAYLIGHT
DTSTART:20200329T030000
RDATE:20201025T020000
TZOFFSETFROM:+0100
TZOFFSETTO:+0200
TZNAME:Europe/Paris CEST
END:DAYLIGHT
BEGIN:DAYLIGHT
DTSTART:20210328T030000
RDATE:20211031T020000
TZOFFSETFROM:+0100
TZOFFSETTO:+0200
TZNAME:Europe/Paris CEST
END:DAYLIGHT
BEGIN:DAYLIGHT
DTSTART:20220327T030000
RDATE:20221030T020000
TZOFFSETFROM:+0100
TZOFFSETTO:+0200
TZNAME:Europe/Paris CEST
END:DAYLIGHT
BEGIN:DAYLIGHT
DTSTART:20230326T030000
RDATE:20231029T020000
TZOFFSETFROM:+0100
TZOFFSETTO:+0200
TZNAME:Europe/Paris CEST
END:DAYLIGHT
BEGIN:DAYLIGHT
DTSTART:20240331T030000
RDATE:20241027T020000
TZOFFSETFROM:+0100
TZOFFSETTO:+0200
TZNAME:Europe/Paris CEST
END:DAYLIGHT
BEGIN:DAYLIGHT
DTSTART:20250330T030000
RDATE:20251026T020000
TZOFFSETFROM:+0100
TZOFFSETTO:+0200
TZNAME:Europe/Paris CEST
END:DAYLIGHT
BEGIN:DAYLIGHT
DTSTART:20260329T030000
RDATE:20261025T020000
TZOFFSETFROM:+0100
TZOFFSETTO:+0200
TZNAME:Europe/Paris CEST
END:DAYLIGHT
END:VTIMEZONE
BEGIN:VEVENT
UID:af9a328c117ac58d8b6718707456010b
CATEGORIES:Circuit Massif Adultes (alpin)
CREATED:20171121T093310
SUMMARY:CAM GP Techniski et Mémorial J &  Ph DEGERMANN
URL;VALUE=URI:https://skivosges.net/agenda/a-venir/detailevenement/952/-/cam-gp-techniski
 -et-memorial-j-ph-degermann?tmpl=component
DESCRIPTION:CAM GP Techniski et Mémorial J &amp;  Ph DEGERMANN\n - Codex évenement AMVT
 0460\n - Station : LAC BLANC\n - Piste : Stade\n - Organisateur : 14003 SKI
  CLUB BARR\n - Courriel : RegularLabs.EmailProtector.unCloak("ep_9e9e3cd4")
 ;\n - Délégué Technique : LARCHEY WENDLING MICHELPériode d'inscription à l'
 evènement du dimanche 11 février 2018 à 00:00 au vendredi 16 février 2018 à
  18:00 (Inscriptions impossibles).Inscriptions ouvertes aux detenteurs des 
 titres Fédéraux valides suivants : Licenciés CompétiteursEpreuves :\n - Le 
 dimanche 18 février 2018 à 10:00\n - Codex épreuve AMVM0461\n - Slalom Gean
 t\n - Catégorie(s) : U16 (Garçons)\n - Le dimanche 18 février 2018 à 10:00\
 n - Codex épreuve AMVF0461\n - Slalom Geant\n - Catégorie(s) : U16 (Filles)
 \n - Le dimanche 18 février 2018 à 10:00\n - Codex épreuve AMVM0462\n - Sla
 lom Geant\n - Catégorie(s) : U18 a Masters (Hommes)\n - Le dimanche 18 févr
 ier 2018 à 10:00\n - Codex épreuve AMVF0462\n - Slalom Geant\n - Catégorie(
 s) : U18 a Masters (Dames)\n - Voir les informations dans l'agenda... (/ind
 ex.php?option=com_jevents&amp;task=icalevent.detail&amp;evid=947&amp;Itemid
 =6289)\n - Vers les résultats... (/index.php?option=com_gskiepreuves&amp;vi
 ew=afficheresultats&amp;format_option=tous&amp;filter[search]=AMVT0460&amp;
 filter[date_debut]=18-02-2018&amp;filter[date_fin]=18-02-2018&amp;code_acti
 vite=ALP&amp;Itemid=6289)\n - Publications concernant cet évènement :\n - D
 imanche 18 Février 2018 à 16:45 : Le 18/02/2018 LAC BLANC Résultats\n - Sam
 edi 17 Février 2018 à 19:41 : Le 18/02/2018 LAC BLANC Liste de départs\n - 
 Vendredi 16 Février 2018 à 21:58 : Le 18/02/2018 LAC BLANC Liste de départs
  Cet évènement a été importé depuis :https://skivosges.net/agenda/a-venir/d
 etailevenement/952/-/cam-gp-techniski-et-memorial-j-ph-degermann?tmpl=compo
 nent (https://skivosges.net/agenda/a-venir/detailevenement/952/-/cam-gp-tec
 hniski-et-memorial-j-ph-degermann?tmpl=component)
X-ALT-DESC;FMTTYPE=text/html:<!-- #gskiepreuve code généré par le plugin jevents pour GskiEpreuves. Ne p
 as modifier cette ligne, ni tout le contenu suivant  #gskiepreuve --><div c
 lass="gski-evenement_infos"><div class="gski-evenement-nom">CAM GP Technisk
 i et Mémorial J &  Ph DEGERMANN</div><div class="gski-evenement-report"></d
 iv><ul class="gski-evenement-liste-infos"><li>Codex évenement AMVT0460</li>
 <li>Station : LAC BLANC</li><li>Piste : Stade</li><li>Organisateur : 14003 
 SKI CLUB BARR</li><li>Courriel : <!-- Cette adresse électronique est protég
 ée contre les robots spammeurs. --><span class="cloaked_email ep_9e9e3cd4">
 <span data-ep-a="&#119;&#105;es&#46;" data-ep-b=""><span data-ep-a="&#99;&#
 104;ri&#115;" data-ep-b="l.&#99;o&#109;"><span data-ep-a="&#116;o&#112;&#10
 4;&#101;" data-ep-b="&#64;&#103;&#109;a&#105;"></span></span></span></span>
 <script>RegularLabs.EmailProtector.unCloak("ep_9e9e3cd4");</script></li><li
 ><span class="gski-evenement-obs">Délégué Technique : LARCHEY WENDLING MICH
 EL</span></li></ul><div class="gski-evenement-infos-2"><div class="gski-eve
 nement-info-inscriptions"><div class="gski-evenement-inscriptions-periodes"
 >Période d'inscription à l'evènement du dimanche 11 février 2018 à 00:00 au
  vendredi 16 février 2018 à 18:00 <span class="gski-evenement-inscriptions-
 impossibles">(Inscriptions impossibles).</span><div class="gski-evenement-i
 nscriptions-types-titres">Inscriptions ouvertes aux detenteurs des titres F
 édéraux valides suivants : Licenciés Compétiteurs</div></div></div><div cla
 ss="gski-evenement-epreuves"><div class="gski-evenement-epreuves-titres">Ep
 reuves :</div><ul class="gski-evenement-epreuves-list"><li><div class="gski
 -epreuve-date">Le dimanche 18 février 2018 à 10:00</div><ul class="gski-epr
 euve-liste-infos"><li>Codex épreuve AMVM0461</li><li>Slalom Geant</li><li>C
 atégorie(s) : U16 (Garçons)</li></ul></li><li><div class="gski-epreuve-date
 ">Le dimanche 18 février 2018 à 10:00</div><ul class="gski-epreuve-liste-in
 fos"><li>Codex épreuve AMVF0461</li><li>Slalom Geant</li><li>Catégorie(s) :
  U16 (Filles)</li></ul></li><li><div class="gski-epreuve-date">Le dimanche 
 18 février 2018 à 10:00</div><ul class="gski-epreuve-liste-infos"><li>Codex
  épreuve AMVM0462</li><li>Slalom Geant</li><li>Catégorie(s) : U18 a Masters
  (Hommes)</li></ul></li><li><div class="gski-epreuve-date">Le dimanche 18 f
 évrier 2018 à 10:00</div><ul class="gski-epreuve-liste-infos"><li>Codex épr
 euve AMVF0462</li><li>Slalom Geant</li><li>Catégorie(s) : U18 a Masters (Da
 mes)</li></ul></li></ul></div><div class="gskiepreuves-links"><ul><li><a hr
 ef="https://skivosges.net/index.php?option=com_jevents&task=icalevent.detai
 l&evid=947&Itemid=6289">Voir les informations dans l'agenda...</a></li><li>
 <a href="https://skivosges.net/index.php?option=com_gskiepreuves&view=affic
 heresultats&format_option=tous&filter[search]=AMVT0460&filter[date_debut]=1
 8-02-2018&filter[date_fin]=18-02-2018&code_activite=ALP&Itemid=6289">Vers l
 es résultats...</a></li><li>Publications concernant cet évènement :<ul><li>
 <a href="https://skivosges.net/index.php?option=com_content&view=article&id
 =6158&Itemid=6289">Dimanche 18 Février 2018 à 16:45 : Le 18/02/2018 LAC BLA
 NC Résultats</a></li><li><a href="https://skivosges.net/index.php?option=co
 m_content&view=article&id=6153&Itemid=6289">Samedi 17 Février 2018 à 19:41 
 : Le 18/02/2018 LAC BLANC Liste de départs</a></li><li><a href="https://ski
 vosges.net/index.php?option=com_content&view=article&id=6151&Itemid=6289">V
 endredi 16 Février 2018 à 21:58 : Le 18/02/2018 LAC BLANC Liste de départs<
 /a></li></ul></li></ul></div></div"><!-- #/gskiepreuve fin du dode généré p
 ar le plugin jevents pour GskiEpreuves. . Ne pas modifier cette ligne, ni t
 out le contenu précedant.  #/gskiepreuve --> <a href="https://skivosges.net
 /agenda/a-venir/detailevenement/952/-/cam-gp-techniski-et-memorial-j-ph-deg
 ermann?tmpl=component">Cet évènement a été importé depuis :https://skivosge
 s.net/agenda/a-venir/detailevenement/952/-/cam-gp-techniski-et-memorial-j-p
 h-degermann?tmpl=component</a>DTSTAMP:20260424T073915
DTSTART;TZID=Europe/Paris;VALUE=DATE:20180218
DTEND;TZID=Europe/Paris;VALUE=DATE:20180219
SEQUENCE:0
TRANSP:OPAQUE
END:VEVENT
END:VCALENDAR