BEGIN:VCALENDAR
VERSION:2.0
PRODID:-//jEvents 2.0 for Joomla//EN
CALSCALE:GREGORIAN
METHOD:PUBLISH
BEGIN:VTIMEZONE
TZID:Europe/Paris
BEGIN:STANDARD
DTSTART:20170217T000000
RDATE:20170326T030000
TZOFFSETFROM:+0200
TZOFFSETTO:+0100
TZNAME:Europe/Paris CET
END:STANDARD
BEGIN:STANDARD
DTSTART:20171029T020000
RDATE:20180325T030000
TZOFFSETFROM:+0200
TZOFFSETTO:+0100
TZNAME:Europe/Paris CET
END:STANDARD
BEGIN:STANDARD
DTSTART:20181028T020000
RDATE:20190331T030000
TZOFFSETFROM:+0200
TZOFFSETTO:+0100
TZNAME:Europe/Paris CET
END:STANDARD
BEGIN:STANDARD
DTSTART:20191027T020000
RDATE:20200329T030000
TZOFFSETFROM:+0200
TZOFFSETTO:+0100
TZNAME:Europe/Paris CET
END:STANDARD
BEGIN:STANDARD
DTSTART:20201025T020000
RDATE:20210328T030000
TZOFFSETFROM:+0200
TZOFFSETTO:+0100
TZNAME:Europe/Paris CET
END:STANDARD
BEGIN:STANDARD
DTSTART:20211031T020000
RDATE:20220327T030000
TZOFFSETFROM:+0200
TZOFFSETTO:+0100
TZNAME:Europe/Paris CET
END:STANDARD
BEGIN:STANDARD
DTSTART:20221030T020000
RDATE:20230326T030000
TZOFFSETFROM:+0200
TZOFFSETTO:+0100
TZNAME:Europe/Paris CET
END:STANDARD
BEGIN:STANDARD
DTSTART:20231029T020000
RDATE:20240331T030000
TZOFFSETFROM:+0200
TZOFFSETTO:+0100
TZNAME:Europe/Paris CET
END:STANDARD
BEGIN:STANDARD
DTSTART:20241027T020000
RDATE:20250330T030000
TZOFFSETFROM:+0200
TZOFFSETTO:+0100
TZNAME:Europe/Paris CET
END:STANDARD
BEGIN:STANDARD
DTSTART:20251026T020000
RDATE:20260329T030000
TZOFFSETFROM:+0200
TZOFFSETTO:+0100
TZNAME:Europe/Paris CET
END:STANDARD
BEGIN:STANDARD
DTSTART:20261025T020000
RDATE:20270328T030000
TZOFFSETFROM:+0200
TZOFFSETTO:+0100
TZNAME:Europe/Paris CET
END:STANDARD
BEGIN:DAYLIGHT
DTSTART:20170326T030000
RDATE:20171029T020000
TZOFFSETFROM:+0100
TZOFFSETTO:+0200
TZNAME:Europe/Paris CEST
END:DAYLIGHT
BEGIN:DAYLIGHT
DTSTART:20180325T030000
RDATE:20181028T020000
TZOFFSETFROM:+0100
TZOFFSETTO:+0200
TZNAME:Europe/Paris CEST
END:DAYLIGHT
BEGIN:DAYLIGHT
DTSTART:20190331T030000
RDATE:20191027T020000
TZOFFSETFROM:+0100
TZOFFSETTO:+0200
TZNAME:Europe/Paris CEST
END:DAYLIGHT
BEGIN:DAYLIGHT
DTSTART:20200329T030000
RDATE:20201025T020000
TZOFFSETFROM:+0100
TZOFFSETTO:+0200
TZNAME:Europe/Paris CEST
END:DAYLIGHT
BEGIN:DAYLIGHT
DTSTART:20210328T030000
RDATE:20211031T020000
TZOFFSETFROM:+0100
TZOFFSETTO:+0200
TZNAME:Europe/Paris CEST
END:DAYLIGHT
BEGIN:DAYLIGHT
DTSTART:20220327T030000
RDATE:20221030T020000
TZOFFSETFROM:+0100
TZOFFSETTO:+0200
TZNAME:Europe/Paris CEST
END:DAYLIGHT
BEGIN:DAYLIGHT
DTSTART:20230326T030000
RDATE:20231029T020000
TZOFFSETFROM:+0100
TZOFFSETTO:+0200
TZNAME:Europe/Paris CEST
END:DAYLIGHT
BEGIN:DAYLIGHT
DTSTART:20240331T030000
RDATE:20241027T020000
TZOFFSETFROM:+0100
TZOFFSETTO:+0200
TZNAME:Europe/Paris CEST
END:DAYLIGHT
BEGIN:DAYLIGHT
DTSTART:20250330T030000
RDATE:20251026T020000
TZOFFSETFROM:+0100
TZOFFSETTO:+0200
TZNAME:Europe/Paris CEST
END:DAYLIGHT
BEGIN:DAYLIGHT
DTSTART:20260329T030000
RDATE:20261025T020000
TZOFFSETFROM:+0100
TZOFFSETTO:+0200
TZNAME:Europe/Paris CEST
END:DAYLIGHT
END:VTIMEZONE
BEGIN:VEVENT
UID:221dab6c5117af98e5a5e0a1e2173570
CATEGORIES:Circuit Alsace Jeunes (alpin)
CREATED:20171121T093310
SUMMARY:CJA Coupe de Bronze Memorial Olivier Kling
URL;VALUE=URI:https://skivosges.net/agenda/a-venir/detailevenement/955/-/cja-coupe-de-bro
 nze-memorial-olivier-kling?tmpl=component
DESCRIPTION:CJA Coupe de Bronze Memorial Olivier Kling\n - Codex évenement AMVT0490\n -
  Station : LE TANET\n - Organisateur : 14140 LES AMIS DE LA NATURE MUNSTER\
 n - Courriel : RegularLabs.EmailProtector.unCloak("ep_3b5c179d");\n - Délég
 ué Technique : GLOHR FABIENPériode d'inscription à l'evènement du dimanche 
 11 février 2018 à 00:00 au vendredi 16 février 2018 à 18:00 (Inscriptions i
 mpossibles).Inscriptions ouvertes aux detenteurs des titres Fédéraux valide
 s suivants : Licenciés CompétiteursL'épreuve sera chronometrée avec les rés
 ultats publiés en direct (live)Epreuves :\n - Le dimanche 18 février 2018\n
  - Codex épreuve AMVM0491\n - Slalom Geant\n - Catégorie(s) : U12/U14 (Garç
 ons)\n - Le dimanche 18 février 2018\n - Codex épreuve AMVF0491\n - Slalom 
 Geant\n - Catégorie(s) : U12/U14 (Filles)\n - Le dimanche 18 février 2018\n
  - Codex épreuve AMVM0492\n - Slalom Geant\n - Catégorie(s) : U12/U14 (Garç
 ons)\n - Le dimanche 18 février 2018\n - Codex épreuve AMVF0492\n - Slalom 
 Geant\n - Catégorie(s) : U12/U14 (Filles)\n - Voir les informations dans l'
 agenda... (/index.php?option=com_jevents&amp;task=icalevent.detail&amp;evid
 =950&amp;Itemid=6289)\n - Vers les résultats... (/index.php?option=com_gski
 epreuves&amp;view=afficheresultats&amp;format_option=tous&amp;filter[search
 ]=AMVT0490&amp;filter[date_debut]=18-02-2018&amp;filter[date_fin]=18-02-201
 8&amp;code_activite=ALP&amp;Itemid=6289)\n - Publications concernant cet év
 ènement :\n - Vendredi 16 Février 2018 à 19:52 : Le 18/02/2018 LE TANET Lis
 te de départs Cet évènement a été importé depuis :https://skivosges.net/age
 nda/a-venir/detailevenement/955/-/cja-coupe-de-bronze-memorial-olivier-klin
 g?tmpl=component (https://skivosges.net/agenda/a-venir/detailevenement/955/
 -/cja-coupe-de-bronze-memorial-olivier-kling?tmpl=component)
X-ALT-DESC;FMTTYPE=text/html:<!-- #gskiepreuve code généré par le plugin jevents pour GskiEpreuves. Ne p
 as modifier cette ligne, ni tout le contenu suivant  #gskiepreuve --><div c
 lass="gski-evenement_infos"><div class="gski-evenement-nom">CJA Coupe de Br
 onze Memorial Olivier Kling</div><div class="gski-evenement-report"></div><
 ul class="gski-evenement-liste-infos"><li>Codex évenement AMVT0490</li><li>
 Station : LE TANET</li><li>Organisateur : 14140 LES AMIS DE LA NATURE MUNST
 ER</li><li>Courriel : <!-- Cette adresse électronique est protégée contre l
 es robots spammeurs. --><span class="cloaked_email ep_3b5c179d"><span data-
 ep-a="&#112;&#104;il&#105;" data-ep-b="g&#101;&#46;&#102;r"><span data-ep-b
 ="&#64;&#111;&#114;&#97;&#110;" data-ep-a="&#112;&#112;&#101;&#46;&#109;"><
 span data-ep-a="ar&#99;&#104;&#97;" data-ep-b="&#110;d&#53;&#52;&#55;"></sp
 an></span></span></span><script>RegularLabs.EmailProtector.unCloak("ep_3b5c
 179d");</script></li><li><span class="gski-evenement-obs">Délégué Technique
  : GLOHR FABIEN</span></li></ul><div class="gski-evenement-infos-2"><div cl
 ass="gski-evenement-info-inscriptions"><div class="gski-evenement-inscripti
 ons-periodes">Période d'inscription à l'evènement du dimanche 11 février 20
 18 à 00:00 au vendredi 16 février 2018 à 18:00 <span class="gski-evenement-
 inscriptions-impossibles">(Inscriptions impossibles).</span><div class="gsk
 i-evenement-inscriptions-types-titres">Inscriptions ouvertes aux detenteurs
  des titres Fédéraux valides suivants : Licenciés Compétiteurs</div></div><
 /div><div class="gski-evenement-info-live">L'épreuve sera chronometrée avec
  les résultats publiés en direct (live)</div><div class="gski-evenement-epr
 euves"><div class="gski-evenement-epreuves-titres">Epreuves :</div><ul clas
 s="gski-evenement-epreuves-list"><li><div class="gski-epreuve-date">Le dima
 nche 18 février 2018</div><ul class="gski-epreuve-liste-infos"><li>Codex ép
 reuve AMVM0491</li><li>Slalom Geant</li><li>Catégorie(s) : U12/U14 (Garçons
 )</li></ul></li><li><div class="gski-epreuve-date">Le dimanche 18 février 2
 018</div><ul class="gski-epreuve-liste-infos"><li>Codex épreuve AMVF0491</l
 i><li>Slalom Geant</li><li>Catégorie(s) : U12/U14 (Filles)</li></ul></li><l
 i><div class="gski-epreuve-date">Le dimanche 18 février 2018</div><ul class
 ="gski-epreuve-liste-infos"><li>Codex épreuve AMVM0492</li><li>Slalom Geant
 </li><li>Catégorie(s) : U12/U14 (Garçons)</li></ul></li><li><div class="gsk
 i-epreuve-date">Le dimanche 18 février 2018</div><ul class="gski-epreuve-li
 ste-infos"><li>Codex épreuve AMVF0492</li><li>Slalom Geant</li><li>Catégori
 e(s) : U12/U14 (Filles)</li></ul></li></ul></div><div class="gskiepreuves-l
 inks"><ul><li><a href="https://skivosges.net/index.php?option=com_jevents&t
 ask=icalevent.detail&evid=950&Itemid=6289">Voir les informations dans l'age
 nda...</a></li><li><a href="https://skivosges.net/index.php?option=com_gski
 epreuves&view=afficheresultats&format_option=tous&filter[search]=AMVT0490&f
 ilter[date_debut]=18-02-2018&filter[date_fin]=18-02-2018&code_activite=ALP&
 Itemid=6289">Vers les résultats...</a></li><li>Publications concernant cet 
 évènement :<ul><li><a href="https://skivosges.net/index.php?option=com_cont
 ent&view=article&id=6150&Itemid=6289">Vendredi 16 Février 2018 à 19:52 : Le
  18/02/2018 LE TANET Liste de départs</a></li></ul></li></ul></div></div"><
 !-- #/gskiepreuve fin du dode généré par le plugin jevents pour GskiEpreuve
 s. . Ne pas modifier cette ligne, ni tout le contenu précedant.  #/gskiepre
 uve --> <a href="https://skivosges.net/agenda/a-venir/detailevenement/955/-
 /cja-coupe-de-bronze-memorial-olivier-kling?tmpl=component">Cet évènement a
  été importé depuis :https://skivosges.net/agenda/a-venir/detailevenement/9
 55/-/cja-coupe-de-bronze-memorial-olivier-kling?tmpl=component</a>DTSTAMP:20260424T015210
DTSTART;TZID=Europe/Paris;VALUE=DATE:20180218
DTEND;TZID=Europe/Paris;VALUE=DATE:20180219
SEQUENCE:0
TRANSP:OPAQUE
END:VEVENT
END:VCALENDAR