BEGIN:VCALENDAR
VERSION:2.0
PRODID:-//jEvents 2.0 for Joomla//EN
CALSCALE:GREGORIAN
METHOD:PUBLISH
BEGIN:VTIMEZONE
TZID:Europe/Paris
BEGIN:STANDARD
DTSTART:20170217T000000
RDATE:20170326T030000
TZOFFSETFROM:+0200
TZOFFSETTO:+0100
TZNAME:Europe/Paris CET
END:STANDARD
BEGIN:STANDARD
DTSTART:20171029T020000
RDATE:20180325T030000
TZOFFSETFROM:+0200
TZOFFSETTO:+0100
TZNAME:Europe/Paris CET
END:STANDARD
BEGIN:STANDARD
DTSTART:20181028T020000
RDATE:20190331T030000
TZOFFSETFROM:+0200
TZOFFSETTO:+0100
TZNAME:Europe/Paris CET
END:STANDARD
BEGIN:STANDARD
DTSTART:20191027T020000
RDATE:20200329T030000
TZOFFSETFROM:+0200
TZOFFSETTO:+0100
TZNAME:Europe/Paris CET
END:STANDARD
BEGIN:STANDARD
DTSTART:20201025T020000
RDATE:20210328T030000
TZOFFSETFROM:+0200
TZOFFSETTO:+0100
TZNAME:Europe/Paris CET
END:STANDARD
BEGIN:STANDARD
DTSTART:20211031T020000
RDATE:20220327T030000
TZOFFSETFROM:+0200
TZOFFSETTO:+0100
TZNAME:Europe/Paris CET
END:STANDARD
BEGIN:STANDARD
DTSTART:20221030T020000
RDATE:20230326T030000
TZOFFSETFROM:+0200
TZOFFSETTO:+0100
TZNAME:Europe/Paris CET
END:STANDARD
BEGIN:STANDARD
DTSTART:20231029T020000
RDATE:20240331T030000
TZOFFSETFROM:+0200
TZOFFSETTO:+0100
TZNAME:Europe/Paris CET
END:STANDARD
BEGIN:STANDARD
DTSTART:20241027T020000
RDATE:20250330T030000
TZOFFSETFROM:+0200
TZOFFSETTO:+0100
TZNAME:Europe/Paris CET
END:STANDARD
BEGIN:STANDARD
DTSTART:20251026T020000
RDATE:20260329T030000
TZOFFSETFROM:+0200
TZOFFSETTO:+0100
TZNAME:Europe/Paris CET
END:STANDARD
BEGIN:STANDARD
DTSTART:20261025T020000
RDATE:20270328T030000
TZOFFSETFROM:+0200
TZOFFSETTO:+0100
TZNAME:Europe/Paris CET
END:STANDARD
BEGIN:DAYLIGHT
DTSTART:20170326T030000
RDATE:20171029T020000
TZOFFSETFROM:+0100
TZOFFSETTO:+0200
TZNAME:Europe/Paris CEST
END:DAYLIGHT
BEGIN:DAYLIGHT
DTSTART:20180325T030000
RDATE:20181028T020000
TZOFFSETFROM:+0100
TZOFFSETTO:+0200
TZNAME:Europe/Paris CEST
END:DAYLIGHT
BEGIN:DAYLIGHT
DTSTART:20190331T030000
RDATE:20191027T020000
TZOFFSETFROM:+0100
TZOFFSETTO:+0200
TZNAME:Europe/Paris CEST
END:DAYLIGHT
BEGIN:DAYLIGHT
DTSTART:20200329T030000
RDATE:20201025T020000
TZOFFSETFROM:+0100
TZOFFSETTO:+0200
TZNAME:Europe/Paris CEST
END:DAYLIGHT
BEGIN:DAYLIGHT
DTSTART:20210328T030000
RDATE:20211031T020000
TZOFFSETFROM:+0100
TZOFFSETTO:+0200
TZNAME:Europe/Paris CEST
END:DAYLIGHT
BEGIN:DAYLIGHT
DTSTART:20220327T030000
RDATE:20221030T020000
TZOFFSETFROM:+0100
TZOFFSETTO:+0200
TZNAME:Europe/Paris CEST
END:DAYLIGHT
BEGIN:DAYLIGHT
DTSTART:20230326T030000
RDATE:20231029T020000
TZOFFSETFROM:+0100
TZOFFSETTO:+0200
TZNAME:Europe/Paris CEST
END:DAYLIGHT
BEGIN:DAYLIGHT
DTSTART:20240331T030000
RDATE:20241027T020000
TZOFFSETFROM:+0100
TZOFFSETTO:+0200
TZNAME:Europe/Paris CEST
END:DAYLIGHT
BEGIN:DAYLIGHT
DTSTART:20250330T030000
RDATE:20251026T020000
TZOFFSETFROM:+0100
TZOFFSETTO:+0200
TZNAME:Europe/Paris CEST
END:DAYLIGHT
BEGIN:DAYLIGHT
DTSTART:20260329T030000
RDATE:20261025T020000
TZOFFSETFROM:+0100
TZOFFSETTO:+0200
TZNAME:Europe/Paris CEST
END:DAYLIGHT
END:VTIMEZONE
BEGIN:VEVENT
UID:4133cd910850f7908649ae4b795c61b2
CATEGORIES:Opens et Promos (alpin)
CREATED:20171121T093310
SUMMARY:PROMO Dimanches de la Glisse
URL;VALUE=URI:https://skivosges.net/agenda/a-venir/detailevenement/957/-/promo-dimanches-
 de-la-glisse?tmpl=component
DESCRIPTION:PROMO Dimanches de la Glisse\n - Codex évenement AMVT0510\n - Station : CHA
 MP DU FEU\n - Piste : Petite Serva\n - Organisateur : 14485 SKI CLUB BELMON
 T CHAMP DU FEU\n - Courriel : RegularLabs.EmailProtector.unCloak("ep_489942
 2e");Période d'inscription à l'evènement du dimanche 11 février 2018 à 00:0
 0 au samedi 17 février 2018 à 18:00 (Inscriptions impossibles).Inscriptions
  ouvertes aux detenteurs des titres Fédéraux valides suivants : Licenciés C
 ompétiteurs et Titres Loisirs et DirigeantsEpreuves :\n - Le dimanche 18 fé
 vrier 2018\n - Codex épreuve AMVM0511\n - Slalom Geant\n - Catégorie(s) : U
 8/U10 (Garçons)\n - Le dimanche 18 février 2018\n - Codex épreuve AMVF0511\
 n - Slalom Geant\n - Catégorie(s) : U8/U10 (Filles)\n - Le dimanche 18 févr
 ier 2018\n - Codex épreuve AMVM0512\n - Slalom Geant\n - Catégorie(s) : U12
  a U16 (Garçons)\n - Le dimanche 18 février 2018\n - Codex épreuve AMVF0512
 \n - Slalom Geant\n - Catégorie(s) : U12 a U16 (Filles)\n - Le dimanche 18 
 février 2018\n - Codex épreuve AMVF0513\n - Slalom Geant\n - Catégorie(s) :
  U18 a Masters (Dames)\n - Le dimanche 18 février 2018\n - Codex épreuve AM
 VM0513\n - Slalom Geant\n - Catégorie(s) : U18 a Masters (Hommes)\n - Voir 
 les informations dans l'agenda... (/index.php?option=com_jevents&amp;task=i
 calevent.detail&amp;evid=952&amp;Itemid=6289)\n - Vers les résultats... (/i
 ndex.php?option=com_gskiepreuves&amp;view=afficheresultats&amp;format_optio
 n=tous&amp;filter[search]=AMVT0510&amp;filter[date_debut]=18-02-2018&amp;fi
 lter[date_fin]=18-02-2018&amp;code_activite=ALP&amp;Itemid=6289) Cet évènem
 ent a été importé depuis :https://skivosges.net/agenda/a-venir/detailevenem
 ent/957/-/promo-dimanches-de-la-glisse?tmpl=component (https://skivosges.ne
 t/agenda/a-venir/detailevenement/957/-/promo-dimanches-de-la-glisse?tmpl=co
 mponent)
X-ALT-DESC;FMTTYPE=text/html:<!-- #gskiepreuve code généré par le plugin jevents pour GskiEpreuves. Ne p
 as modifier cette ligne, ni tout le contenu suivant  #gskiepreuve --><div c
 lass="gski-evenement_infos"><div class="gski-evenement-nom">PROMO Dimanches
  de la Glisse</div><div class="gski-evenement-report"></div><ul class="gski
 -evenement-liste-infos"><li>Codex évenement AMVT0510</li><li>Station : CHAM
 P DU FEU</li><li>Piste : Petite Serva</li><li>Organisateur : 14485 SKI CLUB
  BELMONT CHAMP DU FEU</li><li>Courriel : <!-- Cette adresse électronique es
 t protégée contre les robots spammeurs. --><span class="cloaked_email ep_48
 99422e"><span data-ep-a="&#112;&#104;i&#108;." data-ep-b=""><span data-ep-a
 ="&#115;c&#104;e&#112;" data-ep-b="&#111;&#111;&#46;fr"><span data-ep-b="&#
 119;a&#110;&#97;d" data-ep-a="&#112;&#108;&#101;&#114;&#64;"></span></span>
 </span></span><script>RegularLabs.EmailProtector.unCloak("ep_4899422e");</s
 cript></li></ul><div class="gski-evenement-infos-2"><div class="gski-evenem
 ent-info-inscriptions"><div class="gski-evenement-inscriptions-periodes">Pé
 riode d'inscription à l'evènement du dimanche 11 février 2018 à 00:00 au sa
 medi 17 février 2018 à 18:00 <span class="gski-evenement-inscriptions-impos
 sibles">(Inscriptions impossibles).</span><div class="gski-evenement-inscri
 ptions-types-titres">Inscriptions ouvertes aux detenteurs des titres Fédéra
 ux valides suivants : Licenciés Compétiteurs et Titres Loisirs et Dirigeant
 s</div></div></div><div class="gski-evenement-epreuves"><div class="gski-ev
 enement-epreuves-titres">Epreuves :</div><ul class="gski-evenement-epreuves
 -list"><li><div class="gski-epreuve-date">Le dimanche 18 février 2018</div>
 <ul class="gski-epreuve-liste-infos"><li>Codex épreuve AMVM0511</li><li>Sla
 lom Geant</li><li>Catégorie(s) : U8/U10 (Garçons)</li></ul></li><li><div cl
 ass="gski-epreuve-date">Le dimanche 18 février 2018</div><ul class="gski-ep
 reuve-liste-infos"><li>Codex épreuve AMVF0511</li><li>Slalom Geant</li><li>
 Catégorie(s) : U8/U10 (Filles)</li></ul></li><li><div class="gski-epreuve-d
 ate">Le dimanche 18 février 2018</div><ul class="gski-epreuve-liste-infos">
 <li>Codex épreuve AMVM0512</li><li>Slalom Geant</li><li>Catégorie(s) : U12 
 a U16 (Garçons)</li></ul></li><li><div class="gski-epreuve-date">Le dimanch
 e 18 février 2018</div><ul class="gski-epreuve-liste-infos"><li>Codex épreu
 ve AMVF0512</li><li>Slalom Geant</li><li>Catégorie(s) : U12 a U16 (Filles)<
 /li></ul></li><li><div class="gski-epreuve-date">Le dimanche 18 février 201
 8</div><ul class="gski-epreuve-liste-infos"><li>Codex épreuve AMVF0513</li>
 <li>Slalom Geant</li><li>Catégorie(s) : U18 a Masters (Dames)</li></ul></li
 ><li><div class="gski-epreuve-date">Le dimanche 18 février 2018</div><ul cl
 ass="gski-epreuve-liste-infos"><li>Codex épreuve AMVM0513</li><li>Slalom Ge
 ant</li><li>Catégorie(s) : U18 a Masters (Hommes)</li></ul></li></ul></div>
 <div class="gskiepreuves-links"><ul><li><a href="https://skivosges.net/inde
 x.php?option=com_jevents&task=icalevent.detail&evid=952&Itemid=6289">Voir l
 es informations dans l'agenda...</a></li><li><a href="https://skivosges.net
 /index.php?option=com_gskiepreuves&view=afficheresultats&format_option=tous
 &filter[search]=AMVT0510&filter[date_debut]=18-02-2018&filter[date_fin]=18-
 02-2018&code_activite=ALP&Itemid=6289">Vers les résultats...</a></li></ul><
 /div></div"><!-- #/gskiepreuve fin du dode généré par le plugin jevents pou
 r GskiEpreuves. . Ne pas modifier cette ligne, ni tout le contenu précedant
 .  #/gskiepreuve --> <a href="https://skivosges.net/agenda/a-venir/detailev
 enement/957/-/promo-dimanches-de-la-glisse?tmpl=component">Cet évènement a 
 été importé depuis :https://skivosges.net/agenda/a-venir/detailevenement/95
 7/-/promo-dimanches-de-la-glisse?tmpl=component</a>DTSTAMP:20260424T030440
DTSTART;TZID=Europe/Paris;VALUE=DATE:20180218
DTEND;TZID=Europe/Paris;VALUE=DATE:20180219
SEQUENCE:0
TRANSP:OPAQUE
END:VEVENT
END:VCALENDAR