BEGIN:VCALENDAR
VERSION:2.0
PRODID:-//jEvents 2.0 for Joomla//EN
CALSCALE:GREGORIAN
METHOD:PUBLISH
BEGIN:VTIMEZONE
TZID:Europe/Paris
BEGIN:STANDARD
DTSTART:20170223T000000
RDATE:20170326T030000
TZOFFSETFROM:+0200
TZOFFSETTO:+0100
TZNAME:Europe/Paris CET
END:STANDARD
BEGIN:STANDARD
DTSTART:20171029T020000
RDATE:20180325T030000
TZOFFSETFROM:+0200
TZOFFSETTO:+0100
TZNAME:Europe/Paris CET
END:STANDARD
BEGIN:STANDARD
DTSTART:20181028T020000
RDATE:20190331T030000
TZOFFSETFROM:+0200
TZOFFSETTO:+0100
TZNAME:Europe/Paris CET
END:STANDARD
BEGIN:STANDARD
DTSTART:20191027T020000
RDATE:20200329T030000
TZOFFSETFROM:+0200
TZOFFSETTO:+0100
TZNAME:Europe/Paris CET
END:STANDARD
BEGIN:STANDARD
DTSTART:20201025T020000
RDATE:20210328T030000
TZOFFSETFROM:+0200
TZOFFSETTO:+0100
TZNAME:Europe/Paris CET
END:STANDARD
BEGIN:STANDARD
DTSTART:20211031T020000
RDATE:20220327T030000
TZOFFSETFROM:+0200
TZOFFSETTO:+0100
TZNAME:Europe/Paris CET
END:STANDARD
BEGIN:STANDARD
DTSTART:20221030T020000
RDATE:20230326T030000
TZOFFSETFROM:+0200
TZOFFSETTO:+0100
TZNAME:Europe/Paris CET
END:STANDARD
BEGIN:STANDARD
DTSTART:20231029T020000
RDATE:20240331T030000
TZOFFSETFROM:+0200
TZOFFSETTO:+0100
TZNAME:Europe/Paris CET
END:STANDARD
BEGIN:STANDARD
DTSTART:20241027T020000
RDATE:20250330T030000
TZOFFSETFROM:+0200
TZOFFSETTO:+0100
TZNAME:Europe/Paris CET
END:STANDARD
BEGIN:STANDARD
DTSTART:20251026T020000
RDATE:20260329T030000
TZOFFSETFROM:+0200
TZOFFSETTO:+0100
TZNAME:Europe/Paris CET
END:STANDARD
BEGIN:STANDARD
DTSTART:20261025T020000
RDATE:20270328T030000
TZOFFSETFROM:+0200
TZOFFSETTO:+0100
TZNAME:Europe/Paris CET
END:STANDARD
BEGIN:DAYLIGHT
DTSTART:20170326T030000
RDATE:20171029T020000
TZOFFSETFROM:+0100
TZOFFSETTO:+0200
TZNAME:Europe/Paris CEST
END:DAYLIGHT
BEGIN:DAYLIGHT
DTSTART:20180325T030000
RDATE:20181028T020000
TZOFFSETFROM:+0100
TZOFFSETTO:+0200
TZNAME:Europe/Paris CEST
END:DAYLIGHT
BEGIN:DAYLIGHT
DTSTART:20190331T030000
RDATE:20191027T020000
TZOFFSETFROM:+0100
TZOFFSETTO:+0200
TZNAME:Europe/Paris CEST
END:DAYLIGHT
BEGIN:DAYLIGHT
DTSTART:20200329T030000
RDATE:20201025T020000
TZOFFSETFROM:+0100
TZOFFSETTO:+0200
TZNAME:Europe/Paris CEST
END:DAYLIGHT
BEGIN:DAYLIGHT
DTSTART:20210328T030000
RDATE:20211031T020000
TZOFFSETFROM:+0100
TZOFFSETTO:+0200
TZNAME:Europe/Paris CEST
END:DAYLIGHT
BEGIN:DAYLIGHT
DTSTART:20220327T030000
RDATE:20221030T020000
TZOFFSETFROM:+0100
TZOFFSETTO:+0200
TZNAME:Europe/Paris CEST
END:DAYLIGHT
BEGIN:DAYLIGHT
DTSTART:20230326T030000
RDATE:20231029T020000
TZOFFSETFROM:+0100
TZOFFSETTO:+0200
TZNAME:Europe/Paris CEST
END:DAYLIGHT
BEGIN:DAYLIGHT
DTSTART:20240331T030000
RDATE:20241027T020000
TZOFFSETFROM:+0100
TZOFFSETTO:+0200
TZNAME:Europe/Paris CEST
END:DAYLIGHT
BEGIN:DAYLIGHT
DTSTART:20250330T030000
RDATE:20251026T020000
TZOFFSETFROM:+0100
TZOFFSETTO:+0200
TZNAME:Europe/Paris CEST
END:DAYLIGHT
BEGIN:DAYLIGHT
DTSTART:20260329T030000
RDATE:20261025T020000
TZOFFSETFROM:+0100
TZOFFSETTO:+0200
TZNAME:Europe/Paris CEST
END:DAYLIGHT
END:VTIMEZONE
BEGIN:VEVENT
UID:61d2fb34ab5fa3e4750fdb572c00c6da
CATEGORIES:Compétition Saut
CREATED:20171121T093310
SUMMARY:BUSSANG  / Larcenaire - Coupe des Vosges Larcenaire K30m K15m
URL;VALUE=URI:https://skivosges.net/agenda/a-venir/detailevenement/960/-/bussang-larcenai
 re-coupe-des-vosges-larcenaire-k30m-k15m?tmpl=component
DESCRIPTION:<!-- #gskiepreuve code généré par le plugin jevents pour GskiEpreuves. Ne p
 as modifier cette ligne, ni tout le contenu suivant  #gskiepreuve --><div c
 lass="gski-evenement_infos"><div class="gski-evenement-nom">BUSSANG  / Larc
 enaire - Coupe des Vosges Larcenaire K30m K15m</div><div class="gski-evenem
 ent-report"></div><ul class="gski-evenement-liste-infos"><li>Codex évenemen
 t TMVT0100</li><li>Station : BUSSANG LARCENAIRE</li><li>Organisateur : 1400
 7 UNION SPORTIVE BUSSANG</li></ul><div class="gski-evenement-infos-2"><div 
 class="gski-evenement-info-inscriptions"><div class="gski-evenement-inscrip
 tions-periodes">Période d'inscription à l'evènement du samedi 17 février 20
 18 à 00:00 au jeudi 22 février 2018 à 12:00 <span class="gski-evenement-ins
 criptions-impossibles">(Inscriptions impossibles).</span><div class="gski-e
 venement-inscriptions-types-titres">Inscriptions ouvertes aux detenteurs de
 s titres Fédéraux valides suivants : Licenciés Compétiteurs</div></div></di
 v><div class="gski-evenement-epreuves"><div class="gski-evenement-epreuves-
 titres">Epreuves :</div><ul class="gski-evenement-epreuves-list"><li><div c
 lass="gski-epreuve-date">Le samedi 24 février 2018</div><ul class="gski-epr
 euve-liste-infos"><li>Codex épreuve TMVF0101</li><li>Saut Special</li><li>C
 atégorie(s) : U7 a U20 (Filles)</li></ul></li><li><div class="gski-epreuve-
 date">Le samedi 24 février 2018</div><ul class="gski-epreuve-liste-infos"><
 li>Codex épreuve TMVF0102</li><li>Saut Special</li><li>Catégorie(s) : Senio
 r (Dames)</li></ul></li><li><div class="gski-epreuve-date">Le samedi 24 fév
 rier 2018</div><ul class="gski-epreuve-liste-infos"><li>Codex épreuve TMVM0
 101</li><li>Saut Special</li><li>Catégorie(s) : U7 a U20 (Garçons)</li></ul
 ></li><li><div class="gski-epreuve-date">Le samedi 24 février 2018</div><ul
  class="gski-epreuve-liste-infos"><li>Codex épreuve TMVM0102</li><li>Saut S
 pecial</li><li>Catégorie(s) : Senior (Hommes)</li></ul></li></ul></div><div
  class="gskiepreuves-links"><ul><li><a href="/index.php?option=com_jevents&
 task=icalevent.detail&evid=955&Itemid=6289">Voir les informations dans l'ag
 enda...</a></li></ul></div></div"><!-- #/gskiepreuve fin du dode généré par
  le plugin jevents pour GskiEpreuves. . Ne pas modifier cette ligne, ni tou
 t le contenu précedant.  #/gskiepreuve --> <a href="https://skivosges.net/a
 genda/a-venir/detailevenement/960/-/bussang-larcenaire-coupe-des-vosges-lar
 cenaire-k30m-k15m?tmpl=component">Cet évènement a été importé depuis :https
 ://skivosges.net/agenda/a-venir/detailevenement/960/-/bussang-larcenaire-co
 upe-des-vosges-larcenaire-k30m-k15m?tmpl=component</a>
X-ALT-DESC;FMTTYPE=text/html:<!-- #gskiepreuve code généré par le plugin jevents pour GskiEpreuves. Ne p
 as modifier cette ligne, ni tout le contenu suivant  #gskiepreuve --><div c
 lass="gski-evenement_infos"><div class="gski-evenement-nom">BUSSANG  / Larc
 enaire - Coupe des Vosges Larcenaire K30m K15m</div><div class="gski-evenem
 ent-report"></div><ul class="gski-evenement-liste-infos"><li>Codex évenemen
 t TMVT0100</li><li>Station : BUSSANG LARCENAIRE</li><li>Organisateur : 1400
 7 UNION SPORTIVE BUSSANG</li></ul><div class="gski-evenement-infos-2"><div 
 class="gski-evenement-info-inscriptions"><div class="gski-evenement-inscrip
 tions-periodes">Période d'inscription à l'evènement du samedi 17 février 20
 18 à 00:00 au jeudi 22 février 2018 à 12:00 <span class="gski-evenement-ins
 criptions-impossibles">(Inscriptions impossibles).</span><div class="gski-e
 venement-inscriptions-types-titres">Inscriptions ouvertes aux detenteurs de
 s titres Fédéraux valides suivants : Licenciés Compétiteurs</div></div></di
 v><div class="gski-evenement-epreuves"><div class="gski-evenement-epreuves-
 titres">Epreuves :</div><ul class="gski-evenement-epreuves-list"><li><div c
 lass="gski-epreuve-date">Le samedi 24 février 2018</div><ul class="gski-epr
 euve-liste-infos"><li>Codex épreuve TMVF0101</li><li>Saut Special</li><li>C
 atégorie(s) : U7 a U20 (Filles)</li></ul></li><li><div class="gski-epreuve-
 date">Le samedi 24 février 2018</div><ul class="gski-epreuve-liste-infos"><
 li>Codex épreuve TMVF0102</li><li>Saut Special</li><li>Catégorie(s) : Senio
 r (Dames)</li></ul></li><li><div class="gski-epreuve-date">Le samedi 24 fév
 rier 2018</div><ul class="gski-epreuve-liste-infos"><li>Codex épreuve TMVM0
 101</li><li>Saut Special</li><li>Catégorie(s) : U7 a U20 (Garçons)</li></ul
 ></li><li><div class="gski-epreuve-date">Le samedi 24 février 2018</div><ul
  class="gski-epreuve-liste-infos"><li>Codex épreuve TMVM0102</li><li>Saut S
 pecial</li><li>Catégorie(s) : Senior (Hommes)</li></ul></li></ul></div><div
  class="gskiepreuves-links"><ul><li><a href="https://skivosges.net/index.ph
 p?option=com_jevents&task=icalevent.detail&evid=955&Itemid=6289">Voir les i
 nformations dans l'agenda...</a></li></ul></div></div"><!-- #/gskiepreuve f
 in du dode généré par le plugin jevents pour GskiEpreuves. . Ne pas modifie
 r cette ligne, ni tout le contenu précedant.  #/gskiepreuve --> <a href="ht
 tps://skivosges.net/agenda/a-venir/detailevenement/960/-/bussang-larcenaire
 -coupe-des-vosges-larcenaire-k30m-k15m?tmpl=component">Cet évènement a été 
 importé depuis :https://skivosges.net/agenda/a-venir/detailevenement/960/-/
 bussang-larcenaire-coupe-des-vosges-larcenaire-k30m-k15m?tmpl=component</a>DTSTAMP:20260424T074015
DTSTART;TZID=Europe/Paris;VALUE=DATE:20180224
DTEND;TZID=Europe/Paris;VALUE=DATE:20180225
SEQUENCE:0
TRANSP:OPAQUE
END:VEVENT
END:VCALENDAR