BEGIN:VCALENDAR
VERSION:2.0
PRODID:-//jEvents 2.0 for Joomla//EN
CALSCALE:GREGORIAN
METHOD:PUBLISH
BEGIN:VTIMEZONE
TZID:Europe/Paris
BEGIN:STANDARD
DTSTART:20170223T000000
RDATE:20170326T030000
TZOFFSETFROM:+0200
TZOFFSETTO:+0100
TZNAME:Europe/Paris CET
END:STANDARD
BEGIN:STANDARD
DTSTART:20171029T020000
RDATE:20180325T030000
TZOFFSETFROM:+0200
TZOFFSETTO:+0100
TZNAME:Europe/Paris CET
END:STANDARD
BEGIN:STANDARD
DTSTART:20181028T020000
RDATE:20190331T030000
TZOFFSETFROM:+0200
TZOFFSETTO:+0100
TZNAME:Europe/Paris CET
END:STANDARD
BEGIN:STANDARD
DTSTART:20191027T020000
RDATE:20200329T030000
TZOFFSETFROM:+0200
TZOFFSETTO:+0100
TZNAME:Europe/Paris CET
END:STANDARD
BEGIN:STANDARD
DTSTART:20201025T020000
RDATE:20210328T030000
TZOFFSETFROM:+0200
TZOFFSETTO:+0100
TZNAME:Europe/Paris CET
END:STANDARD
BEGIN:STANDARD
DTSTART:20211031T020000
RDATE:20220327T030000
TZOFFSETFROM:+0200
TZOFFSETTO:+0100
TZNAME:Europe/Paris CET
END:STANDARD
BEGIN:STANDARD
DTSTART:20221030T020000
RDATE:20230326T030000
TZOFFSETFROM:+0200
TZOFFSETTO:+0100
TZNAME:Europe/Paris CET
END:STANDARD
BEGIN:STANDARD
DTSTART:20231029T020000
RDATE:20240331T030000
TZOFFSETFROM:+0200
TZOFFSETTO:+0100
TZNAME:Europe/Paris CET
END:STANDARD
BEGIN:STANDARD
DTSTART:20241027T020000
RDATE:20250330T030000
TZOFFSETFROM:+0200
TZOFFSETTO:+0100
TZNAME:Europe/Paris CET
END:STANDARD
BEGIN:STANDARD
DTSTART:20251026T020000
RDATE:20260329T030000
TZOFFSETFROM:+0200
TZOFFSETTO:+0100
TZNAME:Europe/Paris CET
END:STANDARD
BEGIN:STANDARD
DTSTART:20261025T020000
RDATE:20270328T030000
TZOFFSETFROM:+0200
TZOFFSETTO:+0100
TZNAME:Europe/Paris CET
END:STANDARD
BEGIN:DAYLIGHT
DTSTART:20170326T030000
RDATE:20171029T020000
TZOFFSETFROM:+0100
TZOFFSETTO:+0200
TZNAME:Europe/Paris CEST
END:DAYLIGHT
BEGIN:DAYLIGHT
DTSTART:20180325T030000
RDATE:20181028T020000
TZOFFSETFROM:+0100
TZOFFSETTO:+0200
TZNAME:Europe/Paris CEST
END:DAYLIGHT
BEGIN:DAYLIGHT
DTSTART:20190331T030000
RDATE:20191027T020000
TZOFFSETFROM:+0100
TZOFFSETTO:+0200
TZNAME:Europe/Paris CEST
END:DAYLIGHT
BEGIN:DAYLIGHT
DTSTART:20200329T030000
RDATE:20201025T020000
TZOFFSETFROM:+0100
TZOFFSETTO:+0200
TZNAME:Europe/Paris CEST
END:DAYLIGHT
BEGIN:DAYLIGHT
DTSTART:20210328T030000
RDATE:20211031T020000
TZOFFSETFROM:+0100
TZOFFSETTO:+0200
TZNAME:Europe/Paris CEST
END:DAYLIGHT
BEGIN:DAYLIGHT
DTSTART:20220327T030000
RDATE:20221030T020000
TZOFFSETFROM:+0100
TZOFFSETTO:+0200
TZNAME:Europe/Paris CEST
END:DAYLIGHT
BEGIN:DAYLIGHT
DTSTART:20230326T030000
RDATE:20231029T020000
TZOFFSETFROM:+0100
TZOFFSETTO:+0200
TZNAME:Europe/Paris CEST
END:DAYLIGHT
BEGIN:DAYLIGHT
DTSTART:20240331T030000
RDATE:20241027T020000
TZOFFSETFROM:+0100
TZOFFSETTO:+0200
TZNAME:Europe/Paris CEST
END:DAYLIGHT
BEGIN:DAYLIGHT
DTSTART:20250330T030000
RDATE:20251026T020000
TZOFFSETFROM:+0100
TZOFFSETTO:+0200
TZNAME:Europe/Paris CEST
END:DAYLIGHT
BEGIN:DAYLIGHT
DTSTART:20260329T030000
RDATE:20261025T020000
TZOFFSETFROM:+0100
TZOFFSETTO:+0200
TZNAME:Europe/Paris CEST
END:DAYLIGHT
END:VTIMEZONE
BEGIN:VEVENT
UID:94bcd27597ceb3da8a6685e4376e367a
CATEGORIES:Circuit Massif Jeunes (alpin)
CREATED:20171121T093310
SUMMARY:CJM Coupe d'Argent U12 Grand Prix Ville de Strasbourg
URL;VALUE=URI:https://skivosges.net/agenda/a-venir/detailevenement/961/-/cjm-coupe-dargen
 t-u12-grand-prix-ville-de-strasbourg?tmpl=component
DESCRIPTION:CJM Coupe d'Argent U12 Grand Prix Ville de Strasbourg\n - Codex évenement A
 MVT0530\n - Station : CHAMP DU FEU\n - Organisateur : 14077 SKIEURS DE STRA
 SBOURG\n - Courriel : RegularLabs.EmailProtector.unCloak("ep_4c7fc30b");\n 
 - Téléphone : 03 88 57 61 39\n - Délégué Technique : DODIN YVESPériode d'in
 scription à l'evènement du samedi 17 février 2018 à 00:00 au vendredi 23 fé
 vrier 2018 à 12:00 (Inscriptions impossibles).Inscriptions ouvertes aux det
 enteurs des titres Fédéraux valides suivants : Licenciés CompétiteursEpreuv
 es :\n - Le samedi 24 février 2018 à 10:00\n - Codex épreuve AMVM0531\n - S
 lalom\n - Catégorie(s) : U12 (Garçons)\n - Le samedi 24 février 2018 à 10:0
 0\n - Codex épreuve AMVF0531\n - Slalom\n - Catégorie(s) : U12 (Filles)\n -
  Le samedi 24 février 2018 à 10:00\n - Codex épreuve AMVM0532\n - Slalom\n 
 - Catégorie(s) : U12 (Garçons)\n - Le samedi 24 février 2018 à 10:00\n - Co
 dex épreuve AMVF0532\n - Slalom\n - Catégorie(s) : U12 (Filles)\n - Voir le
 s informations dans l'agenda... (/index.php?option=com_jevents&amp;task=ica
 levent.detail&amp;evid=956&amp;Itemid=6289)\n - Vers les résultats... (/ind
 ex.php?option=com_gskiepreuves&amp;view=afficheresultats&amp;format_option=
 tous&amp;filter[search]=AMVT0530&amp;filter[date_debut]=24-02-2018&amp;filt
 er[date_fin]=24-02-2018&amp;code_activite=ALP&amp;Itemid=6289)\n - Publicat
 ions concernant cet évènement :\n - Samedi 24 Février 2018 à 16:11 : Le 24/
 02/2018 CHAMP DU FEU Résultats\n - Mardi 20 Février 2018 à 20:36 : Le 24/02
 /2018 CHAMP DU FEU Informations Cet évènement a été importé depuis :https:/
 /skivosges.net/agenda/a-venir/detailevenement/961/-/cjm-coupe-dargent-u12-g
 rand-prix-ville-de-strasbourg?tmpl=component
X-ALT-DESC;FMTTYPE=text/html:<!-- #gskiepreuve code généré par le plugin jevents pour GskiEpreuves. Ne p
 as modifier cette ligne, ni tout le contenu suivant  #gskiepreuve --><div c
 lass="gski-evenement_infos"><div class="gski-evenement-nom">CJM Coupe d'Arg
 ent U12 Grand Prix Ville de Strasbourg</div><div class="gski-evenement-repo
 rt"></div><ul class="gski-evenement-liste-infos"><li>Codex évenement AMVT05
 30</li><li>Station : CHAMP DU FEU</li><li>Organisateur : 14077 SKIEURS DE S
 TRASBOURG</li><li>Courriel : <!-- Cette adresse électronique est protégée c
 ontre les robots spammeurs. --><span class="cloaked_email ep_4c7fc30b"><spa
 n data-ep-a="&#106;p&#104;&#46;" data-ep-b="fr"><span data-ep-a="h&#111;&#1
 08;&#119;" data-ep-b="&#110;&#103;e&#46;"><span data-ep-b="&#64;or&#97;" da
 ta-ep-a="&#101;g&#54;&#55;"></span></span></span></span><script>RegularLabs
 .EmailProtector.unCloak("ep_4c7fc30b");</script></li><li>Téléphone : 03 88 
 57 61 39</li><li><span class="gski-evenement-obs">Délégué Technique : DODIN
  YVES</span></li></ul><div class="gski-evenement-infos-2"><div class="gski-
 evenement-info-inscriptions"><div class="gski-evenement-inscriptions-period
 es">Période d'inscription à l'evènement du samedi 17 février 2018 à 00:00 a
 u vendredi 23 février 2018 à 12:00 <span class="gski-evenement-inscriptions
 -impossibles">(Inscriptions impossibles).</span><div class="gski-evenement-
 inscriptions-types-titres">Inscriptions ouvertes aux detenteurs des titres 
 Fédéraux valides suivants : Licenciés Compétiteurs</div></div></div><div cl
 ass="gski-evenement-epreuves"><div class="gski-evenement-epreuves-titres">E
 preuves :</div><ul class="gski-evenement-epreuves-list"><li><div class="gsk
 i-epreuve-date">Le samedi 24 février 2018 à 10:00</div><ul class="gski-epre
 uve-liste-infos"><li>Codex épreuve AMVM0531</li><li>Slalom</li><li>Catégori
 e(s) : U12 (Garçons)</li></ul></li><li><div class="gski-epreuve-date">Le sa
 medi 24 février 2018 à 10:00</div><ul class="gski-epreuve-liste-infos"><li>
 Codex épreuve AMVF0531</li><li>Slalom</li><li>Catégorie(s) : U12 (Filles)</
 li></ul></li><li><div class="gski-epreuve-date">Le samedi 24 février 2018 à
  10:00</div><ul class="gski-epreuve-liste-infos"><li>Codex épreuve AMVM0532
 </li><li>Slalom</li><li>Catégorie(s) : U12 (Garçons)</li></ul></li><li><div
  class="gski-epreuve-date">Le samedi 24 février 2018 à 10:00</div><ul class
 ="gski-epreuve-liste-infos"><li>Codex épreuve AMVF0532</li><li>Slalom</li><
 li>Catégorie(s) : U12 (Filles)</li></ul></li></ul></div><div class="gskiepr
 euves-links"><ul><li><a href="https://skivosges.net/index.php?option=com_je
 vents&task=icalevent.detail&evid=956&Itemid=6289">Voir les informations dan
 s l'agenda...</a></li><li><a href="https://skivosges.net/index.php?option=c
 om_gskiepreuves&view=afficheresultats&format_option=tous&filter[search]=AMV
 T0530&filter[date_debut]=24-02-2018&filter[date_fin]=24-02-2018&code_activi
 te=ALP&Itemid=6289">Vers les résultats...</a></li><li>Publications concerna
 nt cet évènement :<ul><li><a href="https://skivosges.net/index.php?option=c
 om_content&view=article&id=6184&Itemid=6289">Samedi 24 Février 2018 à 16:11
  : Le 24/02/2018 CHAMP DU FEU Résultats</a></li><li><a href="https://skivos
 ges.net/index.php?option=com_content&view=article&id=6166&Itemid=6289">Mard
 i 20 Février 2018 à 20:36 : Le 24/02/2018 CHAMP DU FEU Informations</a></li
 ></ul></li></ul></div></div"><!-- #/gskiepreuve fin du dode généré par le p
 lugin jevents pour GskiEpreuves. . Ne pas modifier cette ligne, ni tout le 
 contenu précedant.  #/gskiepreuve --> <a href="https://skivosges.net/agenda
 /a-venir/detailevenement/961/-/cjm-coupe-dargent-u12-grand-prix-ville-de-st
 rasbourg?tmpl=component">Cet évènement a été importé depuis :https://skivos
 ges.net/agenda/a-venir/detailevenement/961/-/cjm-coupe-dargent-u12-grand-pr
 ix-ville-de-strasbourg?tmpl=component</a>DTSTAMP:20260424T073928
DTSTART;TZID=Europe/Paris;VALUE=DATE:20180224
DTEND;TZID=Europe/Paris;VALUE=DATE:20180225
SEQUENCE:0
TRANSP:OPAQUE
END:VEVENT
END:VCALENDAR