BEGIN:VCALENDAR
VERSION:2.0
PRODID:-//jEvents 2.0 for Joomla//EN
CALSCALE:GREGORIAN
METHOD:PUBLISH
BEGIN:VTIMEZONE
TZID:Europe/Paris
BEGIN:STANDARD
DTSTART:20170227T000000
RDATE:20170326T030000
TZOFFSETFROM:+0200
TZOFFSETTO:+0100
TZNAME:Europe/Paris CET
END:STANDARD
BEGIN:STANDARD
DTSTART:20171029T020000
RDATE:20180325T030000
TZOFFSETFROM:+0200
TZOFFSETTO:+0100
TZNAME:Europe/Paris CET
END:STANDARD
BEGIN:STANDARD
DTSTART:20181028T020000
RDATE:20190331T030000
TZOFFSETFROM:+0200
TZOFFSETTO:+0100
TZNAME:Europe/Paris CET
END:STANDARD
BEGIN:STANDARD
DTSTART:20191027T020000
RDATE:20200329T030000
TZOFFSETFROM:+0200
TZOFFSETTO:+0100
TZNAME:Europe/Paris CET
END:STANDARD
BEGIN:STANDARD
DTSTART:20201025T020000
RDATE:20210328T030000
TZOFFSETFROM:+0200
TZOFFSETTO:+0100
TZNAME:Europe/Paris CET
END:STANDARD
BEGIN:STANDARD
DTSTART:20211031T020000
RDATE:20220327T030000
TZOFFSETFROM:+0200
TZOFFSETTO:+0100
TZNAME:Europe/Paris CET
END:STANDARD
BEGIN:STANDARD
DTSTART:20221030T020000
RDATE:20230326T030000
TZOFFSETFROM:+0200
TZOFFSETTO:+0100
TZNAME:Europe/Paris CET
END:STANDARD
BEGIN:STANDARD
DTSTART:20231029T020000
RDATE:20240331T030000
TZOFFSETFROM:+0200
TZOFFSETTO:+0100
TZNAME:Europe/Paris CET
END:STANDARD
BEGIN:STANDARD
DTSTART:20241027T020000
RDATE:20250330T030000
TZOFFSETFROM:+0200
TZOFFSETTO:+0100
TZNAME:Europe/Paris CET
END:STANDARD
BEGIN:STANDARD
DTSTART:20251026T020000
RDATE:20260329T030000
TZOFFSETFROM:+0200
TZOFFSETTO:+0100
TZNAME:Europe/Paris CET
END:STANDARD
BEGIN:STANDARD
DTSTART:20261025T020000
RDATE:20270328T030000
TZOFFSETFROM:+0200
TZOFFSETTO:+0100
TZNAME:Europe/Paris CET
END:STANDARD
BEGIN:DAYLIGHT
DTSTART:20170326T030000
RDATE:20171029T020000
TZOFFSETFROM:+0100
TZOFFSETTO:+0200
TZNAME:Europe/Paris CEST
END:DAYLIGHT
BEGIN:DAYLIGHT
DTSTART:20180325T030000
RDATE:20181028T020000
TZOFFSETFROM:+0100
TZOFFSETTO:+0200
TZNAME:Europe/Paris CEST
END:DAYLIGHT
BEGIN:DAYLIGHT
DTSTART:20190331T030000
RDATE:20191027T020000
TZOFFSETFROM:+0100
TZOFFSETTO:+0200
TZNAME:Europe/Paris CEST
END:DAYLIGHT
BEGIN:DAYLIGHT
DTSTART:20200329T030000
RDATE:20201025T020000
TZOFFSETFROM:+0100
TZOFFSETTO:+0200
TZNAME:Europe/Paris CEST
END:DAYLIGHT
BEGIN:DAYLIGHT
DTSTART:20210328T030000
RDATE:20211031T020000
TZOFFSETFROM:+0100
TZOFFSETTO:+0200
TZNAME:Europe/Paris CEST
END:DAYLIGHT
BEGIN:DAYLIGHT
DTSTART:20220327T030000
RDATE:20221030T020000
TZOFFSETFROM:+0100
TZOFFSETTO:+0200
TZNAME:Europe/Paris CEST
END:DAYLIGHT
BEGIN:DAYLIGHT
DTSTART:20230326T030000
RDATE:20231029T020000
TZOFFSETFROM:+0100
TZOFFSETTO:+0200
TZNAME:Europe/Paris CEST
END:DAYLIGHT
BEGIN:DAYLIGHT
DTSTART:20240331T030000
RDATE:20241027T020000
TZOFFSETFROM:+0100
TZOFFSETTO:+0200
TZNAME:Europe/Paris CEST
END:DAYLIGHT
BEGIN:DAYLIGHT
DTSTART:20250330T030000
RDATE:20251026T020000
TZOFFSETFROM:+0100
TZOFFSETTO:+0200
TZNAME:Europe/Paris CEST
END:DAYLIGHT
BEGIN:DAYLIGHT
DTSTART:20260329T030000
RDATE:20261025T020000
TZOFFSETFROM:+0100
TZOFFSETTO:+0200
TZNAME:Europe/Paris CEST
END:DAYLIGHT
END:VTIMEZONE
BEGIN:VEVENT
UID:59119ffbc3b1aff7832b7782e6d33d0c
CATEGORIES:Opens et Promos (alpin)
CREATED:20171121T093310
SUMMARY:PROMO Haribo Snow Kids Cup 2018 Epreuve 4 **REPORTE(E) au 02/03/2018**
URL;VALUE=URI:https://skivosges.net/agenda/a-venir/detailevenement/967/-/promo-haribo-sno
 w-kids-cup-2018-epreuve-4-reporte-e-au-02-03-2018?tmpl=component
DESCRIPTION:<!-- #gskiepreuve code généré par le plugin jevents pour GskiEpreuves. Ne p
 as modifier cette ligne, ni tout le contenu suivant  #gskiepreuve --><div c
 lass="gski-evenement_infos"><div class="gski-evenement-nom">PROMO Haribo Sn
 ow Kids Cup 2018 Epreuve 4</div><div class="gski-evenement-report"> <font c
 lass="gskiattention">(Epreuve reportée au 02/03/2018)</font></div><ul class
 ="gski-evenement-liste-infos"><li>Codex évenement AMVT0870</li><li>Lieu : S
 TADE DE SLALOM SERGE LANG</li><li>Station : MARKSTEIN</li><li>Piste : STADE
  DE SLALOM</li><li>Organisateur : 14186 S.C VALLEE DE WESSERLING</li><li>Co
 urriel : <!-- Cette adresse électronique est protégée contre les robots spa
 mmeurs. --><span class="cloaked_email ep_5d17073d"><span data-ep-b="m" data
 -ep-a="&#115;&#99;&#118;&#119;"><span data-ep-a="&#101;&#115;&#115;&#101;" 
 data-ep-b="&#108;&#46;c&#111;"><span data-ep-b="&#103;&#64;ao" data-ep-a="r
 &#108;&#105;n"></span></span></span></span><script>RegularLabs.EmailProtect
 or.unCloak("ep_5d17073d");</script></li><li>Téléphone : 03 89 82 78 08</li>
 <li><span class="gski-evenement-obs">Délégué Technique : MULLER JEAN CLAUDE
 </span></li></ul><div class="gski-evenement-infos-2"><div class="gski-evene
 ment-info-inscriptions"><div class="gski-evenement-inscriptions-periodes">P
 ériode d'inscription à l'evènement du vendredi 23 février 2018 à 12:00 au m
 ardi 27 février 2018 à 19:00 <span class="gski-evenement-inscriptions-impos
 sibles">(Inscriptions impossibles).</span><div class="gski-evenement-inscri
 ptions-types-titres">Inscriptions ouvertes aux detenteurs des titres Fédéra
 ux valides suivants : Licenciés Compétiteurs et Titres Loisirs et Dirigeant
 s</div></div></div><div class="gski-evenement-epreuves"><div class="gski-ev
 enement-epreuves-titres">Epreuves :</div><ul class="gski-evenement-epreuves
 -list"><li><div class="gski-epreuve-date">Le mercredi 28 février 2018</div>
 <ul class="gski-epreuve-liste-infos"><li>Codex épreuve AMVM0871</li><li>Sla
 lom Geant</li><li>Catégorie(s) : U8/U10 (Garçons)</li></ul></li><li><div cl
 ass="gski-epreuve-date">Le mercredi 28 février 2018</div><ul class="gski-ep
 reuve-liste-infos"><li>Codex épreuve AMVF0871</li><li>Slalom Geant</li><li>
 Catégorie(s) : U8/U10 (Filles)</li></ul></li><li><div class="gski-epreuve-d
 ate">Le mercredi 28 février 2018</div><ul class="gski-epreuve-liste-infos">
 <li>Codex épreuve AMVM0872</li><li>Slalom Geant</li><li>Catégorie(s) : U12 
 a U16 (Garçons)</li></ul></li><li><div class="gski-epreuve-date">Le mercred
 i 28 février 2018</div><ul class="gski-epreuve-liste-infos"><li>Codex épreu
 ve AMVF0872</li><li>Slalom Geant</li><li>Catégorie(s) : U12 a U16 (Filles)<
 /li></ul></li></ul></div><div class="gskiepreuves-links"><ul><li><a href="/
 index.php?option=com_jevents&task=icalevent.detail&evid=962&Itemid=6289">Vo
 ir les informations dans l'agenda...</a></li><li><a href="/index.php?option
 =com_gskiepreuves&view=afficheresultats&format_option=tous&filter[search]=A
 MVT0870&filter[date_debut]=02-03-2018&filter[date_fin]=02-03-2018&code_acti
 vite=ALP&Itemid=6289">Vers les résultats...</a></li></ul></div></div"><!-- 
 #/gskiepreuve fin du dode généré par le plugin jevents pour GskiEpreuves. .
  Ne pas modifier cette ligne, ni tout le contenu précedant.  #/gskiepreuve 
 --> <a href="https://skivosges.net/agenda/a-venir/detailevenement/967/-/pro
 mo-haribo-snow-kids-cup-2018-epreuve-4-reporte-e-au-02-03-2018?tmpl=compone
 nt">Cet évènement a été importé depuis :https://skivosges.net/agenda/a-veni
 r/detailevenement/967/-/promo-haribo-snow-kids-cup-2018-epreuve-4-reporte-e
 -au-02-03-2018?tmpl=component</a>
X-ALT-DESC;FMTTYPE=text/html:<!-- #gskiepreuve code généré par le plugin jevents pour GskiEpreuves. Ne p
 as modifier cette ligne, ni tout le contenu suivant  #gskiepreuve --><div c
 lass="gski-evenement_infos"><div class="gski-evenement-nom">PROMO Haribo Sn
 ow Kids Cup 2018 Epreuve 4</div><div class="gski-evenement-report"> <font c
 lass="gskiattention">(Epreuve reportée au 02/03/2018)</font></div><ul class
 ="gski-evenement-liste-infos"><li>Codex évenement AMVT0870</li><li>Lieu : S
 TADE DE SLALOM SERGE LANG</li><li>Station : MARKSTEIN</li><li>Piste : STADE
  DE SLALOM</li><li>Organisateur : 14186 S.C VALLEE DE WESSERLING</li><li>Co
 urriel : <!-- Cette adresse électronique est protégée contre les robots spa
 mmeurs. --><span class="cloaked_email ep_5d17073d"><span data-ep-b="m" data
 -ep-a="&#115;&#99;&#118;&#119;"><span data-ep-a="&#101;&#115;&#115;&#101;" 
 data-ep-b="&#108;&#46;c&#111;"><span data-ep-b="&#103;&#64;ao" data-ep-a="r
 &#108;&#105;n"></span></span></span></span><script>RegularLabs.EmailProtect
 or.unCloak("ep_5d17073d");</script></li><li>Téléphone : 03 89 82 78 08</li>
 <li><span class="gski-evenement-obs">Délégué Technique : MULLER JEAN CLAUDE
 </span></li></ul><div class="gski-evenement-infos-2"><div class="gski-evene
 ment-info-inscriptions"><div class="gski-evenement-inscriptions-periodes">P
 ériode d'inscription à l'evènement du vendredi 23 février 2018 à 12:00 au m
 ardi 27 février 2018 à 19:00 <span class="gski-evenement-inscriptions-impos
 sibles">(Inscriptions impossibles).</span><div class="gski-evenement-inscri
 ptions-types-titres">Inscriptions ouvertes aux detenteurs des titres Fédéra
 ux valides suivants : Licenciés Compétiteurs et Titres Loisirs et Dirigeant
 s</div></div></div><div class="gski-evenement-epreuves"><div class="gski-ev
 enement-epreuves-titres">Epreuves :</div><ul class="gski-evenement-epreuves
 -list"><li><div class="gski-epreuve-date">Le mercredi 28 février 2018</div>
 <ul class="gski-epreuve-liste-infos"><li>Codex épreuve AMVM0871</li><li>Sla
 lom Geant</li><li>Catégorie(s) : U8/U10 (Garçons)</li></ul></li><li><div cl
 ass="gski-epreuve-date">Le mercredi 28 février 2018</div><ul class="gski-ep
 reuve-liste-infos"><li>Codex épreuve AMVF0871</li><li>Slalom Geant</li><li>
 Catégorie(s) : U8/U10 (Filles)</li></ul></li><li><div class="gski-epreuve-d
 ate">Le mercredi 28 février 2018</div><ul class="gski-epreuve-liste-infos">
 <li>Codex épreuve AMVM0872</li><li>Slalom Geant</li><li>Catégorie(s) : U12 
 a U16 (Garçons)</li></ul></li><li><div class="gski-epreuve-date">Le mercred
 i 28 février 2018</div><ul class="gski-epreuve-liste-infos"><li>Codex épreu
 ve AMVF0872</li><li>Slalom Geant</li><li>Catégorie(s) : U12 a U16 (Filles)<
 /li></ul></li></ul></div><div class="gskiepreuves-links"><ul><li><a href="h
 ttps://skivosges.net/index.php?option=com_jevents&task=icalevent.detail&evi
 d=962&Itemid=6289">Voir les informations dans l'agenda...</a></li><li><a hr
 ef="https://skivosges.net/index.php?option=com_gskiepreuves&view=afficheres
 ultats&format_option=tous&filter[search]=AMVT0870&filter[date_debut]=02-03-
 2018&filter[date_fin]=02-03-2018&code_activite=ALP&Itemid=6289">Vers les ré
 sultats...</a></li></ul></div></div"><!-- #/gskiepreuve fin du dode généré 
 par le plugin jevents pour GskiEpreuves. . Ne pas modifier cette ligne, ni 
 tout le contenu précedant.  #/gskiepreuve --> <a href="https://skivosges.ne
 t/agenda/a-venir/detailevenement/967/-/promo-haribo-snow-kids-cup-2018-epre
 uve-4-reporte-e-au-02-03-2018?tmpl=component">Cet évènement a été importé d
 epuis :https://skivosges.net/agenda/a-venir/detailevenement/967/-/promo-har
 ibo-snow-kids-cup-2018-epreuve-4-reporte-e-au-02-03-2018?tmpl=component</a>DTSTAMP:20260424T074012
DTSTART;TZID=Europe/Paris;VALUE=DATE:20180228
DTEND;TZID=Europe/Paris;VALUE=DATE:20180301
SEQUENCE:0
TRANSP:OPAQUE
END:VEVENT
END:VCALENDAR