BEGIN:VCALENDAR
VERSION:2.0
PRODID:-//jEvents 2.0 for Joomla//EN
CALSCALE:GREGORIAN
METHOD:PUBLISH
BEGIN:VTIMEZONE
TZID:Europe/Paris
BEGIN:STANDARD
DTSTART:20170302T000000
RDATE:20170326T030000
TZOFFSETFROM:+0200
TZOFFSETTO:+0100
TZNAME:Europe/Paris CET
END:STANDARD
BEGIN:STANDARD
DTSTART:20171029T020000
RDATE:20180325T030000
TZOFFSETFROM:+0200
TZOFFSETTO:+0100
TZNAME:Europe/Paris CET
END:STANDARD
BEGIN:STANDARD
DTSTART:20181028T020000
RDATE:20190331T030000
TZOFFSETFROM:+0200
TZOFFSETTO:+0100
TZNAME:Europe/Paris CET
END:STANDARD
BEGIN:STANDARD
DTSTART:20191027T020000
RDATE:20200329T030000
TZOFFSETFROM:+0200
TZOFFSETTO:+0100
TZNAME:Europe/Paris CET
END:STANDARD
BEGIN:STANDARD
DTSTART:20201025T020000
RDATE:20210328T030000
TZOFFSETFROM:+0200
TZOFFSETTO:+0100
TZNAME:Europe/Paris CET
END:STANDARD
BEGIN:STANDARD
DTSTART:20211031T020000
RDATE:20220327T030000
TZOFFSETFROM:+0200
TZOFFSETTO:+0100
TZNAME:Europe/Paris CET
END:STANDARD
BEGIN:STANDARD
DTSTART:20221030T020000
RDATE:20230326T030000
TZOFFSETFROM:+0200
TZOFFSETTO:+0100
TZNAME:Europe/Paris CET
END:STANDARD
BEGIN:STANDARD
DTSTART:20231029T020000
RDATE:20240331T030000
TZOFFSETFROM:+0200
TZOFFSETTO:+0100
TZNAME:Europe/Paris CET
END:STANDARD
BEGIN:STANDARD
DTSTART:20241027T020000
RDATE:20250330T030000
TZOFFSETFROM:+0200
TZOFFSETTO:+0100
TZNAME:Europe/Paris CET
END:STANDARD
BEGIN:STANDARD
DTSTART:20251026T020000
RDATE:20260329T030000
TZOFFSETFROM:+0200
TZOFFSETTO:+0100
TZNAME:Europe/Paris CET
END:STANDARD
BEGIN:STANDARD
DTSTART:20261025T020000
RDATE:20270328T030000
TZOFFSETFROM:+0200
TZOFFSETTO:+0100
TZNAME:Europe/Paris CET
END:STANDARD
BEGIN:DAYLIGHT
DTSTART:20170326T030000
RDATE:20171029T020000
TZOFFSETFROM:+0100
TZOFFSETTO:+0200
TZNAME:Europe/Paris CEST
END:DAYLIGHT
BEGIN:DAYLIGHT
DTSTART:20180325T030000
RDATE:20181028T020000
TZOFFSETFROM:+0100
TZOFFSETTO:+0200
TZNAME:Europe/Paris CEST
END:DAYLIGHT
BEGIN:DAYLIGHT
DTSTART:20190331T030000
RDATE:20191027T020000
TZOFFSETFROM:+0100
TZOFFSETTO:+0200
TZNAME:Europe/Paris CEST
END:DAYLIGHT
BEGIN:DAYLIGHT
DTSTART:20200329T030000
RDATE:20201025T020000
TZOFFSETFROM:+0100
TZOFFSETTO:+0200
TZNAME:Europe/Paris CEST
END:DAYLIGHT
BEGIN:DAYLIGHT
DTSTART:20210328T030000
RDATE:20211031T020000
TZOFFSETFROM:+0100
TZOFFSETTO:+0200
TZNAME:Europe/Paris CEST
END:DAYLIGHT
BEGIN:DAYLIGHT
DTSTART:20220327T030000
RDATE:20221030T020000
TZOFFSETFROM:+0100
TZOFFSETTO:+0200
TZNAME:Europe/Paris CEST
END:DAYLIGHT
BEGIN:DAYLIGHT
DTSTART:20230326T030000
RDATE:20231029T020000
TZOFFSETFROM:+0100
TZOFFSETTO:+0200
TZNAME:Europe/Paris CEST
END:DAYLIGHT
BEGIN:DAYLIGHT
DTSTART:20240331T030000
RDATE:20241027T020000
TZOFFSETFROM:+0100
TZOFFSETTO:+0200
TZNAME:Europe/Paris CEST
END:DAYLIGHT
BEGIN:DAYLIGHT
DTSTART:20250330T030000
RDATE:20251026T020000
TZOFFSETFROM:+0100
TZOFFSETTO:+0200
TZNAME:Europe/Paris CEST
END:DAYLIGHT
BEGIN:DAYLIGHT
DTSTART:20260329T030000
RDATE:20261025T020000
TZOFFSETFROM:+0100
TZOFFSETTO:+0200
TZNAME:Europe/Paris CEST
END:DAYLIGHT
END:VTIMEZONE
BEGIN:VEVENT
UID:8da6316d795798701ce392786f4c0acb
CATEGORIES:Opens et Promos (alpin)
CREATED:20171121T093310
SUMMARY:PROMO Course de l'ESF de Gérardmer
URL;VALUE=URI:https://skivosges.net/agenda/a-venir/detailevenement/970/-/promo-course-de-
 lesf-de-gerardmer?tmpl=component
DESCRIPTION:PROMO Course de l'ESF de Gérardmer\n - Codex évenement AMVT0580\n - Lieu : 
 Stade\n - Station : GERARDMER\n - Organisateur : 14089 GERARDMER SKI ALPIN\
 n - Courriel : RegularLabs.EmailProtector.unCloak("ep_a69d1793");\n - Télép
 hone : 03 29 60 98 04\n - Délégué Technique : DODIN YVESPériode d'inscripti
 on à l'evènement du samedi 24 février 2018 à 00:00 au vendredi 02 mars 2018
  à 14:00 (Inscriptions impossibles).Inscriptions ouvertes aux detenteurs de
 s titres Fédéraux valides suivants : Licenciés Compétiteurs, Titres Loisirs
  et Dirigeants et Tickets courseL'épreuve sera chronometrée avec les résult
 ats publiés en direct (live)Epreuves :\n - Le samedi 03 mars 2018\n - Codex
  épreuve AMVM0581\n - Combine Race\n - Catégorie(s) : U8/U10 (Garçons)\n - 
 Le samedi 03 mars 2018\n - Codex épreuve AMVF0581\n - Combine Race\n - Caté
 gorie(s) : U8/U10 (Filles)\n - Le samedi 03 mars 2018\n - Codex épreuve AMV
 M0582\n - Combine Race\n - Catégorie(s) : U12 a U16 (Garçons)\n - Le samedi
  03 mars 2018\n - Codex épreuve AMVF0582\n - Combine Race\n - Catégorie(s) 
 : U12 a U16 (Filles)\n - Le samedi 03 mars 2018\n - Codex épreuve AMVM0583\
 n - Combine Race\n - Catégorie(s) : U18 a Masters (Hommes)\n - Le samedi 03
  mars 2018\n - Codex épreuve AMVF0583\n - Combine Race\n - Catégorie(s) : U
 18 a Masters (Dames)\n - Voir les informations dans l'agenda... (/index.php
 ?option=com_jevents&amp;task=icalevent.detail&amp;evid=965&amp;Itemid=6289)
 \n - Vers les résultats... (/index.php?option=com_gskiepreuves&amp;view=aff
 icheresultats&amp;format_option=tous&amp;filter[search]=AMVT0580&amp;filter
 [date_debut]=03-03-2018&amp;filter[date_fin]=03-03-2018&amp;code_activite=A
 LP&amp;Itemid=6289)\n - Publications concernant cet évènement :\n - Vendred
 i 2 Mars 2018 à 15:21 : Le 03/03/2018 GERARDMER Liste de départs Cet évènem
 ent a été importé depuis :https://skivosges.net/agenda/a-venir/detailevenem
 ent/970/-/promo-course-de-lesf-de-gerardmer?tmpl=component (https://skivosg
 es.net/agenda/a-venir/detailevenement/970/-/promo-course-de-lesf-de-gerardm
 er?tmpl=component)
X-ALT-DESC;FMTTYPE=text/html:<!-- #gskiepreuve code généré par le plugin jevents pour GskiEpreuves. Ne p
 as modifier cette ligne, ni tout le contenu suivant  #gskiepreuve --><div c
 lass="gski-evenement_infos"><div class="gski-evenement-nom">PROMO Course de
  l'ESF de Gérardmer</div><div class="gski-evenement-report"></div><ul class
 ="gski-evenement-liste-infos"><li>Codex évenement AMVT0580</li><li>Lieu : S
 tade</li><li>Station : GERARDMER</li><li>Organisateur : 14089 GERARDMER SKI
  ALPIN</li><li>Courriel : <!-- Cette adresse électronique est protégée cont
 re les robots spammeurs. --><span class="cloaked_email ep_a69d1793"><span d
 ata-ep-b="&#102;&#114;" data-ep-a="&#97;&#115;g&#115;&#107;"><span data-ep-
 b="adoo&#46;" data-ep-a="i.&#103;&#101;&#114;"><span data-ep-b="r&#64;&#119
 ;an" data-ep-a="ardme"></span></span></span></span><script>RegularLabs.Emai
 lProtector.unCloak("ep_a69d1793");</script></li><li>Téléphone : 03 29 60 98
  04</li><li><span class="gski-evenement-obs">Délégué Technique : DODIN YVES
 </span></li></ul><div class="gski-evenement-infos-2"><div class="gski-evene
 ment-info-inscriptions"><div class="gski-evenement-inscriptions-periodes">P
 ériode d'inscription à l'evènement du samedi 24 février 2018 à 00:00 au ven
 dredi 02 mars 2018 à 14:00 <span class="gski-evenement-inscriptions-impossi
 bles">(Inscriptions impossibles).</span><div class="gski-evenement-inscript
 ions-types-titres">Inscriptions ouvertes aux detenteurs des titres Fédéraux
  valides suivants : Licenciés Compétiteurs, Titres Loisirs et Dirigeants et
  Tickets course</div></div></div><div class="gski-evenement-info-live">L'ép
 reuve sera chronometrée avec les résultats publiés en direct (live)</div><d
 iv class="gski-evenement-epreuves"><div class="gski-evenement-epreuves-titr
 es">Epreuves :</div><ul class="gski-evenement-epreuves-list"><li><div class
 ="gski-epreuve-date">Le samedi 03 mars 2018</div><ul class="gski-epreuve-li
 ste-infos"><li>Codex épreuve AMVM0581</li><li>Combine Race</li><li>Catégori
 e(s) : U8/U10 (Garçons)</li></ul></li><li><div class="gski-epreuve-date">Le
  samedi 03 mars 2018</div><ul class="gski-epreuve-liste-infos"><li>Codex ép
 reuve AMVF0581</li><li>Combine Race</li><li>Catégorie(s) : U8/U10 (Filles)<
 /li></ul></li><li><div class="gski-epreuve-date">Le samedi 03 mars 2018</di
 v><ul class="gski-epreuve-liste-infos"><li>Codex épreuve AMVM0582</li><li>C
 ombine Race</li><li>Catégorie(s) : U12 a U16 (Garçons)</li></ul></li><li><d
 iv class="gski-epreuve-date">Le samedi 03 mars 2018</div><ul class="gski-ep
 reuve-liste-infos"><li>Codex épreuve AMVF0582</li><li>Combine Race</li><li>
 Catégorie(s) : U12 a U16 (Filles)</li></ul></li><li><div class="gski-epreuv
 e-date">Le samedi 03 mars 2018</div><ul class="gski-epreuve-liste-infos"><l
 i>Codex épreuve AMVM0583</li><li>Combine Race</li><li>Catégorie(s) : U18 a 
 Masters (Hommes)</li></ul></li><li><div class="gski-epreuve-date">Le samedi
  03 mars 2018</div><ul class="gski-epreuve-liste-infos"><li>Codex épreuve A
 MVF0583</li><li>Combine Race</li><li>Catégorie(s) : U18 a Masters (Dames)</
 li></ul></li></ul></div><div class="gskiepreuves-links"><ul><li><a href="ht
 tps://skivosges.net/index.php?option=com_jevents&task=icalevent.detail&evid
 =965&Itemid=6289">Voir les informations dans l'agenda...</a></li><li><a hre
 f="https://skivosges.net/index.php?option=com_gskiepreuves&view=afficheresu
 ltats&format_option=tous&filter[search]=AMVT0580&filter[date_debut]=03-03-2
 018&filter[date_fin]=03-03-2018&code_activite=ALP&Itemid=6289">Vers les rés
 ultats...</a></li><li>Publications concernant cet évènement :<ul><li><a hre
 f="https://skivosges.net/index.php?option=com_content&view=article&id=6205&
 Itemid=6289">Vendredi 2 Mars 2018 à 15:21 : Le 03/03/2018 GERARDMER Liste d
 e départs</a></li></ul></li></ul></div></div"><!-- #/gskiepreuve fin du dod
 e généré par le plugin jevents pour GskiEpreuves. . Ne pas modifier cette l
 igne, ni tout le contenu précedant.  #/gskiepreuve --> <a href="https://ski
 vosges.net/agenda/a-venir/detailevenement/970/-/promo-course-de-lesf-de-ger
 ardmer?tmpl=component">Cet évènement a été importé depuis :https://skivosge
 s.net/agenda/a-venir/detailevenement/970/-/promo-course-de-lesf-de-gerardme
 r?tmpl=component</a>DTSTAMP:20260424T083715
DTSTART;TZID=Europe/Paris;VALUE=DATE:20180303
DTEND;TZID=Europe/Paris;VALUE=DATE:20180304
SEQUENCE:0
TRANSP:OPAQUE
END:VEVENT
END:VCALENDAR