BEGIN:VCALENDAR
VERSION:2.0
PRODID:-//jEvents 2.0 for Joomla//EN
CALSCALE:GREGORIAN
METHOD:PUBLISH
BEGIN:VTIMEZONE
TZID:Europe/Paris
BEGIN:STANDARD
DTSTART:20170303T000000
RDATE:20170326T030000
TZOFFSETFROM:+0200
TZOFFSETTO:+0100
TZNAME:Europe/Paris CET
END:STANDARD
BEGIN:STANDARD
DTSTART:20171029T020000
RDATE:20180325T030000
TZOFFSETFROM:+0200
TZOFFSETTO:+0100
TZNAME:Europe/Paris CET
END:STANDARD
BEGIN:STANDARD
DTSTART:20181028T020000
RDATE:20190331T030000
TZOFFSETFROM:+0200
TZOFFSETTO:+0100
TZNAME:Europe/Paris CET
END:STANDARD
BEGIN:STANDARD
DTSTART:20191027T020000
RDATE:20200329T030000
TZOFFSETFROM:+0200
TZOFFSETTO:+0100
TZNAME:Europe/Paris CET
END:STANDARD
BEGIN:STANDARD
DTSTART:20201025T020000
RDATE:20210328T030000
TZOFFSETFROM:+0200
TZOFFSETTO:+0100
TZNAME:Europe/Paris CET
END:STANDARD
BEGIN:STANDARD
DTSTART:20211031T020000
RDATE:20220327T030000
TZOFFSETFROM:+0200
TZOFFSETTO:+0100
TZNAME:Europe/Paris CET
END:STANDARD
BEGIN:STANDARD
DTSTART:20221030T020000
RDATE:20230326T030000
TZOFFSETFROM:+0200
TZOFFSETTO:+0100
TZNAME:Europe/Paris CET
END:STANDARD
BEGIN:STANDARD
DTSTART:20231029T020000
RDATE:20240331T030000
TZOFFSETFROM:+0200
TZOFFSETTO:+0100
TZNAME:Europe/Paris CET
END:STANDARD
BEGIN:STANDARD
DTSTART:20241027T020000
RDATE:20250330T030000
TZOFFSETFROM:+0200
TZOFFSETTO:+0100
TZNAME:Europe/Paris CET
END:STANDARD
BEGIN:STANDARD
DTSTART:20251026T020000
RDATE:20260329T030000
TZOFFSETFROM:+0200
TZOFFSETTO:+0100
TZNAME:Europe/Paris CET
END:STANDARD
BEGIN:STANDARD
DTSTART:20261025T020000
RDATE:20270328T030000
TZOFFSETFROM:+0200
TZOFFSETTO:+0100
TZNAME:Europe/Paris CET
END:STANDARD
BEGIN:DAYLIGHT
DTSTART:20170326T030000
RDATE:20171029T020000
TZOFFSETFROM:+0100
TZOFFSETTO:+0200
TZNAME:Europe/Paris CEST
END:DAYLIGHT
BEGIN:DAYLIGHT
DTSTART:20180325T030000
RDATE:20181028T020000
TZOFFSETFROM:+0100
TZOFFSETTO:+0200
TZNAME:Europe/Paris CEST
END:DAYLIGHT
BEGIN:DAYLIGHT
DTSTART:20190331T030000
RDATE:20191027T020000
TZOFFSETFROM:+0100
TZOFFSETTO:+0200
TZNAME:Europe/Paris CEST
END:DAYLIGHT
BEGIN:DAYLIGHT
DTSTART:20200329T030000
RDATE:20201025T020000
TZOFFSETFROM:+0100
TZOFFSETTO:+0200
TZNAME:Europe/Paris CEST
END:DAYLIGHT
BEGIN:DAYLIGHT
DTSTART:20210328T030000
RDATE:20211031T020000
TZOFFSETFROM:+0100
TZOFFSETTO:+0200
TZNAME:Europe/Paris CEST
END:DAYLIGHT
BEGIN:DAYLIGHT
DTSTART:20220327T030000
RDATE:20221030T020000
TZOFFSETFROM:+0100
TZOFFSETTO:+0200
TZNAME:Europe/Paris CEST
END:DAYLIGHT
BEGIN:DAYLIGHT
DTSTART:20230326T030000
RDATE:20231029T020000
TZOFFSETFROM:+0100
TZOFFSETTO:+0200
TZNAME:Europe/Paris CEST
END:DAYLIGHT
BEGIN:DAYLIGHT
DTSTART:20240331T030000
RDATE:20241027T020000
TZOFFSETFROM:+0100
TZOFFSETTO:+0200
TZNAME:Europe/Paris CEST
END:DAYLIGHT
BEGIN:DAYLIGHT
DTSTART:20250330T030000
RDATE:20251026T020000
TZOFFSETFROM:+0100
TZOFFSETTO:+0200
TZNAME:Europe/Paris CEST
END:DAYLIGHT
BEGIN:DAYLIGHT
DTSTART:20260329T030000
RDATE:20261025T020000
TZOFFSETFROM:+0100
TZOFFSETTO:+0200
TZNAME:Europe/Paris CEST
END:DAYLIGHT
END:VTIMEZONE
BEGIN:VEVENT
UID:6ece1034d7a559c5724ca1580d95443b
CATEGORIES:Compétition Ski de Fond
CREATED:20171121T093310
SUMMARY:GRAND PRIX DE XONRUPT BIG-MAT-ATOMIC N°10 U16      CRÉDIT-MUTUEL N°7
URL;VALUE=URI:https://skivosges.net/agenda/a-venir/detailevenement/971/-/grand-prix-de-xo
 nrupt-big-mat-atomic-n-10-u16-credit-mutuel-n-7?tmpl=component
DESCRIPTION:<!-- #gskiepreuve code généré par le plugin jevents pour GskiEpreuves. Ne p
 as modifier cette ligne, ni tout le contenu suivant  #gskiepreuve --><div c
 lass="gski-evenement_infos"><div class="gski-evenement-nom">GRAND PRIX DE X
 ONRUPT BIG-MAT-ATOMIC N°10 U16      CRÉDIT-MUTUEL N°7</div><div class="gski
 -evenement-report"></div><ul class="gski-evenement-liste-infos"><li>Codex é
 venement FMVT0210</li><li>Station : XONRUPT</li><li>Organisateur : 14102 SK
 I CLUB XONRUPT</li><li>Courriel : <!-- Cette adresse électronique est proté
 gée contre les robots spammeurs. --><span class="cloaked_email ep_b963b3af"
 ><span data-ep-a="&#114;emy" data-ep-b="&#109;"><span data-ep-b="&#108;&#46
 ;&#99;o" data-ep-a="a&#108;&#97;&#105;"><span data-ep-a="n&#56;&#56;&#64;" 
 data-ep-b="gma&#105;"></span></span></span></span><script>RegularLabs.Email
 Protector.unCloak("ep_b963b3af");</script></li><li><span class="gski-evenem
 ent-obs">Délégué Technique : VIAL MICHEL</span></li></ul><div class="gski-e
 venement-infos-2"><div class="gski-evenement-info-inscriptions"><div class=
 "gski-evenement-inscriptions-periodes">Période d'inscription à l'evènement 
 du dimanche 25 février 2018 à 00:00 au vendredi 02 mars 2018 à 17:00 <span 
 class="gski-evenement-inscriptions-impossibles">(Inscriptions impossibles).
 </span><div class="gski-evenement-inscriptions-types-titres">Inscriptions o
 uvertes aux detenteurs des titres Fédéraux valides suivants : Licenciés Com
 pétiteurs</div></div></div><div class="gski-evenement-epreuves"><div class=
 "gski-evenement-epreuves-titres">Epreuves :</div><ul class="gski-evenement-
 epreuves-list"><li><div class="gski-epreuve-date">Le dimanche 04 mars 2018<
 /div><ul class="gski-epreuve-liste-infos"><li>Codex épreuve FMVF0211</li><l
 i>Mass Start (Depart ligne)</li><li>Catégorie(s) : U16 (Filles)</li></ul></
 li><li><div class="gski-epreuve-date">Le dimanche 04 mars 2018</div><ul cla
 ss="gski-epreuve-liste-infos"><li>Codex épreuve FMVF0212</li><li>Mass Start
  (Depart ligne)</li><li>Catégorie(s) : U18/U20 (Dames)</li></ul></li><li><d
 iv class="gski-epreuve-date">Le dimanche 04 mars 2018</div><ul class="gski-
 epreuve-liste-infos"><li>Codex épreuve FMVF0213</li><li>Mass Start (Depart 
 ligne)</li><li>Catégorie(s) : Senior (Dames)</li></ul></li><li><div class="
 gski-epreuve-date">Le dimanche 04 mars 2018</div><ul class="gski-epreuve-li
 ste-infos"><li>Codex épreuve FMVM0211</li><li>Mass Start (Depart ligne)</li
 ><li>Catégorie(s) : U16 (Garçons)</li></ul></li><li><div class="gski-epreuv
 e-date">Le dimanche 04 mars 2018</div><ul class="gski-epreuve-liste-infos">
 <li>Codex épreuve FMVM0212</li><li>Mass Start (Depart ligne)</li><li>Catégo
 rie(s) : U18/U20 (Hommes)</li></ul></li><li><div class="gski-epreuve-date">
 Le dimanche 04 mars 2018</div><ul class="gski-epreuve-liste-infos"><li>Code
 x épreuve FMVM0213</li><li>Mass Start (Depart ligne)</li><li>Catégorie(s) :
  Senior (Hommes)</li></ul></li></ul></div><div class="gskiepreuves-links"><
 ul><li><a href="/index.php?option=com_jevents&task=icalevent.detail&evid=96
 6&Itemid=6289">Voir les informations dans l'agenda...</a></li><li><a href="
 /index.php?option=com_gskiepreuves&view=afficheresultats&format_option=tous
 &filter[search]=FMVT0210&filter[date_debut]=04-03-2018&filter[date_fin]=04-
 03-2018&code_activite=FOND&Itemid=6289">Vers les résultats...</a></li></ul>
 </div></div"><!-- #/gskiepreuve fin du dode généré par le plugin jevents po
 ur GskiEpreuves. . Ne pas modifier cette ligne, ni tout le contenu précedan
 t.  #/gskiepreuve --> <a href="https://skivosges.net/agenda/a-venir/detaile
 venement/971/-/grand-prix-de-xonrupt-big-mat-atomic-n-10-u16-credit-mutuel-
 n-7?tmpl=component">Cet évènement a été importé depuis :https://skivosges.n
 et/agenda/a-venir/detailevenement/971/-/grand-prix-de-xonrupt-big-mat-atomi
 c-n-10-u16-credit-mutuel-n-7?tmpl=component</a>
X-ALT-DESC;FMTTYPE=text/html:<!-- #gskiepreuve code généré par le plugin jevents pour GskiEpreuves. Ne p
 as modifier cette ligne, ni tout le contenu suivant  #gskiepreuve --><div c
 lass="gski-evenement_infos"><div class="gski-evenement-nom">GRAND PRIX DE X
 ONRUPT BIG-MAT-ATOMIC N°10 U16      CRÉDIT-MUTUEL N°7</div><div class="gski
 -evenement-report"></div><ul class="gski-evenement-liste-infos"><li>Codex é
 venement FMVT0210</li><li>Station : XONRUPT</li><li>Organisateur : 14102 SK
 I CLUB XONRUPT</li><li>Courriel : <!-- Cette adresse électronique est proté
 gée contre les robots spammeurs. --><span class="cloaked_email ep_b963b3af"
 ><span data-ep-a="&#114;emy" data-ep-b="&#109;"><span data-ep-b="&#108;&#46
 ;&#99;o" data-ep-a="a&#108;&#97;&#105;"><span data-ep-a="n&#56;&#56;&#64;" 
 data-ep-b="gma&#105;"></span></span></span></span><script>RegularLabs.Email
 Protector.unCloak("ep_b963b3af");</script></li><li><span class="gski-evenem
 ent-obs">Délégué Technique : VIAL MICHEL</span></li></ul><div class="gski-e
 venement-infos-2"><div class="gski-evenement-info-inscriptions"><div class=
 "gski-evenement-inscriptions-periodes">Période d'inscription à l'evènement 
 du dimanche 25 février 2018 à 00:00 au vendredi 02 mars 2018 à 17:00 <span 
 class="gski-evenement-inscriptions-impossibles">(Inscriptions impossibles).
 </span><div class="gski-evenement-inscriptions-types-titres">Inscriptions o
 uvertes aux detenteurs des titres Fédéraux valides suivants : Licenciés Com
 pétiteurs</div></div></div><div class="gski-evenement-epreuves"><div class=
 "gski-evenement-epreuves-titres">Epreuves :</div><ul class="gski-evenement-
 epreuves-list"><li><div class="gski-epreuve-date">Le dimanche 04 mars 2018<
 /div><ul class="gski-epreuve-liste-infos"><li>Codex épreuve FMVF0211</li><l
 i>Mass Start (Depart ligne)</li><li>Catégorie(s) : U16 (Filles)</li></ul></
 li><li><div class="gski-epreuve-date">Le dimanche 04 mars 2018</div><ul cla
 ss="gski-epreuve-liste-infos"><li>Codex épreuve FMVF0212</li><li>Mass Start
  (Depart ligne)</li><li>Catégorie(s) : U18/U20 (Dames)</li></ul></li><li><d
 iv class="gski-epreuve-date">Le dimanche 04 mars 2018</div><ul class="gski-
 epreuve-liste-infos"><li>Codex épreuve FMVF0213</li><li>Mass Start (Depart 
 ligne)</li><li>Catégorie(s) : Senior (Dames)</li></ul></li><li><div class="
 gski-epreuve-date">Le dimanche 04 mars 2018</div><ul class="gski-epreuve-li
 ste-infos"><li>Codex épreuve FMVM0211</li><li>Mass Start (Depart ligne)</li
 ><li>Catégorie(s) : U16 (Garçons)</li></ul></li><li><div class="gski-epreuv
 e-date">Le dimanche 04 mars 2018</div><ul class="gski-epreuve-liste-infos">
 <li>Codex épreuve FMVM0212</li><li>Mass Start (Depart ligne)</li><li>Catégo
 rie(s) : U18/U20 (Hommes)</li></ul></li><li><div class="gski-epreuve-date">
 Le dimanche 04 mars 2018</div><ul class="gski-epreuve-liste-infos"><li>Code
 x épreuve FMVM0213</li><li>Mass Start (Depart ligne)</li><li>Catégorie(s) :
  Senior (Hommes)</li></ul></li></ul></div><div class="gskiepreuves-links"><
 ul><li><a href="https://skivosges.net/index.php?option=com_jevents&task=ica
 levent.detail&evid=966&Itemid=6289">Voir les informations dans l'agenda...<
 /a></li><li><a href="https://skivosges.net/index.php?option=com_gskiepreuve
 s&view=afficheresultats&format_option=tous&filter[search]=FMVT0210&filter[d
 ate_debut]=04-03-2018&filter[date_fin]=04-03-2018&code_activite=FOND&Itemid
 =6289">Vers les résultats...</a></li></ul></div></div"><!-- #/gskiepreuve f
 in du dode généré par le plugin jevents pour GskiEpreuves. . Ne pas modifie
 r cette ligne, ni tout le contenu précedant.  #/gskiepreuve --> <a href="ht
 tps://skivosges.net/agenda/a-venir/detailevenement/971/-/grand-prix-de-xonr
 upt-big-mat-atomic-n-10-u16-credit-mutuel-n-7?tmpl=component">Cet évènement
  a été importé depuis :https://skivosges.net/agenda/a-venir/detailevenement
 /971/-/grand-prix-de-xonrupt-big-mat-atomic-n-10-u16-credit-mutuel-n-7?tmpl
 =component</a>DTSTAMP:20260424T074014
DTSTART;TZID=Europe/Paris;VALUE=DATE:20180304
DTEND;TZID=Europe/Paris;VALUE=DATE:20180305
SEQUENCE:0
TRANSP:OPAQUE
END:VEVENT
END:VCALENDAR