BEGIN:VCALENDAR
VERSION:2.0
PRODID:-//jEvents 2.0 for Joomla//EN
CALSCALE:GREGORIAN
METHOD:PUBLISH
BEGIN:VTIMEZONE
TZID:Europe/Paris
BEGIN:STANDARD
DTSTART:20170303T000000
RDATE:20170326T030000
TZOFFSETFROM:+0200
TZOFFSETTO:+0100
TZNAME:Europe/Paris CET
END:STANDARD
BEGIN:STANDARD
DTSTART:20171029T020000
RDATE:20180325T030000
TZOFFSETFROM:+0200
TZOFFSETTO:+0100
TZNAME:Europe/Paris CET
END:STANDARD
BEGIN:STANDARD
DTSTART:20181028T020000
RDATE:20190331T030000
TZOFFSETFROM:+0200
TZOFFSETTO:+0100
TZNAME:Europe/Paris CET
END:STANDARD
BEGIN:STANDARD
DTSTART:20191027T020000
RDATE:20200329T030000
TZOFFSETFROM:+0200
TZOFFSETTO:+0100
TZNAME:Europe/Paris CET
END:STANDARD
BEGIN:STANDARD
DTSTART:20201025T020000
RDATE:20210328T030000
TZOFFSETFROM:+0200
TZOFFSETTO:+0100
TZNAME:Europe/Paris CET
END:STANDARD
BEGIN:STANDARD
DTSTART:20211031T020000
RDATE:20220327T030000
TZOFFSETFROM:+0200
TZOFFSETTO:+0100
TZNAME:Europe/Paris CET
END:STANDARD
BEGIN:STANDARD
DTSTART:20221030T020000
RDATE:20230326T030000
TZOFFSETFROM:+0200
TZOFFSETTO:+0100
TZNAME:Europe/Paris CET
END:STANDARD
BEGIN:STANDARD
DTSTART:20231029T020000
RDATE:20240331T030000
TZOFFSETFROM:+0200
TZOFFSETTO:+0100
TZNAME:Europe/Paris CET
END:STANDARD
BEGIN:STANDARD
DTSTART:20241027T020000
RDATE:20250330T030000
TZOFFSETFROM:+0200
TZOFFSETTO:+0100
TZNAME:Europe/Paris CET
END:STANDARD
BEGIN:STANDARD
DTSTART:20251026T020000
RDATE:20260329T030000
TZOFFSETFROM:+0200
TZOFFSETTO:+0100
TZNAME:Europe/Paris CET
END:STANDARD
BEGIN:STANDARD
DTSTART:20261025T020000
RDATE:20270328T030000
TZOFFSETFROM:+0200
TZOFFSETTO:+0100
TZNAME:Europe/Paris CET
END:STANDARD
BEGIN:DAYLIGHT
DTSTART:20170326T030000
RDATE:20171029T020000
TZOFFSETFROM:+0100
TZOFFSETTO:+0200
TZNAME:Europe/Paris CEST
END:DAYLIGHT
BEGIN:DAYLIGHT
DTSTART:20180325T030000
RDATE:20181028T020000
TZOFFSETFROM:+0100
TZOFFSETTO:+0200
TZNAME:Europe/Paris CEST
END:DAYLIGHT
BEGIN:DAYLIGHT
DTSTART:20190331T030000
RDATE:20191027T020000
TZOFFSETFROM:+0100
TZOFFSETTO:+0200
TZNAME:Europe/Paris CEST
END:DAYLIGHT
BEGIN:DAYLIGHT
DTSTART:20200329T030000
RDATE:20201025T020000
TZOFFSETFROM:+0100
TZOFFSETTO:+0200
TZNAME:Europe/Paris CEST
END:DAYLIGHT
BEGIN:DAYLIGHT
DTSTART:20210328T030000
RDATE:20211031T020000
TZOFFSETFROM:+0100
TZOFFSETTO:+0200
TZNAME:Europe/Paris CEST
END:DAYLIGHT
BEGIN:DAYLIGHT
DTSTART:20220327T030000
RDATE:20221030T020000
TZOFFSETFROM:+0100
TZOFFSETTO:+0200
TZNAME:Europe/Paris CEST
END:DAYLIGHT
BEGIN:DAYLIGHT
DTSTART:20230326T030000
RDATE:20231029T020000
TZOFFSETFROM:+0100
TZOFFSETTO:+0200
TZNAME:Europe/Paris CEST
END:DAYLIGHT
BEGIN:DAYLIGHT
DTSTART:20240331T030000
RDATE:20241027T020000
TZOFFSETFROM:+0100
TZOFFSETTO:+0200
TZNAME:Europe/Paris CEST
END:DAYLIGHT
BEGIN:DAYLIGHT
DTSTART:20250330T030000
RDATE:20251026T020000
TZOFFSETFROM:+0100
TZOFFSETTO:+0200
TZNAME:Europe/Paris CEST
END:DAYLIGHT
BEGIN:DAYLIGHT
DTSTART:20260329T030000
RDATE:20261025T020000
TZOFFSETFROM:+0100
TZOFFSETTO:+0200
TZNAME:Europe/Paris CEST
END:DAYLIGHT
END:VTIMEZONE
BEGIN:VEVENT
UID:0365c80408591cf1051dbe0f5f7d2e1f
CATEGORIES:Circuit Massif Adultes (alpin)
CREATED:20171121T093310
SUMMARY:CAM Grand Prix Adultes Grand prix de la ville de Thann **REPORTE(E) au 25/03/2018**
URL;VALUE=URI:https://skivosges.net/agenda/a-venir/detailevenement/972/-/cam-grand-prix-a
 dultes-grand-prix-de-la-ville-de-thann-reporte-e-au-25-03-2018?tmpl=compone
 nt
DESCRIPTION:<!-- #gskiepreuve code généré par le plugin jevents pour GskiEpreuves. Ne p
 as modifier cette ligne, ni tout le contenu suivant  #gskiepreuve --><div c
 lass="gski-evenement_infos"><div class="gski-evenement-nom">CAM Grand Prix 
 Adultes Grand prix de la ville de Thann</div><div class="gski-evenement-rep
 ort"> <font class="gskiattention">(Epreuve reportée au 25/03/2018)</font></
 div><ul class="gski-evenement-liste-infos"><li>Codex évenement AMVT0590</li
 ><li>Station : MARKSTEIN</li><li>Piste : STADE</li><li>Organisateur : 14082
  SKI CLUB VOSGIEN THANN</li><li>Courriel : <!-- Cette adresse électronique 
 est protégée contre les robots spammeurs. --><span class="cloaked_email ep_
 6d305cef"><span data-ep-a="c&#111;&#117;r" data-ep-b=""><span data-ep-b="&#
 46;&#99;&#111;&#109;" data-ep-a="&#115;&#101;s&#64;"><span data-ep-a="&#116
 ;&#104;&#97;&#110;" data-ep-b="n&#115;&#107;&#105;"></span></span></span></
 span><script>RegularLabs.EmailProtector.unCloak("ep_6d305cef");</script></l
 i><li>Téléphone : 03 89 37 92 28</li></ul><div class="gski-evenement-infos-
 2"><div class="gski-evenement-info-inscriptions"><div class="gski-evenement
 -inscriptions-periodes">Période d'inscription à l'evènement du dimanche 25 
 février 2018 à 00:00 au vendredi 02 mars 2018 à 12:00 <span class="gski-eve
 nement-inscriptions-impossibles">(Inscriptions impossibles).</span><div cla
 ss="gski-evenement-inscriptions-types-titres">Inscriptions ouvertes aux det
 enteurs des titres Fédéraux valides suivants : Licenciés Compétiteurs</div>
 </div></div><div class="gski-evenement-epreuves"><div class="gski-evenement
 -epreuves-titres">Epreuves :</div><ul class="gski-evenement-epreuves-list">
 <li><div class="gski-epreuve-date">Le dimanche 04 mars 2018</div><ul class=
 "gski-epreuve-liste-infos"><li>Codex épreuve AMVM0591</li><li>Slalom</li><l
 i>Catégorie(s) : U16 (Garçons)</li></ul></li><li><div class="gski-epreuve-d
 ate">Le dimanche 04 mars 2018</div><ul class="gski-epreuve-liste-infos"><li
 >Codex épreuve AMVF0591</li><li>Slalom</li><li>Catégorie(s) : U16 (Filles)<
 /li></ul></li><li><div class="gski-epreuve-date">Le dimanche 04 mars 2018</
 div><ul class="gski-epreuve-liste-infos"><li>Codex épreuve AMVM0592</li><li
 >Slalom</li><li>Catégorie(s) : U18 a Masters (Hommes)</li></ul></li><li><di
 v class="gski-epreuve-date">Le dimanche 04 mars 2018</div><ul class="gski-e
 preuve-liste-infos"><li>Codex épreuve AMVF0592</li><li>Slalom</li><li>Catég
 orie(s) : U18 a Masters (Dames)</li></ul></li></ul></div><div class="gskiep
 reuves-links"><ul><li><a href="/index.php?option=com_jevents&task=icalevent
 .detail&evid=967&Itemid=6289">Voir les informations dans l'agenda...</a></l
 i><li><a href="/index.php?option=com_gskiepreuves&view=affichedeparts&forma
 t_option=tous&filter[search]=AMVT0590&filter[date_debut]=25-03-2018&filter[
 date_fin]=25-03-2018&Itemid=6289">Vers la liste de départs...</a></li></ul>
 </div></div"><!-- #/gskiepreuve fin du dode généré par le plugin jevents po
 ur GskiEpreuves. . Ne pas modifier cette ligne, ni tout le contenu précedan
 t.  #/gskiepreuve --> <a href="https://skivosges.net/agenda/a-venir/detaile
 venement/972/-/cam-grand-prix-adultes-grand-prix-de-la-ville-de-thann-repor
 te-e-au-25-03-2018?tmpl=component">Cet évènement a été importé depuis :http
 s://skivosges.net/agenda/a-venir/detailevenement/972/-/cam-grand-prix-adult
 es-grand-prix-de-la-ville-de-thann-reporte-e-au-25-03-2018?tmpl=component</
 a>
X-ALT-DESC;FMTTYPE=text/html:<!-- #gskiepreuve code généré par le plugin jevents pour GskiEpreuves. Ne p
 as modifier cette ligne, ni tout le contenu suivant  #gskiepreuve --><div c
 lass="gski-evenement_infos"><div class="gski-evenement-nom">CAM Grand Prix 
 Adultes Grand prix de la ville de Thann</div><div class="gski-evenement-rep
 ort"> <font class="gskiattention">(Epreuve reportée au 25/03/2018)</font></
 div><ul class="gski-evenement-liste-infos"><li>Codex évenement AMVT0590</li
 ><li>Station : MARKSTEIN</li><li>Piste : STADE</li><li>Organisateur : 14082
  SKI CLUB VOSGIEN THANN</li><li>Courriel : <!-- Cette adresse électronique 
 est protégée contre les robots spammeurs. --><span class="cloaked_email ep_
 6d305cef"><span data-ep-a="c&#111;&#117;r" data-ep-b=""><span data-ep-b="&#
 46;&#99;&#111;&#109;" data-ep-a="&#115;&#101;s&#64;"><span data-ep-a="&#116
 ;&#104;&#97;&#110;" data-ep-b="n&#115;&#107;&#105;"></span></span></span></
 span><script>RegularLabs.EmailProtector.unCloak("ep_6d305cef");</script></l
 i><li>Téléphone : 03 89 37 92 28</li></ul><div class="gski-evenement-infos-
 2"><div class="gski-evenement-info-inscriptions"><div class="gski-evenement
 -inscriptions-periodes">Période d'inscription à l'evènement du dimanche 25 
 février 2018 à 00:00 au vendredi 02 mars 2018 à 12:00 <span class="gski-eve
 nement-inscriptions-impossibles">(Inscriptions impossibles).</span><div cla
 ss="gski-evenement-inscriptions-types-titres">Inscriptions ouvertes aux det
 enteurs des titres Fédéraux valides suivants : Licenciés Compétiteurs</div>
 </div></div><div class="gski-evenement-epreuves"><div class="gski-evenement
 -epreuves-titres">Epreuves :</div><ul class="gski-evenement-epreuves-list">
 <li><div class="gski-epreuve-date">Le dimanche 04 mars 2018</div><ul class=
 "gski-epreuve-liste-infos"><li>Codex épreuve AMVM0591</li><li>Slalom</li><l
 i>Catégorie(s) : U16 (Garçons)</li></ul></li><li><div class="gski-epreuve-d
 ate">Le dimanche 04 mars 2018</div><ul class="gski-epreuve-liste-infos"><li
 >Codex épreuve AMVF0591</li><li>Slalom</li><li>Catégorie(s) : U16 (Filles)<
 /li></ul></li><li><div class="gski-epreuve-date">Le dimanche 04 mars 2018</
 div><ul class="gski-epreuve-liste-infos"><li>Codex épreuve AMVM0592</li><li
 >Slalom</li><li>Catégorie(s) : U18 a Masters (Hommes)</li></ul></li><li><di
 v class="gski-epreuve-date">Le dimanche 04 mars 2018</div><ul class="gski-e
 preuve-liste-infos"><li>Codex épreuve AMVF0592</li><li>Slalom</li><li>Catég
 orie(s) : U18 a Masters (Dames)</li></ul></li></ul></div><div class="gskiep
 reuves-links"><ul><li><a href="https://skivosges.net/index.php?option=com_j
 events&task=icalevent.detail&evid=967&Itemid=6289">Voir les informations da
 ns l'agenda...</a></li><li><a href="https://skivosges.net/index.php?option=
 com_gskiepreuves&view=affichedeparts&format_option=tous&filter[search]=AMVT
 0590&filter[date_debut]=25-03-2018&filter[date_fin]=25-03-2018&Itemid=6289"
 >Vers la liste de départs...</a></li></ul></div></div"><!-- #/gskiepreuve f
 in du dode généré par le plugin jevents pour GskiEpreuves. . Ne pas modifie
 r cette ligne, ni tout le contenu précedant.  #/gskiepreuve --> <a href="ht
 tps://skivosges.net/agenda/a-venir/detailevenement/972/-/cam-grand-prix-adu
 ltes-grand-prix-de-la-ville-de-thann-reporte-e-au-25-03-2018?tmpl=component
 ">Cet évènement a été importé depuis :https://skivosges.net/agenda/a-venir/
 detailevenement/972/-/cam-grand-prix-adultes-grand-prix-de-la-ville-de-than
 n-reporte-e-au-25-03-2018?tmpl=component</a>DTSTAMP:20260424T012600
DTSTART;TZID=Europe/Paris;VALUE=DATE:20180304
DTEND;TZID=Europe/Paris;VALUE=DATE:20180305
SEQUENCE:0
TRANSP:OPAQUE
END:VEVENT
END:VCALENDAR