BEGIN:VCALENDAR
VERSION:2.0
PRODID:-//jEvents 2.0 for Joomla//EN
CALSCALE:GREGORIAN
METHOD:PUBLISH
BEGIN:VTIMEZONE
TZID:Europe/Paris
BEGIN:STANDARD
DTSTART:20170308T000000
RDATE:20170326T030000
TZOFFSETFROM:+0200
TZOFFSETTO:+0100
TZNAME:Europe/Paris CET
END:STANDARD
BEGIN:STANDARD
DTSTART:20171029T020000
RDATE:20180325T030000
TZOFFSETFROM:+0200
TZOFFSETTO:+0100
TZNAME:Europe/Paris CET
END:STANDARD
BEGIN:STANDARD
DTSTART:20181028T020000
RDATE:20190331T030000
TZOFFSETFROM:+0200
TZOFFSETTO:+0100
TZNAME:Europe/Paris CET
END:STANDARD
BEGIN:STANDARD
DTSTART:20191027T020000
RDATE:20200329T030000
TZOFFSETFROM:+0200
TZOFFSETTO:+0100
TZNAME:Europe/Paris CET
END:STANDARD
BEGIN:STANDARD
DTSTART:20201025T020000
RDATE:20210328T030000
TZOFFSETFROM:+0200
TZOFFSETTO:+0100
TZNAME:Europe/Paris CET
END:STANDARD
BEGIN:STANDARD
DTSTART:20211031T020000
RDATE:20220327T030000
TZOFFSETFROM:+0200
TZOFFSETTO:+0100
TZNAME:Europe/Paris CET
END:STANDARD
BEGIN:STANDARD
DTSTART:20221030T020000
RDATE:20230326T030000
TZOFFSETFROM:+0200
TZOFFSETTO:+0100
TZNAME:Europe/Paris CET
END:STANDARD
BEGIN:STANDARD
DTSTART:20231029T020000
RDATE:20240331T030000
TZOFFSETFROM:+0200
TZOFFSETTO:+0100
TZNAME:Europe/Paris CET
END:STANDARD
BEGIN:STANDARD
DTSTART:20241027T020000
RDATE:20250330T030000
TZOFFSETFROM:+0200
TZOFFSETTO:+0100
TZNAME:Europe/Paris CET
END:STANDARD
BEGIN:STANDARD
DTSTART:20251026T020000
RDATE:20260329T030000
TZOFFSETFROM:+0200
TZOFFSETTO:+0100
TZNAME:Europe/Paris CET
END:STANDARD
BEGIN:STANDARD
DTSTART:20261025T020000
RDATE:20270328T030000
TZOFFSETFROM:+0200
TZOFFSETTO:+0100
TZNAME:Europe/Paris CET
END:STANDARD
BEGIN:DAYLIGHT
DTSTART:20170326T030000
RDATE:20171029T020000
TZOFFSETFROM:+0100
TZOFFSETTO:+0200
TZNAME:Europe/Paris CEST
END:DAYLIGHT
BEGIN:DAYLIGHT
DTSTART:20180325T030000
RDATE:20181028T020000
TZOFFSETFROM:+0100
TZOFFSETTO:+0200
TZNAME:Europe/Paris CEST
END:DAYLIGHT
BEGIN:DAYLIGHT
DTSTART:20190331T030000
RDATE:20191027T020000
TZOFFSETFROM:+0100
TZOFFSETTO:+0200
TZNAME:Europe/Paris CEST
END:DAYLIGHT
BEGIN:DAYLIGHT
DTSTART:20200329T030000
RDATE:20201025T020000
TZOFFSETFROM:+0100
TZOFFSETTO:+0200
TZNAME:Europe/Paris CEST
END:DAYLIGHT
BEGIN:DAYLIGHT
DTSTART:20210328T030000
RDATE:20211031T020000
TZOFFSETFROM:+0100
TZOFFSETTO:+0200
TZNAME:Europe/Paris CEST
END:DAYLIGHT
BEGIN:DAYLIGHT
DTSTART:20220327T030000
RDATE:20221030T020000
TZOFFSETFROM:+0100
TZOFFSETTO:+0200
TZNAME:Europe/Paris CEST
END:DAYLIGHT
BEGIN:DAYLIGHT
DTSTART:20230326T030000
RDATE:20231029T020000
TZOFFSETFROM:+0100
TZOFFSETTO:+0200
TZNAME:Europe/Paris CEST
END:DAYLIGHT
BEGIN:DAYLIGHT
DTSTART:20240331T030000
RDATE:20241027T020000
TZOFFSETFROM:+0100
TZOFFSETTO:+0200
TZNAME:Europe/Paris CEST
END:DAYLIGHT
BEGIN:DAYLIGHT
DTSTART:20250330T030000
RDATE:20251026T020000
TZOFFSETFROM:+0100
TZOFFSETTO:+0200
TZNAME:Europe/Paris CEST
END:DAYLIGHT
BEGIN:DAYLIGHT
DTSTART:20260329T030000
RDATE:20261025T020000
TZOFFSETFROM:+0100
TZOFFSETTO:+0200
TZNAME:Europe/Paris CEST
END:DAYLIGHT
END:VTIMEZONE
BEGIN:VEVENT
UID:6e33d1fa2414d6506a840f773a45020d
CATEGORIES:Opens et Promos (alpin)
CREATED:20171121T093310
SUMMARY:PROMO Les Vraies Filles Font du Ski **REPORTE(E) au 16/03/2018**
URL;VALUE=URI:https://skivosges.net/agenda/a-venir/detailevenement/975/-/promo-les-vraies
 -filles-font-du-ski-reporte-e-au-16-03-2018?tmpl=component
DESCRIPTION:PROMO Les Vraies Filles Font du Ski (Epreuve reportée au 16/03/2018)\n - Co
 dex évenement AMVT0630\n - Lieu : MARKSTEIN\n - Station : MARKSTEIN\n - Pis
 te : Stade de slalom Serge Lang\n - Organisateur : 14186 S.C VALLEE DE WESS
 ERLING\n - Courriel : RegularLabs.EmailProtector.unCloak("ep_066f6a4c");\n 
 - Téléphone : 03 89 82 78 08\n - Délégué Technique : HABERER BERNARDPériode
  d'inscription à l'evènement du jeudi 01 mars 2018 à 20:00 au jeudi 08 mars
  2018 à 22:00 (Inscriptions impossibles).Inscriptions ouvertes aux detenteu
 rs des titres Fédéraux valides suivants : Licenciés Compétiteurs, Titres Lo
 isirs et Dirigeants et Tickets courseL'épreuve sera chronometrée avec les r
 ésultats publiés en direct (live)Epreuves :\n - Le vendredi 09 mars 2018\n 
 - Codex épreuve AMVF0631\n - Slalom Geant\n - Catégorie(s) : U8/U10 (Filles
 )\n - Le vendredi 09 mars 2018\n - Codex épreuve AMVF0632\n - Slalom Geant\
 n - Catégorie(s) : U12 a U16 (Filles)\n - Le vendredi 09 mars 2018\n - Code
 x épreuve AMVF0633\n - Slalom Geant\n - Catégorie(s) : U18 a Masters (Dames
 )\n - Voir les informations dans l'agenda... (/index.php?option=com_jevents
 &amp;task=icalevent.detail&amp;evid=970&amp;Itemid=6289) Cet évènement a ét
 é importé depuis :https://skivosges.net/agenda/a-venir/detailevenement/975/
 -/promo-les-vraies-filles-font-du-ski-reporte-e-au-16-03-2018?tmpl=componen
 t
X-ALT-DESC;FMTTYPE=text/html:<!-- #gskiepreuve code généré par le plugin jevents pour GskiEpreuves. Ne p
 as modifier cette ligne, ni tout le contenu suivant  #gskiepreuve --><div c
 lass="gski-evenement_infos"><div class="gski-evenement-nom">PROMO Les Vraie
 s Filles Font du Ski</div><div class="gski-evenement-report"> <font class="
 gskiattention">(Epreuve reportée au 16/03/2018)</font></div><ul class="gski
 -evenement-liste-infos"><li>Codex évenement AMVT0630</li><li>Lieu : MARKSTE
 IN</li><li>Station : MARKSTEIN</li><li>Piste : Stade de slalom Serge Lang</
 li><li>Organisateur : 14186 S.C VALLEE DE WESSERLING</li><li>Courriel : <!-
 - Cette adresse électronique est protégée contre les robots spammeurs. --><
 span class="cloaked_email ep_066f6a4c"><span data-ep-b="&#109;" data-ep-a="
 &#115;c&#118;&#119;"><span data-ep-a="&#101;s&#115;&#101;" data-ep-b="&#108
 ;&#46;c&#111;"><span data-ep-a="&#114;&#108;&#105;n" data-ep-b="g&#64;&#97;
 &#111;"></span></span></span></span><script>RegularLabs.EmailProtector.unCl
 oak("ep_066f6a4c");</script></li><li>Téléphone : 03 89 82 78 08</li><li><sp
 an class="gski-evenement-obs">Délégué Technique : HABERER BERNARD</span></l
 i></ul><div class="gski-evenement-infos-2"><div class="gski-evenement-info-
 inscriptions"><div class="gski-evenement-inscriptions-periodes">Période d'i
 nscription à l'evènement du jeudi 01 mars 2018 à 20:00 au jeudi 08 mars 201
 8 à 22:00 <span class="gski-evenement-inscriptions-impossibles">(Inscriptio
 ns impossibles).</span><div class="gski-evenement-inscriptions-types-titres
 ">Inscriptions ouvertes aux detenteurs des titres Fédéraux valides suivants
  : Licenciés Compétiteurs, Titres Loisirs et Dirigeants et Tickets course</
 div></div></div><div class="gski-evenement-info-live">L'épreuve sera chrono
 metrée avec les résultats publiés en direct (live)</div><div class="gski-ev
 enement-epreuves"><div class="gski-evenement-epreuves-titres">Epreuves :</d
 iv><ul class="gski-evenement-epreuves-list"><li><div class="gski-epreuve-da
 te">Le vendredi 09 mars 2018</div><ul class="gski-epreuve-liste-infos"><li>
 Codex épreuve AMVF0631</li><li>Slalom Geant</li><li>Catégorie(s) : U8/U10 (
 Filles)</li></ul></li><li><div class="gski-epreuve-date">Le vendredi 09 mar
 s 2018</div><ul class="gski-epreuve-liste-infos"><li>Codex épreuve AMVF0632
 </li><li>Slalom Geant</li><li>Catégorie(s) : U12 a U16 (Filles)</li></ul></
 li><li><div class="gski-epreuve-date">Le vendredi 09 mars 2018</div><ul cla
 ss="gski-epreuve-liste-infos"><li>Codex épreuve AMVF0633</li><li>Slalom Gea
 nt</li><li>Catégorie(s) : U18 a Masters (Dames)</li></ul></li></ul></div><d
 iv class="gskiepreuves-links"><ul><li><a href="https://skivosges.net/index.
 php?option=com_jevents&task=icalevent.detail&evid=970&Itemid=6289">Voir les
  informations dans l'agenda...</a></li></ul></div></div"><!-- #/gskiepreuve
  fin du dode généré par le plugin jevents pour GskiEpreuves. . Ne pas modif
 ier cette ligne, ni tout le contenu précedant.  #/gskiepreuve --> <a href="
 https://skivosges.net/agenda/a-venir/detailevenement/975/-/promo-les-vraies
 -filles-font-du-ski-reporte-e-au-16-03-2018?tmpl=component">Cet évènement a
  été importé depuis :https://skivosges.net/agenda/a-venir/detailevenement/9
 75/-/promo-les-vraies-filles-font-du-ski-reporte-e-au-16-03-2018?tmpl=compo
 nent</a>DTSTAMP:20260424T073924
DTSTART;TZID=Europe/Paris;VALUE=DATE:20180309
DTEND;TZID=Europe/Paris;VALUE=DATE:20180310
SEQUENCE:0
TRANSP:OPAQUE
END:VEVENT
END:VCALENDAR