BEGIN:VCALENDAR
VERSION:2.0
PRODID:-//jEvents 2.0 for Joomla//EN
CALSCALE:GREGORIAN
METHOD:PUBLISH
BEGIN:VTIMEZONE
TZID:Europe/Paris
BEGIN:STANDARD
DTSTART:20170309T000000
RDATE:20170326T030000
TZOFFSETFROM:+0200
TZOFFSETTO:+0100
TZNAME:Europe/Paris CET
END:STANDARD
BEGIN:STANDARD
DTSTART:20171029T020000
RDATE:20180325T030000
TZOFFSETFROM:+0200
TZOFFSETTO:+0100
TZNAME:Europe/Paris CET
END:STANDARD
BEGIN:STANDARD
DTSTART:20181028T020000
RDATE:20190331T030000
TZOFFSETFROM:+0200
TZOFFSETTO:+0100
TZNAME:Europe/Paris CET
END:STANDARD
BEGIN:STANDARD
DTSTART:20191027T020000
RDATE:20200329T030000
TZOFFSETFROM:+0200
TZOFFSETTO:+0100
TZNAME:Europe/Paris CET
END:STANDARD
BEGIN:STANDARD
DTSTART:20201025T020000
RDATE:20210328T030000
TZOFFSETFROM:+0200
TZOFFSETTO:+0100
TZNAME:Europe/Paris CET
END:STANDARD
BEGIN:STANDARD
DTSTART:20211031T020000
RDATE:20220327T030000
TZOFFSETFROM:+0200
TZOFFSETTO:+0100
TZNAME:Europe/Paris CET
END:STANDARD
BEGIN:STANDARD
DTSTART:20221030T020000
RDATE:20230326T030000
TZOFFSETFROM:+0200
TZOFFSETTO:+0100
TZNAME:Europe/Paris CET
END:STANDARD
BEGIN:STANDARD
DTSTART:20231029T020000
RDATE:20240331T030000
TZOFFSETFROM:+0200
TZOFFSETTO:+0100
TZNAME:Europe/Paris CET
END:STANDARD
BEGIN:STANDARD
DTSTART:20241027T020000
RDATE:20250330T030000
TZOFFSETFROM:+0200
TZOFFSETTO:+0100
TZNAME:Europe/Paris CET
END:STANDARD
BEGIN:STANDARD
DTSTART:20251026T020000
RDATE:20260329T030000
TZOFFSETFROM:+0200
TZOFFSETTO:+0100
TZNAME:Europe/Paris CET
END:STANDARD
BEGIN:STANDARD
DTSTART:20261025T020000
RDATE:20270328T030000
TZOFFSETFROM:+0200
TZOFFSETTO:+0100
TZNAME:Europe/Paris CET
END:STANDARD
BEGIN:DAYLIGHT
DTSTART:20170326T030000
RDATE:20171029T020000
TZOFFSETFROM:+0100
TZOFFSETTO:+0200
TZNAME:Europe/Paris CEST
END:DAYLIGHT
BEGIN:DAYLIGHT
DTSTART:20180325T030000
RDATE:20181028T020000
TZOFFSETFROM:+0100
TZOFFSETTO:+0200
TZNAME:Europe/Paris CEST
END:DAYLIGHT
BEGIN:DAYLIGHT
DTSTART:20190331T030000
RDATE:20191027T020000
TZOFFSETFROM:+0100
TZOFFSETTO:+0200
TZNAME:Europe/Paris CEST
END:DAYLIGHT
BEGIN:DAYLIGHT
DTSTART:20200329T030000
RDATE:20201025T020000
TZOFFSETFROM:+0100
TZOFFSETTO:+0200
TZNAME:Europe/Paris CEST
END:DAYLIGHT
BEGIN:DAYLIGHT
DTSTART:20210328T030000
RDATE:20211031T020000
TZOFFSETFROM:+0100
TZOFFSETTO:+0200
TZNAME:Europe/Paris CEST
END:DAYLIGHT
BEGIN:DAYLIGHT
DTSTART:20220327T030000
RDATE:20221030T020000
TZOFFSETFROM:+0100
TZOFFSETTO:+0200
TZNAME:Europe/Paris CEST
END:DAYLIGHT
BEGIN:DAYLIGHT
DTSTART:20230326T030000
RDATE:20231029T020000
TZOFFSETFROM:+0100
TZOFFSETTO:+0200
TZNAME:Europe/Paris CEST
END:DAYLIGHT
BEGIN:DAYLIGHT
DTSTART:20240331T030000
RDATE:20241027T020000
TZOFFSETFROM:+0100
TZOFFSETTO:+0200
TZNAME:Europe/Paris CEST
END:DAYLIGHT
BEGIN:DAYLIGHT
DTSTART:20250330T030000
RDATE:20251026T020000
TZOFFSETFROM:+0100
TZOFFSETTO:+0200
TZNAME:Europe/Paris CEST
END:DAYLIGHT
BEGIN:DAYLIGHT
DTSTART:20260329T030000
RDATE:20261025T020000
TZOFFSETFROM:+0100
TZOFFSETTO:+0200
TZNAME:Europe/Paris CEST
END:DAYLIGHT
END:VTIMEZONE
BEGIN:VEVENT
UID:b7bfea106989ea17fd697553a7c94ab3
CATEGORIES:Compétition Ski de Fond
CREATED:20171121T093310
SUMMARY:RELAIS FOYERS  TROPHÉE SPORT PASSION
URL;VALUE=URI:https://skivosges.net/agenda/a-venir/detailevenement/976/-/relais-foyers-tr
 ophee-sport-passion?tmpl=component
DESCRIPTION:RELAIS FOYERS  TROPHÉE SPORT PASSION\n - Codex évenement FMVT0220\n - Stati
 on : BALLON D'ALSACE\n - Organisateur : 14471 HAUTE MOSELLE SKI NORDIQUE\n 
 - Courriel : RegularLabs.EmailProtector.unCloak("ep_acbb1bfd");\n - Télépho
 ne : 06 71 52 98 42Période d'inscription à l'evènement du samedi 03 mars 20
 18 à 00:00 au jeudi 08 mars 2018 à 20:00 (Inscriptions impossibles).Inscrip
 tions ouvertes aux detenteurs des titres Fédéraux valides suivants : Licenc
 iés Compétiteurs et Titres Loisirs et DirigeantsEpreuves :\n - Le samedi 10
  mars 2018 à 15:00\n - Codex épreuve FMVF0221\n - Relais\n - Catégorie(s) :
  U10 (Filles)\n - Le samedi 10 mars 2018 à 15:00\n - Codex épreuve FMVF0222
 \n - Relais\n - Catégorie(s) : U12 (Filles)\n - Le samedi 10 mars 2018 à 15
 :00\n - Codex épreuve FMVM0221\n - Relais\n - Catégorie(s) : U10 (Garçons)\
 n - Le samedi 10 mars 2018 à 15:00\n - Codex épreuve FMVM0222\n - Relais\n 
 - Catégorie(s) : U12 (Garçons)\n - Voir les informations dans l'agenda... (
 /index.php?option=com_jevents&amp;task=icalevent.detail&amp;evid=971&amp;It
 emid=6289)\n - Vers les résultats... (/index.php?option=com_gskiepreuves&am
 p;view=afficheresultats&amp;format_option=tous&amp;filter[search]=FMVT0220&
 amp;filter[date_debut]=10-03-2018&amp;filter[date_fin]=10-03-2018&amp;code_
 activite=FOND&amp;Itemid=6289)\n - Publications concernant cet évènement :\
 n - Samedi 10 Mars 2018 à 20:38 : Le 10/03/2018 BALLON D'ALSACE Résultats C
 et évènement a été importé depuis :https://skivosges.net/agenda/a-venir/det
 ailevenement/976/-/relais-foyers-trophee-sport-passion?tmpl=component (http
 s://skivosges.net/agenda/a-venir/detailevenement/976/-/relais-foyers-trophe
 e-sport-passion?tmpl=component)
X-ALT-DESC;FMTTYPE=text/html:<!-- #gskiepreuve code généré par le plugin jevents pour GskiEpreuves. Ne p
 as modifier cette ligne, ni tout le contenu suivant  #gskiepreuve --><div c
 lass="gski-evenement_infos"><div class="gski-evenement-nom">RELAIS FOYERS  
 TROPHÉE SPORT PASSION</div><div class="gski-evenement-report"></div><ul cla
 ss="gski-evenement-liste-infos"><li>Codex évenement FMVT0220</li><li>Statio
 n : BALLON D'ALSACE</li><li>Organisateur : 14471 HAUTE MOSELLE SKI NORDIQUE
 </li><li>Courriel : <!-- Cette adresse électronique est protégée contre les
  robots spammeurs. --><span class="cloaked_email ep_acbb1bfd"><span data-ep
 -b="&#111;.&#102;&#114;" data-ep-a="&#103;er&#97;"><span data-ep-b="n&#97;&
 #100;&#111;" data-ep-a="&#114;d&#46;&#114;"><span data-ep-b="&#48;&#64;&#11
 9;&#97;" data-ep-a="&#101;&#109;&#121;&#49;"></span></span></span></span><s
 cript>RegularLabs.EmailProtector.unCloak("ep_acbb1bfd");</script></li><li>T
 éléphone : 06 71 52 98 42</li></ul><div class="gski-evenement-infos-2"><div
  class="gski-evenement-info-inscriptions"><div class="gski-evenement-inscri
 ptions-periodes">Période d'inscription à l'evènement du samedi 03 mars 2018
  à 00:00 au jeudi 08 mars 2018 à 20:00 <span class="gski-evenement-inscript
 ions-impossibles">(Inscriptions impossibles).</span><div class="gski-evenem
 ent-inscriptions-types-titres">Inscriptions ouvertes aux detenteurs des tit
 res Fédéraux valides suivants : Licenciés Compétiteurs et Titres Loisirs et
  Dirigeants</div></div></div><div class="gski-evenement-epreuves"><div clas
 s="gski-evenement-epreuves-titres">Epreuves :</div><ul class="gski-evenemen
 t-epreuves-list"><li><div class="gski-epreuve-date">Le samedi 10 mars 2018 
 à 15:00</div><ul class="gski-epreuve-liste-infos"><li>Codex épreuve FMVF022
 1</li><li>Relais</li><li>Catégorie(s) : U10 (Filles)</li></ul></li><li><div
  class="gski-epreuve-date">Le samedi 10 mars 2018 à 15:00</div><ul class="g
 ski-epreuve-liste-infos"><li>Codex épreuve FMVF0222</li><li>Relais</li><li>
 Catégorie(s) : U12 (Filles)</li></ul></li><li><div class="gski-epreuve-date
 ">Le samedi 10 mars 2018 à 15:00</div><ul class="gski-epreuve-liste-infos">
 <li>Codex épreuve FMVM0221</li><li>Relais</li><li>Catégorie(s) : U10 (Garço
 ns)</li></ul></li><li><div class="gski-epreuve-date">Le samedi 10 mars 2018
  à 15:00</div><ul class="gski-epreuve-liste-infos"><li>Codex épreuve FMVM02
 22</li><li>Relais</li><li>Catégorie(s) : U12 (Garçons)</li></ul></li></ul><
 /div><div class="gskiepreuves-links"><ul><li><a href="https://skivosges.net
 /index.php?option=com_jevents&task=icalevent.detail&evid=971&Itemid=6289">V
 oir les informations dans l'agenda...</a></li><li><a href="https://skivosge
 s.net/index.php?option=com_gskiepreuves&view=afficheresultats&format_option
 =tous&filter[search]=FMVT0220&filter[date_debut]=10-03-2018&filter[date_fin
 ]=10-03-2018&code_activite=FOND&Itemid=6289">Vers les résultats...</a></li>
 <li>Publications concernant cet évènement :<ul><li><a href="https://skivosg
 es.net/index.php?option=com_content&view=article&id=6244&Itemid=6289">Samed
 i 10 Mars 2018 à 20:38 : Le 10/03/2018 BALLON D'ALSACE Résultats</a></li></
 ul></li></ul></div></div"><!-- #/gskiepreuve fin du dode généré par le plug
 in jevents pour GskiEpreuves. . Ne pas modifier cette ligne, ni tout le con
 tenu précedant.  #/gskiepreuve --> <a href="https://skivosges.net/agenda/a-
 venir/detailevenement/976/-/relais-foyers-trophee-sport-passion?tmpl=compon
 ent">Cet évènement a été importé depuis :https://skivosges.net/agenda/a-ven
 ir/detailevenement/976/-/relais-foyers-trophee-sport-passion?tmpl=component
 </a>DTSTAMP:20260424T073755
DTSTART;TZID=Europe/Paris;VALUE=DATE:20180310
DTEND;TZID=Europe/Paris;VALUE=DATE:20180311
SEQUENCE:0
TRANSP:OPAQUE
END:VEVENT
END:VCALENDAR