BEGIN:VCALENDAR
VERSION:2.0
PRODID:-//jEvents 2.0 for Joomla//EN
CALSCALE:GREGORIAN
METHOD:PUBLISH
BEGIN:VTIMEZONE
TZID:Europe/Paris
BEGIN:STANDARD
DTSTART:20130123T080000
RDATE:20130331T030000
TZOFFSETFROM:+0200
TZOFFSETTO:+0100
TZNAME:Europe/Paris CET
END:STANDARD
BEGIN:STANDARD
DTSTART:20131027T020000
RDATE:20140330T030000
TZOFFSETFROM:+0200
TZOFFSETTO:+0100
TZNAME:Europe/Paris CET
END:STANDARD
BEGIN:STANDARD
DTSTART:20141026T020000
RDATE:20150329T030000
TZOFFSETFROM:+0200
TZOFFSETTO:+0100
TZNAME:Europe/Paris CET
END:STANDARD
BEGIN:STANDARD
DTSTART:20151025T020000
RDATE:20160327T030000
TZOFFSETFROM:+0200
TZOFFSETTO:+0100
TZNAME:Europe/Paris CET
END:STANDARD
BEGIN:STANDARD
DTSTART:20161030T020000
RDATE:20170326T030000
TZOFFSETFROM:+0200
TZOFFSETTO:+0100
TZNAME:Europe/Paris CET
END:STANDARD
BEGIN:STANDARD
DTSTART:20171029T020000
RDATE:20180325T030000
TZOFFSETFROM:+0200
TZOFFSETTO:+0100
TZNAME:Europe/Paris CET
END:STANDARD
BEGIN:STANDARD
DTSTART:20181028T020000
RDATE:20190331T030000
TZOFFSETFROM:+0200
TZOFFSETTO:+0100
TZNAME:Europe/Paris CET
END:STANDARD
BEGIN:STANDARD
DTSTART:20191027T020000
RDATE:20200329T030000
TZOFFSETFROM:+0200
TZOFFSETTO:+0100
TZNAME:Europe/Paris CET
END:STANDARD
BEGIN:STANDARD
DTSTART:20201025T020000
RDATE:20210328T030000
TZOFFSETFROM:+0200
TZOFFSETTO:+0100
TZNAME:Europe/Paris CET
END:STANDARD
BEGIN:STANDARD
DTSTART:20211031T020000
RDATE:20220327T030000
TZOFFSETFROM:+0200
TZOFFSETTO:+0100
TZNAME:Europe/Paris CET
END:STANDARD
BEGIN:STANDARD
DTSTART:20221030T020000
RDATE:20230326T030000
TZOFFSETFROM:+0200
TZOFFSETTO:+0100
TZNAME:Europe/Paris CET
END:STANDARD
BEGIN:STANDARD
DTSTART:20231029T020000
RDATE:20240331T030000
TZOFFSETFROM:+0200
TZOFFSETTO:+0100
TZNAME:Europe/Paris CET
END:STANDARD
BEGIN:STANDARD
DTSTART:20241027T020000
RDATE:20250330T030000
TZOFFSETFROM:+0200
TZOFFSETTO:+0100
TZNAME:Europe/Paris CET
END:STANDARD
BEGIN:STANDARD
DTSTART:20251026T020000
RDATE:20260329T030000
TZOFFSETFROM:+0200
TZOFFSETTO:+0100
TZNAME:Europe/Paris CET
END:STANDARD
BEGIN:STANDARD
DTSTART:20261025T020000
RDATE:20270328T030000
TZOFFSETFROM:+0200
TZOFFSETTO:+0100
TZNAME:Europe/Paris CET
END:STANDARD
BEGIN:DAYLIGHT
DTSTART:20130331T030000
RDATE:20131027T020000
TZOFFSETFROM:+0100
TZOFFSETTO:+0200
TZNAME:Europe/Paris CEST
END:DAYLIGHT
BEGIN:DAYLIGHT
DTSTART:20140330T030000
RDATE:20141026T020000
TZOFFSETFROM:+0100
TZOFFSETTO:+0200
TZNAME:Europe/Paris CEST
END:DAYLIGHT
BEGIN:DAYLIGHT
DTSTART:20150329T030000
RDATE:20151025T020000
TZOFFSETFROM:+0100
TZOFFSETTO:+0200
TZNAME:Europe/Paris CEST
END:DAYLIGHT
BEGIN:DAYLIGHT
DTSTART:20160327T030000
RDATE:20161030T020000
TZOFFSETFROM:+0100
TZOFFSETTO:+0200
TZNAME:Europe/Paris CEST
END:DAYLIGHT
BEGIN:DAYLIGHT
DTSTART:20170326T030000
RDATE:20171029T020000
TZOFFSETFROM:+0100
TZOFFSETTO:+0200
TZNAME:Europe/Paris CEST
END:DAYLIGHT
BEGIN:DAYLIGHT
DTSTART:20180325T030000
RDATE:20181028T020000
TZOFFSETFROM:+0100
TZOFFSETTO:+0200
TZNAME:Europe/Paris CEST
END:DAYLIGHT
BEGIN:DAYLIGHT
DTSTART:20190331T030000
RDATE:20191027T020000
TZOFFSETFROM:+0100
TZOFFSETTO:+0200
TZNAME:Europe/Paris CEST
END:DAYLIGHT
BEGIN:DAYLIGHT
DTSTART:20200329T030000
RDATE:20201025T020000
TZOFFSETFROM:+0100
TZOFFSETTO:+0200
TZNAME:Europe/Paris CEST
END:DAYLIGHT
BEGIN:DAYLIGHT
DTSTART:20210328T030000
RDATE:20211031T020000
TZOFFSETFROM:+0100
TZOFFSETTO:+0200
TZNAME:Europe/Paris CEST
END:DAYLIGHT
BEGIN:DAYLIGHT
DTSTART:20220327T030000
RDATE:20221030T020000
TZOFFSETFROM:+0100
TZOFFSETTO:+0200
TZNAME:Europe/Paris CEST
END:DAYLIGHT
BEGIN:DAYLIGHT
DTSTART:20230326T030000
RDATE:20231029T020000
TZOFFSETFROM:+0100
TZOFFSETTO:+0200
TZNAME:Europe/Paris CEST
END:DAYLIGHT
BEGIN:DAYLIGHT
DTSTART:20240331T030000
RDATE:20241027T020000
TZOFFSETFROM:+0100
TZOFFSETTO:+0200
TZNAME:Europe/Paris CEST
END:DAYLIGHT
BEGIN:DAYLIGHT
DTSTART:20250330T030000
RDATE:20251026T020000
TZOFFSETFROM:+0100
TZOFFSETTO:+0200
TZNAME:Europe/Paris CEST
END:DAYLIGHT
BEGIN:DAYLIGHT
DTSTART:20260329T030000
RDATE:20261025T020000
TZOFFSETFROM:+0100
TZOFFSETTO:+0200
TZNAME:Europe/Paris CEST
END:DAYLIGHT
END:VTIMEZONE
BEGIN:VEVENT
UID:a3588f9ec106c2e0623c7d2ee462b450
CATEGORIES:Circuit Massif Masters (alpin)
CREATED:20131203T122100
SUMMARY:GPM         GP de la Bulle **REPORTE**
URL;VALUE=URI:https://skivosges.net/agenda/a-venir/detailevenement/98/-/gpm-gp-de-la-bull
 e-reporte?tmpl=component
DESCRIPTION:GPM         GP de la Bulle (Epreuve reportée, date à determiner) \n(Grand P
 rix Masters)\n\nLieu : MARKSTEIN \nOrganisateur : S.C VALLEE DE WESSERLING 
  (14186 S.C VALLEE DE WESSERLING)\nEmail : RegularLabs.EmailProtector.unClo
 ak("ep_e2957f9f");\n - AMVF0291  Slalom (Courses Masters) Tous les Masters 
 Dames Dames\n  GPM         GP de la Bulle\n - AMVF0292  Slalom (Courses Mas
 ters) Tous les Masters Hommes Dames\n  GPM         GP de la Bulle Cet évène
 ment a été importé depuis :https://skivosges.net/agenda/a-venir/detailevene
 ment/98/-/gpm-gp-de-la-bulle-reporte?tmpl=component (https://skivosges.net/
 agenda/a-venir/detailevenement/98/-/gpm-gp-de-la-bulle-reporte?tmpl=compone
 nt)
X-ALT-DESC;FMTTYPE=text/html:<strong>GPM         GP de la Bulle</strong> <font class="attention4">(Epreu
 ve reportée, date à determiner)</font> <br /><i>(Grand Prix Masters)</i><br
  /><br />Lieu : MARKSTEIN <br />Organisateur : S.C VALLEE DE WESSERLING  <s
 mall>(14186 S.C VALLEE DE WESSERLING)</small><br />Email : <!-- Cette adres
 se électronique est protégée contre les robots spammeurs. --><span class="c
 loaked_email ep_e2957f9f"><span data-ep-a="&#115;&#99;&#118;&#119;" data-ep
 -b="&#109;"><span data-ep-a="e&#115;&#115;&#101;" data-ep-b="l&#46;&#99;&#1
 11;"><span data-ep-a="&#114;l&#105;&#110;" data-ep-b="&#103;&#64;&#97;&#111
 ;"></span></span></span></span><script>RegularLabs.EmailProtector.unCloak("
 ep_e2957f9f");</script><ul type="disc"><li>AMVF0291  Slalom <nobr><i>(Cours
 es Masters)</i></nobr> <nobr>Tous les Masters Dames</nobr> Dames<br />&nbsp
 ;&nbsp;GPM         GP de la Bulle</li><li>AMVF0292  Slalom <nobr><i>(Course
 s Masters)</i></nobr> <nobr>Tous les Masters Hommes</nobr> Dames<br />&nbsp
 ;&nbsp;GPM         GP de la Bulle</li></ul> <a href="https://skivosges.net/
 agenda/a-venir/detailevenement/98/-/gpm-gp-de-la-bulle-reporte?tmpl=compone
 nt">Cet évènement a été importé depuis :https://skivosges.net/agenda/a-veni
 r/detailevenement/98/-/gpm-gp-de-la-bulle-reporte?tmpl=component</a>DTSTAMP:20260424T015220
DTSTART;TZID=Europe/Paris:20140124T080000
DTEND;TZID=Europe/Paris:20140124T170000
SEQUENCE:0
TRANSP:OPAQUE
END:VEVENT
END:VCALENDAR