BEGIN:VCALENDAR
VERSION:2.0
PRODID:-//jEvents 2.0 for Joomla//EN
CALSCALE:GREGORIAN
METHOD:PUBLISH
BEGIN:VTIMEZONE
TZID:Europe/Paris
BEGIN:STANDARD
DTSTART:20161216T000000
RDATE:20170326T030000
TZOFFSETFROM:+0200
TZOFFSETTO:+0100
TZNAME:Europe/Paris CET
END:STANDARD
BEGIN:STANDARD
DTSTART:20171029T020000
RDATE:20180325T030000
TZOFFSETFROM:+0200
TZOFFSETTO:+0100
TZNAME:Europe/Paris CET
END:STANDARD
BEGIN:STANDARD
DTSTART:20181028T020000
RDATE:20190331T030000
TZOFFSETFROM:+0200
TZOFFSETTO:+0100
TZNAME:Europe/Paris CET
END:STANDARD
BEGIN:STANDARD
DTSTART:20191027T020000
RDATE:20200329T030000
TZOFFSETFROM:+0200
TZOFFSETTO:+0100
TZNAME:Europe/Paris CET
END:STANDARD
BEGIN:STANDARD
DTSTART:20201025T020000
RDATE:20210328T030000
TZOFFSETFROM:+0200
TZOFFSETTO:+0100
TZNAME:Europe/Paris CET
END:STANDARD
BEGIN:STANDARD
DTSTART:20211031T020000
RDATE:20220327T030000
TZOFFSETFROM:+0200
TZOFFSETTO:+0100
TZNAME:Europe/Paris CET
END:STANDARD
BEGIN:STANDARD
DTSTART:20221030T020000
RDATE:20230326T030000
TZOFFSETFROM:+0200
TZOFFSETTO:+0100
TZNAME:Europe/Paris CET
END:STANDARD
BEGIN:STANDARD
DTSTART:20231029T020000
RDATE:20240331T030000
TZOFFSETFROM:+0200
TZOFFSETTO:+0100
TZNAME:Europe/Paris CET
END:STANDARD
BEGIN:STANDARD
DTSTART:20241027T020000
RDATE:20250330T030000
TZOFFSETFROM:+0200
TZOFFSETTO:+0100
TZNAME:Europe/Paris CET
END:STANDARD
BEGIN:STANDARD
DTSTART:20251026T020000
RDATE:20260329T030000
TZOFFSETFROM:+0200
TZOFFSETTO:+0100
TZNAME:Europe/Paris CET
END:STANDARD
BEGIN:STANDARD
DTSTART:20261025T020000
RDATE:20270328T030000
TZOFFSETFROM:+0200
TZOFFSETTO:+0100
TZNAME:Europe/Paris CET
END:STANDARD
BEGIN:DAYLIGHT
DTSTART:20170326T030000
RDATE:20171029T020000
TZOFFSETFROM:+0100
TZOFFSETTO:+0200
TZNAME:Europe/Paris CEST
END:DAYLIGHT
BEGIN:DAYLIGHT
DTSTART:20180325T030000
RDATE:20181028T020000
TZOFFSETFROM:+0100
TZOFFSETTO:+0200
TZNAME:Europe/Paris CEST
END:DAYLIGHT
BEGIN:DAYLIGHT
DTSTART:20190331T030000
RDATE:20191027T020000
TZOFFSETFROM:+0100
TZOFFSETTO:+0200
TZNAME:Europe/Paris CEST
END:DAYLIGHT
BEGIN:DAYLIGHT
DTSTART:20200329T030000
RDATE:20201025T020000
TZOFFSETFROM:+0100
TZOFFSETTO:+0200
TZNAME:Europe/Paris CEST
END:DAYLIGHT
BEGIN:DAYLIGHT
DTSTART:20210328T030000
RDATE:20211031T020000
TZOFFSETFROM:+0100
TZOFFSETTO:+0200
TZNAME:Europe/Paris CEST
END:DAYLIGHT
BEGIN:DAYLIGHT
DTSTART:20220327T030000
RDATE:20221030T020000
TZOFFSETFROM:+0100
TZOFFSETTO:+0200
TZNAME:Europe/Paris CEST
END:DAYLIGHT
BEGIN:DAYLIGHT
DTSTART:20230326T030000
RDATE:20231029T020000
TZOFFSETFROM:+0100
TZOFFSETTO:+0200
TZNAME:Europe/Paris CEST
END:DAYLIGHT
BEGIN:DAYLIGHT
DTSTART:20240331T030000
RDATE:20241027T020000
TZOFFSETFROM:+0100
TZOFFSETTO:+0200
TZNAME:Europe/Paris CEST
END:DAYLIGHT
BEGIN:DAYLIGHT
DTSTART:20250330T030000
RDATE:20251026T020000
TZOFFSETFROM:+0100
TZOFFSETTO:+0200
TZNAME:Europe/Paris CEST
END:DAYLIGHT
BEGIN:DAYLIGHT
DTSTART:20260329T030000
RDATE:20261025T020000
TZOFFSETFROM:+0100
TZOFFSETTO:+0200
TZNAME:Europe/Paris CEST
END:DAYLIGHT
END:VTIMEZONE
BEGIN:VEVENT
UID:4e656998795cf24315eb224cf83af5fa
CATEGORIES:Opens et Promos (alpin)
CREATED:20171208T202004
SUMMARY:OPEN LES CARS FERRY TCHIZZ
URL;VALUE=URI:https://skivosges.net/agenda/export-synchronisation/detailevenement/1026/-/
 open-les-cars-ferry-tchizz?tmpl=component
DESCRIPTION:OPEN LES CARS FERRY TCHIZZ\n - Codex évenement AMVT1050\n - Station : GERAR
 DMER\n - Piste : Stade\n - Organisateur : 14409 A.S DU VALTIN\n - Courriel 
 : RegularLabs.EmailProtector.unCloak("ep_bac3a3d1");\n - Délégué Technique 
 : GOURGUILLON HUBERTPériode d'inscription à l'evènement du dimanche 10 déce
 mbre 2017 à 00:00 au vendredi 15 décembre 2017 à 23:00 (Inscriptions imposs
 ibles).Inscriptions ouvertes aux detenteurs des titres Fédéraux valides sui
 vants : Licenciés CompétiteursL'épreuve sera chronometrée avec les résultat
 s publiés en direct (live)Epreuves :\n - Le dimanche 17 décembre 2017 à 10:
 00\n - Codex épreuve AMVM1051\n - Slalom\n - Catégorie(s) : U16 (Garçons)\n
  - Le dimanche 17 décembre 2017 à 10:00\n - Codex épreuve AMVF1051\n - Slal
 om\n - Catégorie(s) : U16 (Filles)\n - Le dimanche 17 décembre 2017 à 10:00
 \n - Codex épreuve AMVM1052\n - Slalom\n - Catégorie(s) : U18 a Masters (Ho
 mmes)\n - Le dimanche 17 décembre 2017 à 10:00\n - Codex épreuve AMVF1052\n
  - Slalom\n - Catégorie(s) : U18 a Masters (Dames)\n - Voir les information
 s dans l'agenda... (/index.php?option=com_jevents&amp;task=icalevent.detail
 &amp;evid=1021&amp;Itemid=6283)\n - Vers les résultats... (/index.php?optio
 n=com_gskiepreuves&amp;view=afficheresultats&amp;format_option=tous&amp;fil
 ter[search]=AMVT1050&amp;filter[date_debut]=17-12-2017&amp;filter[date_fin]
 =17-12-2017&amp;code_activite=ALP&amp;Itemid=6283) Cet évènement a été impo
 rté depuis :https://skivosges.net/agenda/export-synchronisation/detailevene
 ment/1026/-/open-les-cars-ferry-tchizz?tmpl=component
X-ALT-DESC;FMTTYPE=text/html:<!-- #gskiepreuve code généré par le plugin jevents pour GskiEpreuves. Ne p
 as modifier cette ligne, ni tout le contenu suivant  #gskiepreuve --><div c
 lass="gski-evenement_infos"><div class="gski-evenement-nom">OPEN LES CARS F
 ERRY TCHIZZ</div><div class="gski-evenement-report"></div><ul class="gski-e
 venement-liste-infos"><li>Codex évenement AMVT1050</li><li>Station : GERARD
 MER</li><li>Piste : Stade</li><li>Organisateur : 14409 A.S DU VALTIN</li><l
 i>Courriel : <!-- Cette adresse électronique est protégée contre les robots
  spammeurs. --><span class="cloaked_email ep_bac3a3d1"><span data-ep-b="&#1
 02;r" data-ep-a="&#112;h&#105;li"><span data-ep-a="&#112;&#112;&#101;.h" da
 ta-ep-b="a&#110;&#103;&#101;."><span data-ep-b="on&#64;&#111;&#114;" data-e
 p-a="&#111;&#117;&#105;&#108;&#108;"></span></span></span></span><script>Re
 gularLabs.EmailProtector.unCloak("ep_bac3a3d1");</script></li><li><span cla
 ss="gski-evenement-obs">Délégué Technique : GOURGUILLON HUBERT</span></li><
 /ul><div class="gski-evenement-infos-2"><div class="gski-evenement-info-ins
 criptions"><div class="gski-evenement-inscriptions-periodes">Période d'insc
 ription à l'evènement du dimanche 10 décembre 2017 à 00:00 au vendredi 15 d
 écembre 2017 à 23:00 <span class="gski-evenement-inscriptions-impossibles">
 (Inscriptions impossibles).</span><div class="gski-evenement-inscriptions-t
 ypes-titres">Inscriptions ouvertes aux detenteurs des titres Fédéraux valid
 es suivants : Licenciés Compétiteurs</div></div></div><div class="gski-even
 ement-info-live">L'épreuve sera chronometrée avec les résultats publiés en 
 direct (live)</div><div class="gski-evenement-epreuves"><div class="gski-ev
 enement-epreuves-titres">Epreuves :</div><ul class="gski-evenement-epreuves
 -list"><li><div class="gski-epreuve-date">Le dimanche 17 décembre 2017 à 10
 :00</div><ul class="gski-epreuve-liste-infos"><li>Codex épreuve AMVM1051</l
 i><li>Slalom</li><li>Catégorie(s) : U16 (Garçons)</li></ul></li><li><div cl
 ass="gski-epreuve-date">Le dimanche 17 décembre 2017 à 10:00</div><ul class
 ="gski-epreuve-liste-infos"><li>Codex épreuve AMVF1051</li><li>Slalom</li><
 li>Catégorie(s) : U16 (Filles)</li></ul></li><li><div class="gski-epreuve-d
 ate">Le dimanche 17 décembre 2017 à 10:00</div><ul class="gski-epreuve-list
 e-infos"><li>Codex épreuve AMVM1052</li><li>Slalom</li><li>Catégorie(s) : U
 18 a Masters (Hommes)</li></ul></li><li><div class="gski-epreuve-date">Le d
 imanche 17 décembre 2017 à 10:00</div><ul class="gski-epreuve-liste-infos">
 <li>Codex épreuve AMVF1052</li><li>Slalom</li><li>Catégorie(s) : U18 a Mast
 ers (Dames)</li></ul></li></ul></div><div class="gskiepreuves-links"><ul><l
 i><a href="https://skivosges.net/index.php?option=com_jevents&task=icaleven
 t.detail&evid=1021&Itemid=6283">Voir les informations dans l'agenda...</a><
 /li><li><a href="https://skivosges.net/index.php?option=com_gskiepreuves&vi
 ew=afficheresultats&format_option=tous&filter[search]=AMVT1050&filter[date_
 debut]=17-12-2017&filter[date_fin]=17-12-2017&code_activite=ALP&Itemid=6283
 ">Vers les résultats...</a></li></ul></div></div"><!-- #/gskiepreuve fin du
  dode généré par le plugin jevents pour GskiEpreuves. . Ne pas modifier cet
 te ligne, ni tout le contenu précedant.  #/gskiepreuve --> <a href="https:/
 /skivosges.net/agenda/export-synchronisation/detailevenement/1026/-/open-le
 s-cars-ferry-tchizz?tmpl=component">Cet évènement a été importé depuis :htt
 ps://skivosges.net/agenda/export-synchronisation/detailevenement/1026/-/ope
 n-les-cars-ferry-tchizz?tmpl=component</a>DTSTAMP:20260420T220825
DTSTART;TZID=Europe/Paris;VALUE=DATE:20171217
DTEND;TZID=Europe/Paris;VALUE=DATE:20171218
SEQUENCE:0
TRANSP:OPAQUE
END:VEVENT
END:VCALENDAR