BEGIN:VCALENDAR
VERSION:2.0
PRODID:-//jEvents 2.0 for Joomla//EN
CALSCALE:GREGORIAN
METHOD:PUBLISH
BEGIN:VTIMEZONE
TZID:Europe/Paris
BEGIN:STANDARD
DTSTART:20170208T000000
RDATE:20170326T030000
TZOFFSETFROM:+0200
TZOFFSETTO:+0100
TZNAME:Europe/Paris CET
END:STANDARD
BEGIN:STANDARD
DTSTART:20171029T020000
RDATE:20180325T030000
TZOFFSETFROM:+0200
TZOFFSETTO:+0100
TZNAME:Europe/Paris CET
END:STANDARD
BEGIN:STANDARD
DTSTART:20181028T020000
RDATE:20190331T030000
TZOFFSETFROM:+0200
TZOFFSETTO:+0100
TZNAME:Europe/Paris CET
END:STANDARD
BEGIN:STANDARD
DTSTART:20191027T020000
RDATE:20200329T030000
TZOFFSETFROM:+0200
TZOFFSETTO:+0100
TZNAME:Europe/Paris CET
END:STANDARD
BEGIN:STANDARD
DTSTART:20201025T020000
RDATE:20210328T030000
TZOFFSETFROM:+0200
TZOFFSETTO:+0100
TZNAME:Europe/Paris CET
END:STANDARD
BEGIN:STANDARD
DTSTART:20211031T020000
RDATE:20220327T030000
TZOFFSETFROM:+0200
TZOFFSETTO:+0100
TZNAME:Europe/Paris CET
END:STANDARD
BEGIN:STANDARD
DTSTART:20221030T020000
RDATE:20230326T030000
TZOFFSETFROM:+0200
TZOFFSETTO:+0100
TZNAME:Europe/Paris CET
END:STANDARD
BEGIN:STANDARD
DTSTART:20231029T020000
RDATE:20240331T030000
TZOFFSETFROM:+0200
TZOFFSETTO:+0100
TZNAME:Europe/Paris CET
END:STANDARD
BEGIN:STANDARD
DTSTART:20241027T020000
RDATE:20250330T030000
TZOFFSETFROM:+0200
TZOFFSETTO:+0100
TZNAME:Europe/Paris CET
END:STANDARD
BEGIN:STANDARD
DTSTART:20251026T020000
RDATE:20260329T030000
TZOFFSETFROM:+0200
TZOFFSETTO:+0100
TZNAME:Europe/Paris CET
END:STANDARD
BEGIN:STANDARD
DTSTART:20261025T020000
RDATE:20270328T030000
TZOFFSETFROM:+0200
TZOFFSETTO:+0100
TZNAME:Europe/Paris CET
END:STANDARD
BEGIN:DAYLIGHT
DTSTART:20170326T030000
RDATE:20171029T020000
TZOFFSETFROM:+0100
TZOFFSETTO:+0200
TZNAME:Europe/Paris CEST
END:DAYLIGHT
BEGIN:DAYLIGHT
DTSTART:20180325T030000
RDATE:20181028T020000
TZOFFSETFROM:+0100
TZOFFSETTO:+0200
TZNAME:Europe/Paris CEST
END:DAYLIGHT
BEGIN:DAYLIGHT
DTSTART:20190331T030000
RDATE:20191027T020000
TZOFFSETFROM:+0100
TZOFFSETTO:+0200
TZNAME:Europe/Paris CEST
END:DAYLIGHT
BEGIN:DAYLIGHT
DTSTART:20200329T030000
RDATE:20201025T020000
TZOFFSETFROM:+0100
TZOFFSETTO:+0200
TZNAME:Europe/Paris CEST
END:DAYLIGHT
BEGIN:DAYLIGHT
DTSTART:20210328T030000
RDATE:20211031T020000
TZOFFSETFROM:+0100
TZOFFSETTO:+0200
TZNAME:Europe/Paris CEST
END:DAYLIGHT
BEGIN:DAYLIGHT
DTSTART:20220327T030000
RDATE:20221030T020000
TZOFFSETFROM:+0100
TZOFFSETTO:+0200
TZNAME:Europe/Paris CEST
END:DAYLIGHT
BEGIN:DAYLIGHT
DTSTART:20230326T030000
RDATE:20231029T020000
TZOFFSETFROM:+0100
TZOFFSETTO:+0200
TZNAME:Europe/Paris CEST
END:DAYLIGHT
BEGIN:DAYLIGHT
DTSTART:20240331T030000
RDATE:20241027T020000
TZOFFSETFROM:+0100
TZOFFSETTO:+0200
TZNAME:Europe/Paris CEST
END:DAYLIGHT
BEGIN:DAYLIGHT
DTSTART:20250330T030000
RDATE:20251026T020000
TZOFFSETFROM:+0100
TZOFFSETTO:+0200
TZNAME:Europe/Paris CEST
END:DAYLIGHT
BEGIN:DAYLIGHT
DTSTART:20260329T030000
RDATE:20261025T020000
TZOFFSETFROM:+0100
TZOFFSETTO:+0200
TZNAME:Europe/Paris CEST
END:DAYLIGHT
END:VTIMEZONE
BEGIN:VEVENT
UID:e06cfe8f87d8445314573a37b410324a
CATEGORIES:Circuit Massif Masters (alpin)
CREATED:20180115T210047
SUMMARY:CMM  Esprit Racing GP WOLF **REPORTE(E) au 23/02/2018**
URL;VALUE=URI:https://skivosges.net/agenda/export-synchronisation/detailevenement/1030/-/
 cmm-esprit-racing-gp-wolf-reporte-e-au-23-02-2018?tmpl=component
DESCRIPTION:CMM  Esprit Racing GP WOLF (Report de l'épreuve initialement prévue le 19/0
 1/2018) (Epreuve reportée au 23/02/2018)\n - Codex évenement AMVT0320\n - S
 tation : MARKSTEIN\n - Organisateur : 14356 S.C.O.S.E.G. GUEBWILLER\n - Cou
 rriel : RegularLabs.EmailProtector.unCloak("ep_d3bed4f9");\n - Délégué Tech
 nique : VONTHRON JEAN MARIEPériode d'inscription à l'evènement du vendredi 
 02 février 2018 à 00:00 au mercredi 07 février 2018 à 12:00 (Inscriptions i
 mpossibles).Inscriptions ouvertes aux detenteurs des titres Fédéraux valide
 s suivants : Licenciés CompétiteursEpreuves :\n - Le vendredi 09 février 20
 18\n - Codex épreuve AMVM0321\n - Slalom\n - Catégorie(s) : Tous les Master
 s+U30 Hommes (Hommes)\n - Le vendredi 09 février 2018\n - Codex épreuve AMV
 F0321\n - Slalom\n - Catégorie(s) : Tous les Masters+U30 Dames (Dames)\n - 
 Voir les informations dans l'agenda... (/index.php?option=com_jevents&amp;t
 ask=icalevent.detail&amp;evid=1025&amp;Itemid=6283)\n - Vers les résultats.
 .. (/index.php?option=com_gskiepreuves&amp;view=afficheresultats&amp;format
 _option=tous&amp;filter[search]=AMVT0320&amp;filter[date_debut]=23-02-2018&
 amp;filter[date_fin]=23-02-2018&amp;code_activite=ALP&amp;Itemid=6283)\n - 
 Publications concernant cet évènement :\n - Vendredi 23 Février 2018 à 13:3
 6 : Le 19/01/2018 MARKSTEIN Liste de départs Cet évènement a été importé de
 puis :https://skivosges.net/agenda/export-synchronisation/detailevenement/1
 030/-/cmm-esprit-racing-gp-wolf-reporte-e-au-23-02-2018?tmpl=component
X-ALT-DESC;FMTTYPE=text/html:<!-- #gskiepreuve code généré par le plugin jevents pour GskiEpreuves. Ne p
 as modifier cette ligne, ni tout le contenu suivant  #gskiepreuve --><div c
 lass="gski-evenement_infos"><div class="gski-evenement-nom">CMM  Esprit Rac
 ing GP WOLF</div><div class="gski-evenement-report"> <font class="gskiatten
 tion">(Report de l'épreuve initialement prévue le 19/01/2018)</font> <font 
 class="gskiattention">(Epreuve reportée au 23/02/2018)</font></div><ul clas
 s="gski-evenement-liste-infos"><li>Codex évenement AMVT0320</li><li>Station
  : MARKSTEIN</li><li>Organisateur : 14356 S.C.O.S.E.G. GUEBWILLER</li><li>C
 ourriel : <!-- Cette adresse électronique est protégée contre les robots sp
 ammeurs. --><span class="cloaked_email ep_d3bed4f9"><span data-ep-b="&#102;
 r" data-ep-a="&#103;&#101;&#110;&#103;"><span data-ep-b="&#100;&#111;o&#46;
 " data-ep-a=".c&#108;a"><span data-ep-a="&#117;&#100;&#101;&#64;" data-ep-b
 ="&#119;&#97;&#110;&#97;"></span></span></span></span><script>RegularLabs.E
 mailProtector.unCloak("ep_d3bed4f9");</script></li><li><span class="gski-ev
 enement-obs">Délégué Technique : VONTHRON JEAN MARIE</span></li></ul><div c
 lass="gski-evenement-infos-2"><div class="gski-evenement-info-inscriptions"
 ><div class="gski-evenement-inscriptions-periodes">Période d'inscription à 
 l'evènement du vendredi 02 février 2018 à 00:00 au mercredi 07 février 2018
  à 12:00 <span class="gski-evenement-inscriptions-impossibles">(Inscription
 s impossibles).</span><div class="gski-evenement-inscriptions-types-titres"
 >Inscriptions ouvertes aux detenteurs des titres Fédéraux valides suivants 
 : Licenciés Compétiteurs</div></div></div><div class="gski-evenement-epreuv
 es"><div class="gski-evenement-epreuves-titres">Epreuves :</div><ul class="
 gski-evenement-epreuves-list"><li><div class="gski-epreuve-date">Le vendred
 i 09 février 2018</div><ul class="gski-epreuve-liste-infos"><li>Codex épreu
 ve AMVM0321</li><li>Slalom</li><li>Catégorie(s) : Tous les Masters+U30 Homm
 es (Hommes)</li></ul></li><li><div class="gski-epreuve-date">Le vendredi 09
  février 2018</div><ul class="gski-epreuve-liste-infos"><li>Codex épreuve A
 MVF0321</li><li>Slalom</li><li>Catégorie(s) : Tous les Masters+U30 Dames (D
 ames)</li></ul></li></ul></div><div class="gskiepreuves-links"><ul><li><a h
 ref="https://skivosges.net/index.php?option=com_jevents&task=icalevent.deta
 il&evid=1025&Itemid=6283">Voir les informations dans l'agenda...</a></li><l
 i><a href="https://skivosges.net/index.php?option=com_gskiepreuves&view=aff
 icheresultats&format_option=tous&filter[search]=AMVT0320&filter[date_debut]
 =23-02-2018&filter[date_fin]=23-02-2018&code_activite=ALP&Itemid=6283">Vers
  les résultats...</a></li><li>Publications concernant cet évènement :<ul><l
 i><a href="https://skivosges.net/index.php?option=com_content&view=article&
 id=6175&Itemid=6283">Vendredi 23 Février 2018 à 13:36 : Le 19/01/2018 MARKS
 TEIN Liste de départs</a></li></ul></li></ul></div></div"><!-- #/gskiepreuv
 e fin du dode généré par le plugin jevents pour GskiEpreuves. . Ne pas modi
 fier cette ligne, ni tout le contenu précedant.  #/gskiepreuve --> <a href=
 "https://skivosges.net/agenda/export-synchronisation/detailevenement/1030/-
 /cmm-esprit-racing-gp-wolf-reporte-e-au-23-02-2018?tmpl=component">Cet évèn
 ement a été importé depuis :https://skivosges.net/agenda/export-synchronisa
 tion/detailevenement/1030/-/cmm-esprit-racing-gp-wolf-reporte-e-au-23-02-20
 18?tmpl=component</a>DTSTAMP:20260421T014515
DTSTART;TZID=Europe/Paris;VALUE=DATE:20180209
DTEND;TZID=Europe/Paris;VALUE=DATE:20180210
SEQUENCE:0
TRANSP:OPAQUE
END:VEVENT
END:VCALENDAR