BEGIN:VCALENDAR
VERSION:2.0
PRODID:-//jEvents 2.0 for Joomla//EN
CALSCALE:GREGORIAN
METHOD:PUBLISH
BEGIN:VTIMEZONE
TZID:Europe/Paris
BEGIN:STANDARD
DTSTART:20170123T000000
RDATE:20170326T030000
TZOFFSETFROM:+0200
TZOFFSETTO:+0100
TZNAME:Europe/Paris CET
END:STANDARD
BEGIN:STANDARD
DTSTART:20171029T020000
RDATE:20180325T030000
TZOFFSETFROM:+0200
TZOFFSETTO:+0100
TZNAME:Europe/Paris CET
END:STANDARD
BEGIN:STANDARD
DTSTART:20181028T020000
RDATE:20190331T030000
TZOFFSETFROM:+0200
TZOFFSETTO:+0100
TZNAME:Europe/Paris CET
END:STANDARD
BEGIN:STANDARD
DTSTART:20191027T020000
RDATE:20200329T030000
TZOFFSETFROM:+0200
TZOFFSETTO:+0100
TZNAME:Europe/Paris CET
END:STANDARD
BEGIN:STANDARD
DTSTART:20201025T020000
RDATE:20210328T030000
TZOFFSETFROM:+0200
TZOFFSETTO:+0100
TZNAME:Europe/Paris CET
END:STANDARD
BEGIN:STANDARD
DTSTART:20211031T020000
RDATE:20220327T030000
TZOFFSETFROM:+0200
TZOFFSETTO:+0100
TZNAME:Europe/Paris CET
END:STANDARD
BEGIN:STANDARD
DTSTART:20221030T020000
RDATE:20230326T030000
TZOFFSETFROM:+0200
TZOFFSETTO:+0100
TZNAME:Europe/Paris CET
END:STANDARD
BEGIN:STANDARD
DTSTART:20231029T020000
RDATE:20240331T030000
TZOFFSETFROM:+0200
TZOFFSETTO:+0100
TZNAME:Europe/Paris CET
END:STANDARD
BEGIN:STANDARD
DTSTART:20241027T020000
RDATE:20250330T030000
TZOFFSETFROM:+0200
TZOFFSETTO:+0100
TZNAME:Europe/Paris CET
END:STANDARD
BEGIN:STANDARD
DTSTART:20251026T020000
RDATE:20260329T030000
TZOFFSETFROM:+0200
TZOFFSETTO:+0100
TZNAME:Europe/Paris CET
END:STANDARD
BEGIN:STANDARD
DTSTART:20261025T020000
RDATE:20270328T030000
TZOFFSETFROM:+0200
TZOFFSETTO:+0100
TZNAME:Europe/Paris CET
END:STANDARD
BEGIN:DAYLIGHT
DTSTART:20170326T030000
RDATE:20171029T020000
TZOFFSETFROM:+0100
TZOFFSETTO:+0200
TZNAME:Europe/Paris CEST
END:DAYLIGHT
BEGIN:DAYLIGHT
DTSTART:20180325T030000
RDATE:20181028T020000
TZOFFSETFROM:+0100
TZOFFSETTO:+0200
TZNAME:Europe/Paris CEST
END:DAYLIGHT
BEGIN:DAYLIGHT
DTSTART:20190331T030000
RDATE:20191027T020000
TZOFFSETFROM:+0100
TZOFFSETTO:+0200
TZNAME:Europe/Paris CEST
END:DAYLIGHT
BEGIN:DAYLIGHT
DTSTART:20200329T030000
RDATE:20201025T020000
TZOFFSETFROM:+0100
TZOFFSETTO:+0200
TZNAME:Europe/Paris CEST
END:DAYLIGHT
BEGIN:DAYLIGHT
DTSTART:20210328T030000
RDATE:20211031T020000
TZOFFSETFROM:+0100
TZOFFSETTO:+0200
TZNAME:Europe/Paris CEST
END:DAYLIGHT
BEGIN:DAYLIGHT
DTSTART:20220327T030000
RDATE:20221030T020000
TZOFFSETFROM:+0100
TZOFFSETTO:+0200
TZNAME:Europe/Paris CEST
END:DAYLIGHT
BEGIN:DAYLIGHT
DTSTART:20230326T030000
RDATE:20231029T020000
TZOFFSETFROM:+0100
TZOFFSETTO:+0200
TZNAME:Europe/Paris CEST
END:DAYLIGHT
BEGIN:DAYLIGHT
DTSTART:20240331T030000
RDATE:20241027T020000
TZOFFSETFROM:+0100
TZOFFSETTO:+0200
TZNAME:Europe/Paris CEST
END:DAYLIGHT
BEGIN:DAYLIGHT
DTSTART:20250330T030000
RDATE:20251026T020000
TZOFFSETFROM:+0100
TZOFFSETTO:+0200
TZNAME:Europe/Paris CEST
END:DAYLIGHT
BEGIN:DAYLIGHT
DTSTART:20260329T030000
RDATE:20261025T020000
TZOFFSETFROM:+0100
TZOFFSETTO:+0200
TZNAME:Europe/Paris CEST
END:DAYLIGHT
END:VTIMEZONE
BEGIN:VEVENT
UID:f253cab6f888b9c0f0669fa538ecc84f
CATEGORIES:Circuit Massif Jeunes (alpin)
CREATED:20180122T113901
SUMMARY:CJM Coupe d'Argent U16 Prix de la commission alpine **REPORTE**
URL;VALUE=URI:https://skivosges.net/agenda/export-synchronisation/detailevenement/1032/-/
 cjm-coupe-dargent-u16-prix-de-la-commission-alpine-reporte?tmpl=component
DESCRIPTION:CJM Coupe d'Argent U16 Prix de la commission alpine (Epreuve reportée, date
  à determiner)\n - Codex évenement AMVT1080\n - Station : LAC BLANC\n - Org
 anisateur : 14251 SKI CLUB LE BONHOMME\n - Courriel : RegularLabs.EmailProt
 ector.unCloak("ep_7686bbd4");\n - Téléphone : 03 89 47 50 21Période d'inscr
 iption à l'evènement du mercredi 17 janvier 2018 à 00:00 au lundi 22 janvie
 r 2018 à 12:00 (Inscriptions impossibles).Inscriptions ouvertes aux detente
 urs des titres Fédéraux valides suivants : Licenciés CompétiteursEpreuves :
 \n - Le mercredi 24 janvier 2018\n - Codex épreuve AMVM1081\n - Slalom Gean
 t\n - Catégorie(s) : U16 (Garçons)\n - Le mercredi 24 janvier 2018\n - Code
 x épreuve AMVF1081\n - Slalom Geant\n - Catégorie(s) : U16 (Filles)\n - Le 
 mercredi 24 janvier 2018\n - Codex épreuve AMVM1082\n - Slalom Geant\n - Ca
 tégorie(s) : U16 (Garçons)\n - Le mercredi 24 janvier 2018\n - Codex épreuv
 e AMVF1082\n - Slalom Geant\n - Catégorie(s) : U16 (Filles)\n - Voir les in
 formations dans l'agenda... (/index.php?option=com_jevents&amp;task=icaleve
 nt.detail&amp;evid=1027&amp;Itemid=6283) Cet évènement a été importé depuis
  :https://skivosges.net/agenda/export-synchronisation/detailevenement/1032/
 -/cjm-coupe-dargent-u16-prix-de-la-commission-alpine-reporte?tmpl=component
X-ALT-DESC;FMTTYPE=text/html:<!-- #gskiepreuve code généré par le plugin jevents pour GskiEpreuves. Ne p
 as modifier cette ligne, ni tout le contenu suivant  #gskiepreuve --><div c
 lass="gski-evenement_infos"><div class="gski-evenement-nom">CJM Coupe d'Arg
 ent U16 Prix de la commission alpine</div><div class="gski-evenement-report
 "> <font class="gskiattention">(Epreuve reportée, date à determiner)</font>
 </div><ul class="gski-evenement-liste-infos"><li>Codex évenement AMVT1080</
 li><li>Station : LAC BLANC</li><li>Organisateur : 14251 SKI CLUB LE BONHOMM
 E</li><li>Courriel : <!-- Cette adresse électronique est protégée contre le
 s robots spammeurs. --><span class="cloaked_email ep_7686bbd4"><span data-e
 p-b="&#111;.&#102;r" data-ep-a="c&#108;&#97;&#117;"><span data-ep-b="&#110;
 a&#100;&#111;" data-ep-a="&#100;&#101;&#46;g"><span data-ep-a="&#97;&#117;&
 #100;&#101;" data-ep-b="&#108;&#64;&#119;&#97;"></span></span></span></span
 ><script>RegularLabs.EmailProtector.unCloak("ep_7686bbd4");</script></li><l
 i>Téléphone : 03 89 47 50 21</li></ul><div class="gski-evenement-infos-2"><
 div class="gski-evenement-info-inscriptions"><div class="gski-evenement-ins
 criptions-periodes">Période d'inscription à l'evènement du mercredi 17 janv
 ier 2018 à 00:00 au lundi 22 janvier 2018 à 12:00 <span class="gski-eveneme
 nt-inscriptions-impossibles">(Inscriptions impossibles).</span><div class="
 gski-evenement-inscriptions-types-titres">Inscriptions ouvertes aux detente
 urs des titres Fédéraux valides suivants : Licenciés Compétiteurs</div></di
 v></div><div class="gski-evenement-epreuves"><div class="gski-evenement-epr
 euves-titres">Epreuves :</div><ul class="gski-evenement-epreuves-list"><li>
 <div class="gski-epreuve-date">Le mercredi 24 janvier 2018</div><ul class="
 gski-epreuve-liste-infos"><li>Codex épreuve AMVM1081</li><li>Slalom Geant</
 li><li>Catégorie(s) : U16 (Garçons)</li></ul></li><li><div class="gski-epre
 uve-date">Le mercredi 24 janvier 2018</div><ul class="gski-epreuve-liste-in
 fos"><li>Codex épreuve AMVF1081</li><li>Slalom Geant</li><li>Catégorie(s) :
  U16 (Filles)</li></ul></li><li><div class="gski-epreuve-date">Le mercredi 
 24 janvier 2018</div><ul class="gski-epreuve-liste-infos"><li>Codex épreuve
  AMVM1082</li><li>Slalom Geant</li><li>Catégorie(s) : U16 (Garçons)</li></u
 l></li><li><div class="gski-epreuve-date">Le mercredi 24 janvier 2018</div>
 <ul class="gski-epreuve-liste-infos"><li>Codex épreuve AMVF1082</li><li>Sla
 lom Geant</li><li>Catégorie(s) : U16 (Filles)</li></ul></li></ul></div><div
  class="gskiepreuves-links"><ul><li><a href="https://skivosges.net/index.ph
 p?option=com_jevents&task=icalevent.detail&evid=1027&Itemid=6283">Voir les 
 informations dans l'agenda...</a></li></ul></div></div"><!-- #/gskiepreuve 
 fin du dode généré par le plugin jevents pour GskiEpreuves. . Ne pas modifi
 er cette ligne, ni tout le contenu précedant.  #/gskiepreuve --> <a href="h
 ttps://skivosges.net/agenda/export-synchronisation/detailevenement/1032/-/c
 jm-coupe-dargent-u16-prix-de-la-commission-alpine-reporte?tmpl=component">C
 et évènement a été importé depuis :https://skivosges.net/agenda/export-sync
 hronisation/detailevenement/1032/-/cjm-coupe-dargent-u16-prix-de-la-commiss
 ion-alpine-reporte?tmpl=component</a>DTSTAMP:20260421T050749
DTSTART;TZID=Europe/Paris;VALUE=DATE:20180124
DTEND;TZID=Europe/Paris;VALUE=DATE:20180125
SEQUENCE:0
TRANSP:OPAQUE
END:VEVENT
END:VCALENDAR