BEGIN:VCALENDAR
VERSION:2.0
PRODID:-//jEvents 2.0 for Joomla//EN
CALSCALE:GREGORIAN
METHOD:PUBLISH
BEGIN:VTIMEZONE
TZID:Europe/Paris
BEGIN:STANDARD
DTSTART:20130125T080000
RDATE:20130331T030000
TZOFFSETFROM:+0200
TZOFFSETTO:+0100
TZNAME:Europe/Paris CET
END:STANDARD
BEGIN:STANDARD
DTSTART:20131027T020000
RDATE:20140330T030000
TZOFFSETFROM:+0200
TZOFFSETTO:+0100
TZNAME:Europe/Paris CET
END:STANDARD
BEGIN:STANDARD
DTSTART:20141026T020000
RDATE:20150329T030000
TZOFFSETFROM:+0200
TZOFFSETTO:+0100
TZNAME:Europe/Paris CET
END:STANDARD
BEGIN:STANDARD
DTSTART:20151025T020000
RDATE:20160327T030000
TZOFFSETFROM:+0200
TZOFFSETTO:+0100
TZNAME:Europe/Paris CET
END:STANDARD
BEGIN:STANDARD
DTSTART:20161030T020000
RDATE:20170326T030000
TZOFFSETFROM:+0200
TZOFFSETTO:+0100
TZNAME:Europe/Paris CET
END:STANDARD
BEGIN:STANDARD
DTSTART:20171029T020000
RDATE:20180325T030000
TZOFFSETFROM:+0200
TZOFFSETTO:+0100
TZNAME:Europe/Paris CET
END:STANDARD
BEGIN:STANDARD
DTSTART:20181028T020000
RDATE:20190331T030000
TZOFFSETFROM:+0200
TZOFFSETTO:+0100
TZNAME:Europe/Paris CET
END:STANDARD
BEGIN:STANDARD
DTSTART:20191027T020000
RDATE:20200329T030000
TZOFFSETFROM:+0200
TZOFFSETTO:+0100
TZNAME:Europe/Paris CET
END:STANDARD
BEGIN:STANDARD
DTSTART:20201025T020000
RDATE:20210328T030000
TZOFFSETFROM:+0200
TZOFFSETTO:+0100
TZNAME:Europe/Paris CET
END:STANDARD
BEGIN:STANDARD
DTSTART:20211031T020000
RDATE:20220327T030000
TZOFFSETFROM:+0200
TZOFFSETTO:+0100
TZNAME:Europe/Paris CET
END:STANDARD
BEGIN:STANDARD
DTSTART:20221030T020000
RDATE:20230326T030000
TZOFFSETFROM:+0200
TZOFFSETTO:+0100
TZNAME:Europe/Paris CET
END:STANDARD
BEGIN:STANDARD
DTSTART:20231029T020000
RDATE:20240331T030000
TZOFFSETFROM:+0200
TZOFFSETTO:+0100
TZNAME:Europe/Paris CET
END:STANDARD
BEGIN:STANDARD
DTSTART:20241027T020000
RDATE:20250330T030000
TZOFFSETFROM:+0200
TZOFFSETTO:+0100
TZNAME:Europe/Paris CET
END:STANDARD
BEGIN:STANDARD
DTSTART:20251026T020000
RDATE:20260329T030000
TZOFFSETFROM:+0200
TZOFFSETTO:+0100
TZNAME:Europe/Paris CET
END:STANDARD
BEGIN:STANDARD
DTSTART:20261025T020000
RDATE:20270328T030000
TZOFFSETFROM:+0200
TZOFFSETTO:+0100
TZNAME:Europe/Paris CET
END:STANDARD
BEGIN:DAYLIGHT
DTSTART:20130331T030000
RDATE:20131027T020000
TZOFFSETFROM:+0100
TZOFFSETTO:+0200
TZNAME:Europe/Paris CEST
END:DAYLIGHT
BEGIN:DAYLIGHT
DTSTART:20140330T030000
RDATE:20141026T020000
TZOFFSETFROM:+0100
TZOFFSETTO:+0200
TZNAME:Europe/Paris CEST
END:DAYLIGHT
BEGIN:DAYLIGHT
DTSTART:20150329T030000
RDATE:20151025T020000
TZOFFSETFROM:+0100
TZOFFSETTO:+0200
TZNAME:Europe/Paris CEST
END:DAYLIGHT
BEGIN:DAYLIGHT
DTSTART:20160327T030000
RDATE:20161030T020000
TZOFFSETFROM:+0100
TZOFFSETTO:+0200
TZNAME:Europe/Paris CEST
END:DAYLIGHT
BEGIN:DAYLIGHT
DTSTART:20170326T030000
RDATE:20171029T020000
TZOFFSETFROM:+0100
TZOFFSETTO:+0200
TZNAME:Europe/Paris CEST
END:DAYLIGHT
BEGIN:DAYLIGHT
DTSTART:20180325T030000
RDATE:20181028T020000
TZOFFSETFROM:+0100
TZOFFSETTO:+0200
TZNAME:Europe/Paris CEST
END:DAYLIGHT
BEGIN:DAYLIGHT
DTSTART:20190331T030000
RDATE:20191027T020000
TZOFFSETFROM:+0100
TZOFFSETTO:+0200
TZNAME:Europe/Paris CEST
END:DAYLIGHT
BEGIN:DAYLIGHT
DTSTART:20200329T030000
RDATE:20201025T020000
TZOFFSETFROM:+0100
TZOFFSETTO:+0200
TZNAME:Europe/Paris CEST
END:DAYLIGHT
BEGIN:DAYLIGHT
DTSTART:20210328T030000
RDATE:20211031T020000
TZOFFSETFROM:+0100
TZOFFSETTO:+0200
TZNAME:Europe/Paris CEST
END:DAYLIGHT
BEGIN:DAYLIGHT
DTSTART:20220327T030000
RDATE:20221030T020000
TZOFFSETFROM:+0100
TZOFFSETTO:+0200
TZNAME:Europe/Paris CEST
END:DAYLIGHT
BEGIN:DAYLIGHT
DTSTART:20230326T030000
RDATE:20231029T020000
TZOFFSETFROM:+0100
TZOFFSETTO:+0200
TZNAME:Europe/Paris CEST
END:DAYLIGHT
BEGIN:DAYLIGHT
DTSTART:20240331T030000
RDATE:20241027T020000
TZOFFSETFROM:+0100
TZOFFSETTO:+0200
TZNAME:Europe/Paris CEST
END:DAYLIGHT
BEGIN:DAYLIGHT
DTSTART:20250330T030000
RDATE:20251026T020000
TZOFFSETFROM:+0100
TZOFFSETTO:+0200
TZNAME:Europe/Paris CEST
END:DAYLIGHT
BEGIN:DAYLIGHT
DTSTART:20260329T030000
RDATE:20261025T020000
TZOFFSETFROM:+0100
TZOFFSETTO:+0200
TZNAME:Europe/Paris CEST
END:DAYLIGHT
END:VTIMEZONE
BEGIN:VEVENT
UID:4ba876a1254d8fa692ed5fa5adaf27e9
CATEGORIES:Opens et Promos (alpin)
CREATED:20131203T122100
SUMMARY:OPEN U10 à U14 Championnats de Ht Saone **REPORTE**
URL;VALUE=URI:https://skivosges.net/agenda/export-synchronisation/detailevenement/106/-/o
 pen-u10-a-u14-championnats-de-ht-saone-reporte?tmpl=component
DESCRIPTION:OPEN U10 à U14 Championnats de Ht Saone (Epreuve reportée, date à determine
 r)\n\nLieu : PLANCHES BELLES FILLES \nOrganisateur : SKI CLUB LURON  (14215
  SKI CLUB LURON)\nEmail : RegularLabs.EmailProtector.unCloak("ep_72e3e196")
 ;\nTelecopie : 03 29 60 98 04\nTelecopie : 03 29 60 98 04\n\nInscriptions e
 n cours sur ce site\n - AMVF0311  Slalom Geant U10 Filles\n  OPEN U10 à U14
  Championnats de Ht Saone\n - AMVM0311  Slalom Geant U10 Garçons\n  OPEN U1
 0 à U14 Championnats de Ht Saone\n - AMVM0312  Slalom Geant de 10 a 13ans a
 u 31/12/2012 (Pou/Ben) Garçons\n  OPEN U10 à U14 Championnats de Ht Saone\n
  - AMVM0313  Slalom Geant de 10 a 13ans au 31/12/2012 (Pou/Ben) Garçons\n  
 OPEN U10 à U14 Championnats de Ht Saone Cet évènement a été importé depuis 
 :https://skivosges.net/agenda/export-synchronisation/detailevenement/106/-/
 open-u10-a-u14-championnats-de-ht-saone-reporte?tmpl=component
X-ALT-DESC;FMTTYPE=text/html:<strong>OPEN U10 à U14 Championnats de Ht Saone</strong> <font class="atten
 tion4">(Epreuve reportée, date à determiner)</font><br /><br />Lieu : PLANC
 HES BELLES FILLES <br />Organisateur : SKI CLUB LURON  <small>(14215 SKI CL
 UB LURON)</small><br />Email : <!-- Cette adresse électronique est protégée
  contre les robots spammeurs. --><span class="cloaked_email ep_72e3e196"><s
 pan data-ep-b="e.f&#114;" data-ep-a="&#103;&#101;r&#97;&#114;"><span data-e
 p-b="&#111;ra&#110;&#103;" data-ep-a="&#100;&#109;e&#114;&#45;"><span data-
 ep-b="&#108;&#112;&#105;n&#64;" data-ep-a="&#115;&#107;i&#45;&#97;"></span>
 </span></span></span><script>RegularLabs.EmailProtector.unCloak("ep_72e3e19
 6");</script><br />Telecopie : 03 29 60 98 04<br />Telecopie : 03 29 60 98 
 04<br /><br />Inscriptions en cours sur ce site<ul type="disc"><li>AMVF0311
   Slalom Geant <nobr>U10</nobr> Filles<br />&nbsp;&nbsp;OPEN U10 à U14 Cham
 pionnats de Ht Saone</li><li>AMVM0311  Slalom Geant <nobr>U10</nobr> Garçon
 s<br />&nbsp;&nbsp;OPEN U10 à U14 Championnats de Ht Saone</li><li>AMVM0312
   Slalom Geant <nobr>de 10 a 13ans au 31/12/2012 (Pou/Ben)</nobr> Garçons<b
 r />&nbsp;&nbsp;OPEN U10 à U14 Championnats de Ht Saone</li><li>AMVM0313  S
 lalom Geant <nobr>de 10 a 13ans au 31/12/2012 (Pou/Ben)</nobr> Garçons<br /
 >&nbsp;&nbsp;OPEN U10 à U14 Championnats de Ht Saone</li></ul> <a href="htt
 ps://skivosges.net/agenda/export-synchronisation/detailevenement/106/-/open
 -u10-a-u14-championnats-de-ht-saone-reporte?tmpl=component">Cet évènement a
  été importé depuis :https://skivosges.net/agenda/export-synchronisation/de
 tailevenement/106/-/open-u10-a-u14-championnats-de-ht-saone-reporte?tmpl=co
 mponent</a>DTSTAMP:20260421T050637
DTSTART;TZID=Europe/Paris:20140126T080000
DTEND;TZID=Europe/Paris:20140126T170000
SEQUENCE:0
TRANSP:OPAQUE
END:VEVENT
END:VCALENDAR