BEGIN:VCALENDAR
VERSION:2.0
PRODID:-//jEvents 2.0 for Joomla//EN
CALSCALE:GREGORIAN
METHOD:PUBLISH
BEGIN:VTIMEZONE
TZID:Europe/Paris
BEGIN:STANDARD
DTSTART:20171109T084500
RDATE:20180325T030000
TZOFFSETFROM:+0200
TZOFFSETTO:+0100
TZNAME:Europe/Paris CET
END:STANDARD
BEGIN:STANDARD
DTSTART:20181028T020000
RDATE:20190331T030000
TZOFFSETFROM:+0200
TZOFFSETTO:+0100
TZNAME:Europe/Paris CET
END:STANDARD
BEGIN:STANDARD
DTSTART:20191027T020000
RDATE:20200329T030000
TZOFFSETFROM:+0200
TZOFFSETTO:+0100
TZNAME:Europe/Paris CET
END:STANDARD
BEGIN:STANDARD
DTSTART:20201025T020000
RDATE:20210328T030000
TZOFFSETFROM:+0200
TZOFFSETTO:+0100
TZNAME:Europe/Paris CET
END:STANDARD
BEGIN:STANDARD
DTSTART:20211031T020000
RDATE:20220327T030000
TZOFFSETFROM:+0200
TZOFFSETTO:+0100
TZNAME:Europe/Paris CET
END:STANDARD
BEGIN:STANDARD
DTSTART:20221030T020000
RDATE:20230326T030000
TZOFFSETFROM:+0200
TZOFFSETTO:+0100
TZNAME:Europe/Paris CET
END:STANDARD
BEGIN:STANDARD
DTSTART:20231029T020000
RDATE:20240331T030000
TZOFFSETFROM:+0200
TZOFFSETTO:+0100
TZNAME:Europe/Paris CET
END:STANDARD
BEGIN:STANDARD
DTSTART:20241027T020000
RDATE:20250330T030000
TZOFFSETFROM:+0200
TZOFFSETTO:+0100
TZNAME:Europe/Paris CET
END:STANDARD
BEGIN:STANDARD
DTSTART:20251026T020000
RDATE:20260329T030000
TZOFFSETFROM:+0200
TZOFFSETTO:+0100
TZNAME:Europe/Paris CET
END:STANDARD
BEGIN:STANDARD
DTSTART:20261025T020000
RDATE:20270328T030000
TZOFFSETFROM:+0200
TZOFFSETTO:+0100
TZNAME:Europe/Paris CET
END:STANDARD
BEGIN:DAYLIGHT
DTSTART:20180325T030000
RDATE:20181028T020000
TZOFFSETFROM:+0100
TZOFFSETTO:+0200
TZNAME:Europe/Paris CEST
END:DAYLIGHT
BEGIN:DAYLIGHT
DTSTART:20190331T030000
RDATE:20191027T020000
TZOFFSETFROM:+0100
TZOFFSETTO:+0200
TZNAME:Europe/Paris CEST
END:DAYLIGHT
BEGIN:DAYLIGHT
DTSTART:20200329T030000
RDATE:20201025T020000
TZOFFSETFROM:+0100
TZOFFSETTO:+0200
TZNAME:Europe/Paris CEST
END:DAYLIGHT
BEGIN:DAYLIGHT
DTSTART:20210328T030000
RDATE:20211031T020000
TZOFFSETFROM:+0100
TZOFFSETTO:+0200
TZNAME:Europe/Paris CEST
END:DAYLIGHT
BEGIN:DAYLIGHT
DTSTART:20220327T030000
RDATE:20221030T020000
TZOFFSETFROM:+0100
TZOFFSETTO:+0200
TZNAME:Europe/Paris CEST
END:DAYLIGHT
BEGIN:DAYLIGHT
DTSTART:20230326T030000
RDATE:20231029T020000
TZOFFSETFROM:+0100
TZOFFSETTO:+0200
TZNAME:Europe/Paris CEST
END:DAYLIGHT
BEGIN:DAYLIGHT
DTSTART:20240331T030000
RDATE:20241027T020000
TZOFFSETFROM:+0100
TZOFFSETTO:+0200
TZNAME:Europe/Paris CEST
END:DAYLIGHT
BEGIN:DAYLIGHT
DTSTART:20250330T030000
RDATE:20251026T020000
TZOFFSETFROM:+0100
TZOFFSETTO:+0200
TZNAME:Europe/Paris CEST
END:DAYLIGHT
BEGIN:DAYLIGHT
DTSTART:20260329T030000
RDATE:20261025T020000
TZOFFSETFROM:+0100
TZOFFSETTO:+0200
TZNAME:Europe/Paris CEST
END:DAYLIGHT
END:VTIMEZONE
BEGIN:VEVENT
UID:a61d01e86f9004279a92fd591748945f
CATEGORIES:Formation Officiels - Chronos - Gestionnaires
CREATED:20181017T164858
SUMMARY:Chronometreur : formation / recyclage
LOCATION:Cernay / Siège du CRMVS
URL;VALUE=URI:https://skivosges.net/agenda/export-synchronisation/detailevenement/1092/-/
 chronometreur-formation-recyclage?tmpl=component
DESCRIPTION:<p>La commission Règles et Contrôles du CRMVS organise :</p><p>une <strong>
 session de recyclage « chronométreurs »</strong></p><p>Durée prévisionnelle
  : 4H00.</p><p>Plusieurs tests et questionnaires seront effectués.</p><p>In
 scription obligatoire, nombre de places limitées.</p><p>Avant inscription, 
 contacter le référent Chronométrage <!-- Cette adresse électronique est pro
 tégée contre les robots spammeurs. --><a href="javascript:/* Cette adresse 
 &eacute;lectronique est prot&eacute;g&eacute;e contre les robots spammeurs.
 */">Yves Dodin<span class="cloaked_email ep_74c7d0a2" style="display:none;"
 ><span data-ep-a="&#121;&#100;&#111;&#100;i&#110;&#64;wa&#110;&#97;&#100;&#
 111;&#111;&#46;&#102;&#114;&#63;&#99;&#99;=&#114;&#101;&#103;&#108;&#101;" 
 data-ep-b="1&#56;&#47;0&#49;&#47;&#50;&#48;1&#55;&#37;&#50;&#48;&#97;&#37;&
 #50;0&#67;&#101;&#114;&#110;a&#121;"><span data-ep-b="ge&#37;&#50;0&#99;h&#
 114;o&#110;&#111;&#109;étr&#101;&#117;r&#37;&#50;0du&#37;&#50;&#48;" data-e
 p-a="&#115;-&#101;&#116;&#45;&#99;ontro&#108;&#101;&#115;&#64;s&#107;i&#118
 ;&#111;s&#103;es&#46;&#110;"><span data-ep-a="&#101;t&#38;&#115;&#117;&#98;
 j&#101;c&#116;=P&#97;&#114;&#116;&#105;c&#105;pa&#116;&#105;o&#110;&#37;&#5
 0;" data-ep-b="&#48;&#97;&#37;&#50;&#48;&#108;&#97;&#37;&#50;&#48;&#115;&#1
 11;&#105;re&#101;&#37;&#50;0r&#101;&#99;yc&#108;a"></span></span></span></s
 pan></a><script>RegularLabs.EmailProtector.unCloak("ep_74c7d0a2", true);</s
 cript> afin de vérifier si vous êtes concerné par cette session.</p><p>Chaq
 ue candidat devra avoir un système complet ordinateur avec ffsski 2017/2018
  opérationnel, son chronomètre, le système de raccordement PC-chronomètre o
 pérationnel, des câbles avec fiches bananes (2 à 3ml).</p><p>Pas besoin d'i
 mprimante, ni de portillon et cellules, mais système de jonction à fiches b
 ananes pour obtenir les impulsions de départ et d'arrivée.</p><p>Prévoir au
 ssi câble 220V et triplettes.</p> <a href="https://skivosges.net/agenda/exp
 ort-synchronisation/detailevenement/1092/-/chronometreur-formation-recyclag
 e?tmpl=component">Cet évènement a été importé depuis :https://skivosges.net
 /agenda/export-synchronisation/detailevenement/1092/-/chronometreur-formati
 on-recyclage?tmpl=component</a>
X-ALT-DESC;FMTTYPE=text/html:<p>La commission Règles et Contrôles du CRMVS organise :</p><p>une <strong>
 session de recyclage « chronométreurs »</strong></p><p>Durée prévisionnelle
  : 4H00.</p><p>Plusieurs tests et questionnaires seront effectués.</p><p>In
 scription obligatoire, nombre de places limitées.</p><p>Avant inscription, 
 contacter le référent Chronométrage <!-- Cette adresse électronique est pro
 tégée contre les robots spammeurs. --><a href="https://skivosges.net/javasc
 ript:/* Cette adresse &eacute;lectronique est prot&eacute;g&eacute;e contre
  les robots spammeurs.*/">Yves Dodin<span class="cloaked_email ep_74c7d0a2"
  style="display:none;"><span data-ep-a="&#121;&#100;&#111;&#100;i&#110;&#64
 ;wa&#110;&#97;&#100;&#111;&#111;&#46;&#102;&#114;&#63;&#99;&#99;=&#114;&#10
 1;&#103;&#108;&#101;" data-ep-b="1&#56;&#47;0&#49;&#47;&#50;&#48;1&#55;&#37
 ;&#50;&#48;&#97;&#37;&#50;0&#67;&#101;&#114;&#110;a&#121;"><span data-ep-b=
 "ge&#37;&#50;0&#99;h&#114;o&#110;&#111;&#109;étr&#101;&#117;r&#37;&#50;0du&
 #37;&#50;&#48;" data-ep-a="&#115;-&#101;&#116;&#45;&#99;ontro&#108;&#101;&#
 115;&#64;s&#107;i&#118;&#111;s&#103;es&#46;&#110;"><span data-ep-a="&#101;t
 &#38;&#115;&#117;&#98;j&#101;c&#116;=P&#97;&#114;&#116;&#105;c&#105;pa&#116
 ;&#105;o&#110;&#37;&#50;" data-ep-b="&#48;&#97;&#37;&#50;&#48;&#108;&#97;&#
 37;&#50;&#48;&#115;&#111;&#105;re&#101;&#37;&#50;0r&#101;&#99;yc&#108;a"></
 span></span></span></span></a><script>RegularLabs.EmailProtector.unCloak("e
 p_74c7d0a2", true);</script> afin de vérifier si vous êtes concerné par cet
 te session.</p><p>Chaque candidat devra avoir un système complet ordinateur
  avec ffsski 2017/2018 opérationnel, son chronomètre, le système de raccord
 ement PC-chronomètre opérationnel, des câbles avec fiches bananes (2 à 3ml)
 .</p><p>Pas besoin d'imprimante, ni de portillon et cellules, mais système 
 de jonction à fiches bananes pour obtenir les impulsions de départ et d'arr
 ivée.</p><p>Prévoir aussi câble 220V et triplettes.</p> <a href="https://sk
 ivosges.net/agenda/export-synchronisation/detailevenement/1092/-/chronometr
 eur-formation-recyclage?tmpl=component">Cet évènement a été importé depuis 
 :https://skivosges.net/agenda/export-synchronisation/detailevenement/1092/-
 /chronometreur-formation-recyclage?tmpl=component</a>CONTACT:RegularLabs.EmailProtector.unCloak("ep_49c73243");
DTSTAMP:20260420T221525
DTSTART;TZID=Europe/Paris:20181110T084500
DTEND;TZID=Europe/Paris;VALUE=DATE:20181112
SEQUENCE:0
TRANSP:OPAQUE
END:VEVENT
END:VCALENDAR