BEGIN:VCALENDAR
VERSION:2.0
PRODID:-//jEvents 2.0 for Joomla//EN
CALSCALE:GREGORIAN
METHOD:PUBLISH
BEGIN:VTIMEZONE
TZID:Europe/Paris
BEGIN:STANDARD
DTSTART:20171221T000000
RDATE:20180325T030000
TZOFFSETFROM:+0200
TZOFFSETTO:+0100
TZNAME:Europe/Paris CET
END:STANDARD
BEGIN:STANDARD
DTSTART:20181028T020000
RDATE:20190331T030000
TZOFFSETFROM:+0200
TZOFFSETTO:+0100
TZNAME:Europe/Paris CET
END:STANDARD
BEGIN:STANDARD
DTSTART:20191027T020000
RDATE:20200329T030000
TZOFFSETFROM:+0200
TZOFFSETTO:+0100
TZNAME:Europe/Paris CET
END:STANDARD
BEGIN:STANDARD
DTSTART:20201025T020000
RDATE:20210328T030000
TZOFFSETFROM:+0200
TZOFFSETTO:+0100
TZNAME:Europe/Paris CET
END:STANDARD
BEGIN:STANDARD
DTSTART:20211031T020000
RDATE:20220327T030000
TZOFFSETFROM:+0200
TZOFFSETTO:+0100
TZNAME:Europe/Paris CET
END:STANDARD
BEGIN:STANDARD
DTSTART:20221030T020000
RDATE:20230326T030000
TZOFFSETFROM:+0200
TZOFFSETTO:+0100
TZNAME:Europe/Paris CET
END:STANDARD
BEGIN:STANDARD
DTSTART:20231029T020000
RDATE:20240331T030000
TZOFFSETFROM:+0200
TZOFFSETTO:+0100
TZNAME:Europe/Paris CET
END:STANDARD
BEGIN:STANDARD
DTSTART:20241027T020000
RDATE:20250330T030000
TZOFFSETFROM:+0200
TZOFFSETTO:+0100
TZNAME:Europe/Paris CET
END:STANDARD
BEGIN:STANDARD
DTSTART:20251026T020000
RDATE:20260329T030000
TZOFFSETFROM:+0200
TZOFFSETTO:+0100
TZNAME:Europe/Paris CET
END:STANDARD
BEGIN:STANDARD
DTSTART:20261025T020000
RDATE:20270328T030000
TZOFFSETFROM:+0200
TZOFFSETTO:+0100
TZNAME:Europe/Paris CET
END:STANDARD
BEGIN:DAYLIGHT
DTSTART:20180325T030000
RDATE:20181028T020000
TZOFFSETFROM:+0100
TZOFFSETTO:+0200
TZNAME:Europe/Paris CEST
END:DAYLIGHT
BEGIN:DAYLIGHT
DTSTART:20190331T030000
RDATE:20191027T020000
TZOFFSETFROM:+0100
TZOFFSETTO:+0200
TZNAME:Europe/Paris CEST
END:DAYLIGHT
BEGIN:DAYLIGHT
DTSTART:20200329T030000
RDATE:20201025T020000
TZOFFSETFROM:+0100
TZOFFSETTO:+0200
TZNAME:Europe/Paris CEST
END:DAYLIGHT
BEGIN:DAYLIGHT
DTSTART:20210328T030000
RDATE:20211031T020000
TZOFFSETFROM:+0100
TZOFFSETTO:+0200
TZNAME:Europe/Paris CEST
END:DAYLIGHT
BEGIN:DAYLIGHT
DTSTART:20220327T030000
RDATE:20221030T020000
TZOFFSETFROM:+0100
TZOFFSETTO:+0200
TZNAME:Europe/Paris CEST
END:DAYLIGHT
BEGIN:DAYLIGHT
DTSTART:20230326T030000
RDATE:20231029T020000
TZOFFSETFROM:+0100
TZOFFSETTO:+0200
TZNAME:Europe/Paris CEST
END:DAYLIGHT
BEGIN:DAYLIGHT
DTSTART:20240331T030000
RDATE:20241027T020000
TZOFFSETFROM:+0100
TZOFFSETTO:+0200
TZNAME:Europe/Paris CEST
END:DAYLIGHT
BEGIN:DAYLIGHT
DTSTART:20250330T030000
RDATE:20251026T020000
TZOFFSETFROM:+0100
TZOFFSETTO:+0200
TZNAME:Europe/Paris CEST
END:DAYLIGHT
BEGIN:DAYLIGHT
DTSTART:20260329T030000
RDATE:20261025T020000
TZOFFSETFROM:+0100
TZOFFSETTO:+0200
TZNAME:Europe/Paris CEST
END:DAYLIGHT
END:VTIMEZONE
BEGIN:VEVENT
UID:ab09a461501c84b476fd78ef7538397a
CATEGORIES:Opens et Promos (alpin)
CREATED:20181114T121858
SUMMARY:PROMO Coupe du Père Noël **REPORTE**
URL;VALUE=URI:https://skivosges.net/agenda/export-synchronisation/detailevenement/1102/-/
 promo-coupe-du-pere-noel-reporte?tmpl=component
DESCRIPTION:<!-- #gskiepreuve code généré par le plugin jevents pour GskiEpreuves. Ne p
 as modifier cette ligne, ni tout le contenu suivant  #gskiepreuve --><div c
 lass="gski-evenement_infos"><div class="gski-evenement-nom">PROMO Coupe du 
 Père Noël</div><div class="gski-evenement-report"> <font class="gskiattenti
 on">(Epreuve reportée, date à determiner)</font></div><ul class="gski-evene
 ment-liste-infos"><li>Codex évenement AMVT0050</li><li>Station : GERARDMER<
 /li><li>Organisateur : 14089 GERARDMER SKI ALPIN</li><li>Courriel : <!-- Ce
 tte adresse électronique est protégée contre les robots spammeurs. --><span
  class="cloaked_email ep_c42cd613"><span data-ep-a="&#103;&#101;&#114;a&#11
 4;" data-ep-b="e.&#102;&#114;"><span data-ep-a="&#100;&#109;er-" data-ep-b=
 "&#111;&#114;an&#103;"><span data-ep-b="&#108;&#112;&#105;&#110;&#64;" data
 -ep-a="&#115;ki&#45;a"></span></span></span></span><script>RegularLabs.Emai
 lProtector.unCloak("ep_c42cd613");</script></li><li>Téléphone : 03 29 60 98
  04</li></ul><div class="gski-evenement-infos-2"><div class="gski-evenement
 -info-inscriptions"><div class="gski-evenement-inscriptions-periodes">Pério
 de d'inscription à l'evènement du samedi 15 décembre 2018 à 00:00 au jeudi 
 20 décembre 2018 à 12:00 <span class="gski-evenement-inscriptions-impossibl
 es">(Inscriptions impossibles).</span><div class="gski-evenement-inscriptio
 ns-types-titres">Inscriptions ouvertes aux detenteurs des titres Fédéraux v
 alides suivants : Licenciés Compétiteurs et Titres Loisirs et Dirigeants</d
 iv></div></div><div class="gski-evenement-epreuves"><div class="gski-evenem
 ent-epreuves-titres">Epreuves :</div><ul class="gski-evenement-epreuves-lis
 t"><li><div class="gski-epreuve-date">Le samedi 22 décembre 2018</div><ul c
 lass="gski-epreuve-liste-infos"><li>Codex épreuve AMVM0051</li><li>Slalom G
 eant</li><li>Catégorie(s) : U8/U10 (Garçons)</li></ul></li><li><div class="
 gski-epreuve-date">Le samedi 22 décembre 2018</div><ul class="gski-epreuve-
 liste-infos"><li>Codex épreuve AMVF0051</li><li>Slalom Geant</li><li>Catégo
 rie(s) : U8/U10 (Filles)</li></ul></li><li><div class="gski-epreuve-date">L
 e samedi 22 décembre 2018</div><ul class="gski-epreuve-liste-infos"><li>Cod
 ex épreuve AMVM0052</li><li>Slalom Geant</li><li>Catégorie(s) : U12 a U16 (
 Garçons)</li></ul></li><li><div class="gski-epreuve-date">Le samedi 22 déce
 mbre 2018</div><ul class="gski-epreuve-liste-infos"><li>Codex épreuve AMVF0
 052</li><li>Slalom Geant</li><li>Catégorie(s) : U12 a U16 (Filles)</li></ul
 ></li><li><div class="gski-epreuve-date">Le samedi 22 décembre 2018</div><u
 l class="gski-epreuve-liste-infos"><li>Codex épreuve AMVM0053</li><li>Slalo
 m Geant</li><li>Catégorie(s) : U18 a Masters (Hommes)</li></ul></li><li><di
 v class="gski-epreuve-date">Le samedi 22 décembre 2018</div><ul class="gski
 -epreuve-liste-infos"><li>Codex épreuve AMVF0053</li><li>Slalom Geant</li><
 li>Catégorie(s) : U18 a Masters (Dames)</li></ul></li></ul></div><div class
 ="gskiepreuves-links"><ul><li><a href="/index.php?option=com_jevents&task=i
 calevent.detail&evid=1097&Itemid=6283">Voir les informations dans l'agenda.
 ..</a></li></ul></div></div"><!-- #/gskiepreuve fin du dode généré par le p
 lugin jevents pour GskiEpreuves. . Ne pas modifier cette ligne, ni tout le 
 contenu précedant.  #/gskiepreuve --> <a href="https://skivosges.net/agenda
 /export-synchronisation/detailevenement/1102/-/promo-coupe-du-pere-noel-rep
 orte?tmpl=component">Cet évènement a été importé depuis :https://skivosges.
 net/agenda/export-synchronisation/detailevenement/1102/-/promo-coupe-du-per
 e-noel-reporte?tmpl=component</a>
X-ALT-DESC;FMTTYPE=text/html:<!-- #gskiepreuve code généré par le plugin jevents pour GskiEpreuves. Ne p
 as modifier cette ligne, ni tout le contenu suivant  #gskiepreuve --><div c
 lass="gski-evenement_infos"><div class="gski-evenement-nom">PROMO Coupe du 
 Père Noël</div><div class="gski-evenement-report"> <font class="gskiattenti
 on">(Epreuve reportée, date à determiner)</font></div><ul class="gski-evene
 ment-liste-infos"><li>Codex évenement AMVT0050</li><li>Station : GERARDMER<
 /li><li>Organisateur : 14089 GERARDMER SKI ALPIN</li><li>Courriel : <!-- Ce
 tte adresse électronique est protégée contre les robots spammeurs. --><span
  class="cloaked_email ep_c42cd613"><span data-ep-a="&#103;&#101;&#114;a&#11
 4;" data-ep-b="e.&#102;&#114;"><span data-ep-a="&#100;&#109;er-" data-ep-b=
 "&#111;&#114;an&#103;"><span data-ep-b="&#108;&#112;&#105;&#110;&#64;" data
 -ep-a="&#115;ki&#45;a"></span></span></span></span><script>RegularLabs.Emai
 lProtector.unCloak("ep_c42cd613");</script></li><li>Téléphone : 03 29 60 98
  04</li></ul><div class="gski-evenement-infos-2"><div class="gski-evenement
 -info-inscriptions"><div class="gski-evenement-inscriptions-periodes">Pério
 de d'inscription à l'evènement du samedi 15 décembre 2018 à 00:00 au jeudi 
 20 décembre 2018 à 12:00 <span class="gski-evenement-inscriptions-impossibl
 es">(Inscriptions impossibles).</span><div class="gski-evenement-inscriptio
 ns-types-titres">Inscriptions ouvertes aux detenteurs des titres Fédéraux v
 alides suivants : Licenciés Compétiteurs et Titres Loisirs et Dirigeants</d
 iv></div></div><div class="gski-evenement-epreuves"><div class="gski-evenem
 ent-epreuves-titres">Epreuves :</div><ul class="gski-evenement-epreuves-lis
 t"><li><div class="gski-epreuve-date">Le samedi 22 décembre 2018</div><ul c
 lass="gski-epreuve-liste-infos"><li>Codex épreuve AMVM0051</li><li>Slalom G
 eant</li><li>Catégorie(s) : U8/U10 (Garçons)</li></ul></li><li><div class="
 gski-epreuve-date">Le samedi 22 décembre 2018</div><ul class="gski-epreuve-
 liste-infos"><li>Codex épreuve AMVF0051</li><li>Slalom Geant</li><li>Catégo
 rie(s) : U8/U10 (Filles)</li></ul></li><li><div class="gski-epreuve-date">L
 e samedi 22 décembre 2018</div><ul class="gski-epreuve-liste-infos"><li>Cod
 ex épreuve AMVM0052</li><li>Slalom Geant</li><li>Catégorie(s) : U12 a U16 (
 Garçons)</li></ul></li><li><div class="gski-epreuve-date">Le samedi 22 déce
 mbre 2018</div><ul class="gski-epreuve-liste-infos"><li>Codex épreuve AMVF0
 052</li><li>Slalom Geant</li><li>Catégorie(s) : U12 a U16 (Filles)</li></ul
 ></li><li><div class="gski-epreuve-date">Le samedi 22 décembre 2018</div><u
 l class="gski-epreuve-liste-infos"><li>Codex épreuve AMVM0053</li><li>Slalo
 m Geant</li><li>Catégorie(s) : U18 a Masters (Hommes)</li></ul></li><li><di
 v class="gski-epreuve-date">Le samedi 22 décembre 2018</div><ul class="gski
 -epreuve-liste-infos"><li>Codex épreuve AMVF0053</li><li>Slalom Geant</li><
 li>Catégorie(s) : U18 a Masters (Dames)</li></ul></li></ul></div><div class
 ="gskiepreuves-links"><ul><li><a href="https://skivosges.net/index.php?opti
 on=com_jevents&task=icalevent.detail&evid=1097&Itemid=6283">Voir les inform
 ations dans l'agenda...</a></li></ul></div></div"><!-- #/gskiepreuve fin du
  dode généré par le plugin jevents pour GskiEpreuves. . Ne pas modifier cet
 te ligne, ni tout le contenu précedant.  #/gskiepreuve --> <a href="https:/
 /skivosges.net/agenda/export-synchronisation/detailevenement/1102/-/promo-c
 oupe-du-pere-noel-reporte?tmpl=component">Cet évènement a été importé depui
 s :https://skivosges.net/agenda/export-synchronisation/detailevenement/1102
 /-/promo-coupe-du-pere-noel-reporte?tmpl=component</a>DTSTAMP:20260420T221305
DTSTART;TZID=Europe/Paris;VALUE=DATE:20181222
DTEND;TZID=Europe/Paris;VALUE=DATE:20181223
SEQUENCE:0
TRANSP:OPAQUE
END:VEVENT
END:VCALENDAR