BEGIN:VCALENDAR
VERSION:2.0
PRODID:-//jEvents 2.0 for Joomla//EN
CALSCALE:GREGORIAN
METHOD:PUBLISH
BEGIN:VTIMEZONE
TZID:Europe/Paris
BEGIN:STANDARD
DTSTART:20171229T000000
RDATE:20180325T030000
TZOFFSETFROM:+0200
TZOFFSETTO:+0100
TZNAME:Europe/Paris CET
END:STANDARD
BEGIN:STANDARD
DTSTART:20181028T020000
RDATE:20190331T030000
TZOFFSETFROM:+0200
TZOFFSETTO:+0100
TZNAME:Europe/Paris CET
END:STANDARD
BEGIN:STANDARD
DTSTART:20191027T020000
RDATE:20200329T030000
TZOFFSETFROM:+0200
TZOFFSETTO:+0100
TZNAME:Europe/Paris CET
END:STANDARD
BEGIN:STANDARD
DTSTART:20201025T020000
RDATE:20210328T030000
TZOFFSETFROM:+0200
TZOFFSETTO:+0100
TZNAME:Europe/Paris CET
END:STANDARD
BEGIN:STANDARD
DTSTART:20211031T020000
RDATE:20220327T030000
TZOFFSETFROM:+0200
TZOFFSETTO:+0100
TZNAME:Europe/Paris CET
END:STANDARD
BEGIN:STANDARD
DTSTART:20221030T020000
RDATE:20230326T030000
TZOFFSETFROM:+0200
TZOFFSETTO:+0100
TZNAME:Europe/Paris CET
END:STANDARD
BEGIN:STANDARD
DTSTART:20231029T020000
RDATE:20240331T030000
TZOFFSETFROM:+0200
TZOFFSETTO:+0100
TZNAME:Europe/Paris CET
END:STANDARD
BEGIN:STANDARD
DTSTART:20241027T020000
RDATE:20250330T030000
TZOFFSETFROM:+0200
TZOFFSETTO:+0100
TZNAME:Europe/Paris CET
END:STANDARD
BEGIN:STANDARD
DTSTART:20251026T020000
RDATE:20260329T030000
TZOFFSETFROM:+0200
TZOFFSETTO:+0100
TZNAME:Europe/Paris CET
END:STANDARD
BEGIN:STANDARD
DTSTART:20261025T020000
RDATE:20270328T030000
TZOFFSETFROM:+0200
TZOFFSETTO:+0100
TZNAME:Europe/Paris CET
END:STANDARD
BEGIN:DAYLIGHT
DTSTART:20180325T030000
RDATE:20181028T020000
TZOFFSETFROM:+0100
TZOFFSETTO:+0200
TZNAME:Europe/Paris CEST
END:DAYLIGHT
BEGIN:DAYLIGHT
DTSTART:20190331T030000
RDATE:20191027T020000
TZOFFSETFROM:+0100
TZOFFSETTO:+0200
TZNAME:Europe/Paris CEST
END:DAYLIGHT
BEGIN:DAYLIGHT
DTSTART:20200329T030000
RDATE:20201025T020000
TZOFFSETFROM:+0100
TZOFFSETTO:+0200
TZNAME:Europe/Paris CEST
END:DAYLIGHT
BEGIN:DAYLIGHT
DTSTART:20210328T030000
RDATE:20211031T020000
TZOFFSETFROM:+0100
TZOFFSETTO:+0200
TZNAME:Europe/Paris CEST
END:DAYLIGHT
BEGIN:DAYLIGHT
DTSTART:20220327T030000
RDATE:20221030T020000
TZOFFSETFROM:+0100
TZOFFSETTO:+0200
TZNAME:Europe/Paris CEST
END:DAYLIGHT
BEGIN:DAYLIGHT
DTSTART:20230326T030000
RDATE:20231029T020000
TZOFFSETFROM:+0100
TZOFFSETTO:+0200
TZNAME:Europe/Paris CEST
END:DAYLIGHT
BEGIN:DAYLIGHT
DTSTART:20240331T030000
RDATE:20241027T020000
TZOFFSETFROM:+0100
TZOFFSETTO:+0200
TZNAME:Europe/Paris CEST
END:DAYLIGHT
BEGIN:DAYLIGHT
DTSTART:20250330T030000
RDATE:20251026T020000
TZOFFSETFROM:+0100
TZOFFSETTO:+0200
TZNAME:Europe/Paris CEST
END:DAYLIGHT
BEGIN:DAYLIGHT
DTSTART:20260329T030000
RDATE:20261025T020000
TZOFFSETFROM:+0100
TZOFFSETTO:+0200
TZNAME:Europe/Paris CEST
END:DAYLIGHT
END:VTIMEZONE
BEGIN:VEVENT
UID:e9c696977ed9481a3860c7f7aeb7b276
CATEGORIES:Opens et Promos (alpin)
CREATED:20181114T121858
SUMMARY:PROMO **REPORTE**
URL;VALUE=URI:https://skivosges.net/agenda/export-synchronisation/detailevenement/1109/-/
 promo-reporte?tmpl=component
DESCRIPTION:PROMO (Epreuve reportée, date à determiner)\n - Codex évenement AMVT0070\n 
 - Station : MARKSTEIN\n - Organisateur : 14186 S.C VALLEE DE WESSERLING\n -
  Courriel : RegularLabs.EmailProtector.unCloak("ep_33801e53");\n - Téléphon
 e : 03 89 82 78 08Période d'inscription à l'evènement du dimanche 23 décemb
 re 2018 à 00:00 au vendredi 28 décembre 2018 à 12:00 (Inscriptions impossib
 les).Inscriptions ouvertes aux detenteurs des titres Fédéraux valides suiva
 nts : Licenciés Compétiteurs et Titres Loisirs et DirigeantsEpreuves :\n - 
 Le dimanche 30 décembre 2018\n - Codex épreuve AMVM0071\n - Slalom\n - Caté
 gorie(s) : U8/U10 (Garçons)\n - Le dimanche 30 décembre 2018\n - Codex épre
 uve AMVF0071\n - Slalom\n - Catégorie(s) : U8/U10 (Filles)\n - Le dimanche 
 30 décembre 2018\n - Codex épreuve AMVM0072\n - Slalom\n - Catégorie(s) : U
 12 a U16 (Garçons)\n - Le dimanche 30 décembre 2018\n - Codex épreuve AMVF0
 072\n - Slalom\n - Catégorie(s) : U12 a U16 (Filles)\n - Le dimanche 30 déc
 embre 2018\n - Codex épreuve AMVM0073\n - Slalom\n - Catégorie(s) : U18 a M
 asters (Hommes)\n - Le dimanche 30 décembre 2018\n - Codex épreuve AMVF0073
 \n - Slalom\n - Catégorie(s) : U18 a Masters (Dames)\n - Voir les informati
 ons dans l'agenda... (/index.php?option=com_jevents&amp;task=icalevent.deta
 il&amp;evid=1104&amp;Itemid=6283) Cet évènement a été importé depuis :https
 ://skivosges.net/agenda/export-synchronisation/detailevenement/1109/-/promo
 -reporte?tmpl=component
X-ALT-DESC;FMTTYPE=text/html:<!-- #gskiepreuve code généré par le plugin jevents pour GskiEpreuves. Ne p
 as modifier cette ligne, ni tout le contenu suivant  #gskiepreuve --><div c
 lass="gski-evenement_infos"><div class="gski-evenement-nom">PROMO</div><div
  class="gski-evenement-report"> <font class="gskiattention">(Epreuve report
 ée, date à determiner)</font></div><ul class="gski-evenement-liste-infos"><
 li>Codex évenement AMVT0070</li><li>Station : MARKSTEIN</li><li>Organisateu
 r : 14186 S.C VALLEE DE WESSERLING</li><li>Courriel : <!-- Cette adresse él
 ectronique est protégée contre les robots spammeurs. --><span class="cloake
 d_email ep_33801e53"><span data-ep-a="&#115;&#99;v&#119;" data-ep-b="m"><sp
 an data-ep-a="&#101;&#115;&#115;&#101;" data-ep-b="&#108;.c&#111;"><span da
 ta-ep-a="&#114;l&#105;&#110;" data-ep-b="g&#64;&#97;&#111;"></span></span><
 /span></span><script>RegularLabs.EmailProtector.unCloak("ep_33801e53");</sc
 ript></li><li>Téléphone : 03 89 82 78 08</li></ul><div class="gski-evenemen
 t-infos-2"><div class="gski-evenement-info-inscriptions"><div class="gski-e
 venement-inscriptions-periodes">Période d'inscription à l'evènement du dima
 nche 23 décembre 2018 à 00:00 au vendredi 28 décembre 2018 à 12:00 <span cl
 ass="gski-evenement-inscriptions-impossibles">(Inscriptions impossibles).</
 span><div class="gski-evenement-inscriptions-types-titres">Inscriptions ouv
 ertes aux detenteurs des titres Fédéraux valides suivants : Licenciés Compé
 titeurs et Titres Loisirs et Dirigeants</div></div></div><div class="gski-e
 venement-epreuves"><div class="gski-evenement-epreuves-titres">Epreuves :</
 div><ul class="gski-evenement-epreuves-list"><li><div class="gski-epreuve-d
 ate">Le dimanche 30 décembre 2018</div><ul class="gski-epreuve-liste-infos"
 ><li>Codex épreuve AMVM0071</li><li>Slalom</li><li>Catégorie(s) : U8/U10 (G
 arçons)</li></ul></li><li><div class="gski-epreuve-date">Le dimanche 30 déc
 embre 2018</div><ul class="gski-epreuve-liste-infos"><li>Codex épreuve AMVF
 0071</li><li>Slalom</li><li>Catégorie(s) : U8/U10 (Filles)</li></ul></li><l
 i><div class="gski-epreuve-date">Le dimanche 30 décembre 2018</div><ul clas
 s="gski-epreuve-liste-infos"><li>Codex épreuve AMVM0072</li><li>Slalom</li>
 <li>Catégorie(s) : U12 a U16 (Garçons)</li></ul></li><li><div class="gski-e
 preuve-date">Le dimanche 30 décembre 2018</div><ul class="gski-epreuve-list
 e-infos"><li>Codex épreuve AMVF0072</li><li>Slalom</li><li>Catégorie(s) : U
 12 a U16 (Filles)</li></ul></li><li><div class="gski-epreuve-date">Le diman
 che 30 décembre 2018</div><ul class="gski-epreuve-liste-infos"><li>Codex ép
 reuve AMVM0073</li><li>Slalom</li><li>Catégorie(s) : U18 a Masters (Hommes)
 </li></ul></li><li><div class="gski-epreuve-date">Le dimanche 30 décembre 2
 018</div><ul class="gski-epreuve-liste-infos"><li>Codex épreuve AMVF0073</l
 i><li>Slalom</li><li>Catégorie(s) : U18 a Masters (Dames)</li></ul></li></u
 l></div><div class="gskiepreuves-links"><ul><li><a href="https://skivosges.
 net/index.php?option=com_jevents&task=icalevent.detail&evid=1104&Itemid=628
 3">Voir les informations dans l'agenda...</a></li></ul></div></div"><!-- #/
 gskiepreuve fin du dode généré par le plugin jevents pour GskiEpreuves. . N
 e pas modifier cette ligne, ni tout le contenu précedant.  #/gskiepreuve --
 > <a href="https://skivosges.net/agenda/export-synchronisation/detailevenem
 ent/1109/-/promo-reporte?tmpl=component">Cet évènement a été importé depuis
  :https://skivosges.net/agenda/export-synchronisation/detailevenement/1109/
 -/promo-reporte?tmpl=component</a>DTSTAMP:20260420T184001
DTSTART;TZID=Europe/Paris;VALUE=DATE:20181230
DTEND;TZID=Europe/Paris;VALUE=DATE:20181231
SEQUENCE:0
TRANSP:OPAQUE
END:VEVENT
END:VCALENDAR