BEGIN:VCALENDAR
VERSION:2.0
PRODID:-//jEvents 2.0 for Joomla//EN
CALSCALE:GREGORIAN
METHOD:PUBLISH
BEGIN:VTIMEZONE
TZID:Europe/Paris
BEGIN:STANDARD
DTSTART:20180105T000000
RDATE:20180325T030000
TZOFFSETFROM:+0200
TZOFFSETTO:+0100
TZNAME:Europe/Paris CET
END:STANDARD
BEGIN:STANDARD
DTSTART:20181028T020000
RDATE:20190331T030000
TZOFFSETFROM:+0200
TZOFFSETTO:+0100
TZNAME:Europe/Paris CET
END:STANDARD
BEGIN:STANDARD
DTSTART:20191027T020000
RDATE:20200329T030000
TZOFFSETFROM:+0200
TZOFFSETTO:+0100
TZNAME:Europe/Paris CET
END:STANDARD
BEGIN:STANDARD
DTSTART:20201025T020000
RDATE:20210328T030000
TZOFFSETFROM:+0200
TZOFFSETTO:+0100
TZNAME:Europe/Paris CET
END:STANDARD
BEGIN:STANDARD
DTSTART:20211031T020000
RDATE:20220327T030000
TZOFFSETFROM:+0200
TZOFFSETTO:+0100
TZNAME:Europe/Paris CET
END:STANDARD
BEGIN:STANDARD
DTSTART:20221030T020000
RDATE:20230326T030000
TZOFFSETFROM:+0200
TZOFFSETTO:+0100
TZNAME:Europe/Paris CET
END:STANDARD
BEGIN:STANDARD
DTSTART:20231029T020000
RDATE:20240331T030000
TZOFFSETFROM:+0200
TZOFFSETTO:+0100
TZNAME:Europe/Paris CET
END:STANDARD
BEGIN:STANDARD
DTSTART:20241027T020000
RDATE:20250330T030000
TZOFFSETFROM:+0200
TZOFFSETTO:+0100
TZNAME:Europe/Paris CET
END:STANDARD
BEGIN:STANDARD
DTSTART:20251026T020000
RDATE:20260329T030000
TZOFFSETFROM:+0200
TZOFFSETTO:+0100
TZNAME:Europe/Paris CET
END:STANDARD
BEGIN:STANDARD
DTSTART:20261025T020000
RDATE:20270328T030000
TZOFFSETFROM:+0200
TZOFFSETTO:+0100
TZNAME:Europe/Paris CET
END:STANDARD
BEGIN:DAYLIGHT
DTSTART:20180325T030000
RDATE:20181028T020000
TZOFFSETFROM:+0100
TZOFFSETTO:+0200
TZNAME:Europe/Paris CEST
END:DAYLIGHT
BEGIN:DAYLIGHT
DTSTART:20190331T030000
RDATE:20191027T020000
TZOFFSETFROM:+0100
TZOFFSETTO:+0200
TZNAME:Europe/Paris CEST
END:DAYLIGHT
BEGIN:DAYLIGHT
DTSTART:20200329T030000
RDATE:20201025T020000
TZOFFSETFROM:+0100
TZOFFSETTO:+0200
TZNAME:Europe/Paris CEST
END:DAYLIGHT
BEGIN:DAYLIGHT
DTSTART:20210328T030000
RDATE:20211031T020000
TZOFFSETFROM:+0100
TZOFFSETTO:+0200
TZNAME:Europe/Paris CEST
END:DAYLIGHT
BEGIN:DAYLIGHT
DTSTART:20220327T030000
RDATE:20221030T020000
TZOFFSETFROM:+0100
TZOFFSETTO:+0200
TZNAME:Europe/Paris CEST
END:DAYLIGHT
BEGIN:DAYLIGHT
DTSTART:20230326T030000
RDATE:20231029T020000
TZOFFSETFROM:+0100
TZOFFSETTO:+0200
TZNAME:Europe/Paris CEST
END:DAYLIGHT
BEGIN:DAYLIGHT
DTSTART:20240331T030000
RDATE:20241027T020000
TZOFFSETFROM:+0100
TZOFFSETTO:+0200
TZNAME:Europe/Paris CEST
END:DAYLIGHT
BEGIN:DAYLIGHT
DTSTART:20250330T030000
RDATE:20251026T020000
TZOFFSETFROM:+0100
TZOFFSETTO:+0200
TZNAME:Europe/Paris CEST
END:DAYLIGHT
BEGIN:DAYLIGHT
DTSTART:20260329T030000
RDATE:20261025T020000
TZOFFSETFROM:+0100
TZOFFSETTO:+0200
TZNAME:Europe/Paris CEST
END:DAYLIGHT
END:VTIMEZONE
BEGIN:VEVENT
UID:20a52c3b54ac1796baeab9741179dc4f
CATEGORIES:Circuit Massif Adultes (alpin)
CREATED:20181114T121858
SUMMARY:CAM U16 à Masters Grand Prix Thérèse Leduc
URL;VALUE=URI:https://skivosges.net/agenda/export-synchronisation/detailevenement/1112/-/
 cam-u16-a-masters-grand-prix-therese-leduc?tmpl=component
DESCRIPTION:<!-- #gskiepreuve code généré par le plugin jevents pour GskiEpreuves. Ne p
 as modifier cette ligne, ni tout le contenu suivant  #gskiepreuve --><div c
 lass="gski-evenement_infos"><div class="gski-evenement-nom">CAM U16 à Maste
 rs Grand Prix Thérèse Leduc</div><div class="gski-evenement-report"></div><
 ul class="gski-evenement-liste-infos"><li>Codex évenement AMVT0090</li><li>
 Station : FRERE JOSEPH</li><li>Piste : Th&eacute;r&egrave;se Leduc</li><li>
 Organisateur : 14083 U.S VENTRON</li><li>Courriel : <!-- Cette adresse élec
 tronique est protégée contre les robots spammeurs. --><span class="cloaked_
 email ep_3fe8eaa9"><span data-ep-b="l&#101;&#46;f&#114;" data-ep-a="&#115;t
 ep&#104;"><span data-ep-a="&#97;&#110;&#101;&#46;&#103;" data-ep-b="&#114;i
 &#99;&#97;b"><span data-ep-b="&#64;&#110;u&#109;&#101;" data-ep-a="&#105;&#
 103;an&#116;"></span></span></span></span><script>RegularLabs.EmailProtecto
 r.unCloak("ep_3fe8eaa9");</script></li></ul><div class="gski-evenement-info
 s-2"><div class="gski-evenement-info-inscriptions"><div class="gski-eveneme
 nt-inscriptions-periodes">Période d'inscription à l'evènement du dimanche 3
 0 décembre 2018 à 00:00 au vendredi 04 janvier 2019 à 20:00 <span class="gs
 ki-evenement-inscriptions-impossibles">(Inscriptions impossibles).</span><d
 iv class="gski-evenement-inscriptions-types-titres">Inscriptions ouvertes a
 ux detenteurs des titres Fédéraux valides suivants : Licenciés Compétiteurs
 </div></div></div><div class="gski-evenement-epreuves"><div class="gski-eve
 nement-epreuves-titres">Epreuves :</div><ul class="gski-evenement-epreuves-
 list"><li><div class="gski-epreuve-date">Le dimanche 06 janvier 2019 à 10:0
 0</div><ul class="gski-epreuve-liste-infos"><li>Codex épreuve AMVM0091</li>
 <li>Slalom</li><li>Catégorie(s) : U16 a Masters (Garçons)</li></ul></li><li
 ><div class="gski-epreuve-date">Le dimanche 06 janvier 2019 à 10:00</div><u
 l class="gski-epreuve-liste-infos"><li>Codex épreuve AMVF0091</li><li>Slalo
 m</li><li>Catégorie(s) : U16 a Masters (Filles)</li></ul></li></ul></div><d
 iv class="gskiepreuves-links"><ul><li><a href="/index.php?option=com_jevent
 s&task=icalevent.detail&evid=1107&Itemid=6283">Voir les informations dans l
 'agenda...</a></li><li><a href="/index.php?option=com_gskiepreuves&view=aff
 icheresultats&format_option=tous&filter[search]=AMVT0090&filter[date_debut]
 =06-01-2019&filter[date_fin]=06-01-2019&code_activite=ALP&Itemid=6283">Vers
  les résultats...</a></li></ul></div></div"><!-- #/gskiepreuve fin du dode 
 généré par le plugin jevents pour GskiEpreuves. . Ne pas modifier cette lig
 ne, ni tout le contenu précedant.  #/gskiepreuve --> <a href="https://skivo
 sges.net/agenda/export-synchronisation/detailevenement/1112/-/cam-u16-a-mas
 ters-grand-prix-therese-leduc?tmpl=component">Cet évènement a été importé d
 epuis :https://skivosges.net/agenda/export-synchronisation/detailevenement/
 1112/-/cam-u16-a-masters-grand-prix-therese-leduc?tmpl=component</a>
X-ALT-DESC;FMTTYPE=text/html:<!-- #gskiepreuve code généré par le plugin jevents pour GskiEpreuves. Ne p
 as modifier cette ligne, ni tout le contenu suivant  #gskiepreuve --><div c
 lass="gski-evenement_infos"><div class="gski-evenement-nom">CAM U16 à Maste
 rs Grand Prix Thérèse Leduc</div><div class="gski-evenement-report"></div><
 ul class="gski-evenement-liste-infos"><li>Codex évenement AMVT0090</li><li>
 Station : FRERE JOSEPH</li><li>Piste : Th&eacute;r&egrave;se Leduc</li><li>
 Organisateur : 14083 U.S VENTRON</li><li>Courriel : <!-- Cette adresse élec
 tronique est protégée contre les robots spammeurs. --><span class="cloaked_
 email ep_3fe8eaa9"><span data-ep-b="l&#101;&#46;f&#114;" data-ep-a="&#115;t
 ep&#104;"><span data-ep-a="&#97;&#110;&#101;&#46;&#103;" data-ep-b="&#114;i
 &#99;&#97;b"><span data-ep-b="&#64;&#110;u&#109;&#101;" data-ep-a="&#105;&#
 103;an&#116;"></span></span></span></span><script>RegularLabs.EmailProtecto
 r.unCloak("ep_3fe8eaa9");</script></li></ul><div class="gski-evenement-info
 s-2"><div class="gski-evenement-info-inscriptions"><div class="gski-eveneme
 nt-inscriptions-periodes">Période d'inscription à l'evènement du dimanche 3
 0 décembre 2018 à 00:00 au vendredi 04 janvier 2019 à 20:00 <span class="gs
 ki-evenement-inscriptions-impossibles">(Inscriptions impossibles).</span><d
 iv class="gski-evenement-inscriptions-types-titres">Inscriptions ouvertes a
 ux detenteurs des titres Fédéraux valides suivants : Licenciés Compétiteurs
 </div></div></div><div class="gski-evenement-epreuves"><div class="gski-eve
 nement-epreuves-titres">Epreuves :</div><ul class="gski-evenement-epreuves-
 list"><li><div class="gski-epreuve-date">Le dimanche 06 janvier 2019 à 10:0
 0</div><ul class="gski-epreuve-liste-infos"><li>Codex épreuve AMVM0091</li>
 <li>Slalom</li><li>Catégorie(s) : U16 a Masters (Garçons)</li></ul></li><li
 ><div class="gski-epreuve-date">Le dimanche 06 janvier 2019 à 10:00</div><u
 l class="gski-epreuve-liste-infos"><li>Codex épreuve AMVF0091</li><li>Slalo
 m</li><li>Catégorie(s) : U16 a Masters (Filles)</li></ul></li></ul></div><d
 iv class="gskiepreuves-links"><ul><li><a href="https://skivosges.net/index.
 php?option=com_jevents&task=icalevent.detail&evid=1107&Itemid=6283">Voir le
 s informations dans l'agenda...</a></li><li><a href="https://skivosges.net/
 index.php?option=com_gskiepreuves&view=afficheresultats&format_option=tous&
 filter[search]=AMVT0090&filter[date_debut]=06-01-2019&filter[date_fin]=06-0
 1-2019&code_activite=ALP&Itemid=6283">Vers les résultats...</a></li></ul></
 div></div"><!-- #/gskiepreuve fin du dode généré par le plugin jevents pour
  GskiEpreuves. . Ne pas modifier cette ligne, ni tout le contenu précedant.
   #/gskiepreuve --> <a href="https://skivosges.net/agenda/export-synchronis
 ation/detailevenement/1112/-/cam-u16-a-masters-grand-prix-therese-leduc?tmp
 l=component">Cet évènement a été importé depuis :https://skivosges.net/agen
 da/export-synchronisation/detailevenement/1112/-/cam-u16-a-masters-grand-pr
 ix-therese-leduc?tmpl=component</a>DTSTAMP:20260420T131801
DTSTART;TZID=Europe/Paris;VALUE=DATE:20190106
DTEND;TZID=Europe/Paris;VALUE=DATE:20190107
SEQUENCE:0
TRANSP:OPAQUE
END:VEVENT
END:VCALENDAR