BEGIN:VCALENDAR
VERSION:2.0
PRODID:-//jEvents 2.0 for Joomla//EN
CALSCALE:GREGORIAN
METHOD:PUBLISH
BEGIN:VTIMEZONE
TZID:Europe/Paris
BEGIN:STANDARD
DTSTART:20180105T000000
RDATE:20180325T030000
TZOFFSETFROM:+0200
TZOFFSETTO:+0100
TZNAME:Europe/Paris CET
END:STANDARD
BEGIN:STANDARD
DTSTART:20181028T020000
RDATE:20190331T030000
TZOFFSETFROM:+0200
TZOFFSETTO:+0100
TZNAME:Europe/Paris CET
END:STANDARD
BEGIN:STANDARD
DTSTART:20191027T020000
RDATE:20200329T030000
TZOFFSETFROM:+0200
TZOFFSETTO:+0100
TZNAME:Europe/Paris CET
END:STANDARD
BEGIN:STANDARD
DTSTART:20201025T020000
RDATE:20210328T030000
TZOFFSETFROM:+0200
TZOFFSETTO:+0100
TZNAME:Europe/Paris CET
END:STANDARD
BEGIN:STANDARD
DTSTART:20211031T020000
RDATE:20220327T030000
TZOFFSETFROM:+0200
TZOFFSETTO:+0100
TZNAME:Europe/Paris CET
END:STANDARD
BEGIN:STANDARD
DTSTART:20221030T020000
RDATE:20230326T030000
TZOFFSETFROM:+0200
TZOFFSETTO:+0100
TZNAME:Europe/Paris CET
END:STANDARD
BEGIN:STANDARD
DTSTART:20231029T020000
RDATE:20240331T030000
TZOFFSETFROM:+0200
TZOFFSETTO:+0100
TZNAME:Europe/Paris CET
END:STANDARD
BEGIN:STANDARD
DTSTART:20241027T020000
RDATE:20250330T030000
TZOFFSETFROM:+0200
TZOFFSETTO:+0100
TZNAME:Europe/Paris CET
END:STANDARD
BEGIN:STANDARD
DTSTART:20251026T020000
RDATE:20260329T030000
TZOFFSETFROM:+0200
TZOFFSETTO:+0100
TZNAME:Europe/Paris CET
END:STANDARD
BEGIN:STANDARD
DTSTART:20261025T020000
RDATE:20270328T030000
TZOFFSETFROM:+0200
TZOFFSETTO:+0100
TZNAME:Europe/Paris CET
END:STANDARD
BEGIN:DAYLIGHT
DTSTART:20180325T030000
RDATE:20181028T020000
TZOFFSETFROM:+0100
TZOFFSETTO:+0200
TZNAME:Europe/Paris CEST
END:DAYLIGHT
BEGIN:DAYLIGHT
DTSTART:20190331T030000
RDATE:20191027T020000
TZOFFSETFROM:+0100
TZOFFSETTO:+0200
TZNAME:Europe/Paris CEST
END:DAYLIGHT
BEGIN:DAYLIGHT
DTSTART:20200329T030000
RDATE:20201025T020000
TZOFFSETFROM:+0100
TZOFFSETTO:+0200
TZNAME:Europe/Paris CEST
END:DAYLIGHT
BEGIN:DAYLIGHT
DTSTART:20210328T030000
RDATE:20211031T020000
TZOFFSETFROM:+0100
TZOFFSETTO:+0200
TZNAME:Europe/Paris CEST
END:DAYLIGHT
BEGIN:DAYLIGHT
DTSTART:20220327T030000
RDATE:20221030T020000
TZOFFSETFROM:+0100
TZOFFSETTO:+0200
TZNAME:Europe/Paris CEST
END:DAYLIGHT
BEGIN:DAYLIGHT
DTSTART:20230326T030000
RDATE:20231029T020000
TZOFFSETFROM:+0100
TZOFFSETTO:+0200
TZNAME:Europe/Paris CEST
END:DAYLIGHT
BEGIN:DAYLIGHT
DTSTART:20240331T030000
RDATE:20241027T020000
TZOFFSETFROM:+0100
TZOFFSETTO:+0200
TZNAME:Europe/Paris CEST
END:DAYLIGHT
BEGIN:DAYLIGHT
DTSTART:20250330T030000
RDATE:20251026T020000
TZOFFSETFROM:+0100
TZOFFSETTO:+0200
TZNAME:Europe/Paris CEST
END:DAYLIGHT
BEGIN:DAYLIGHT
DTSTART:20260329T030000
RDATE:20261025T020000
TZOFFSETFROM:+0100
TZOFFSETTO:+0200
TZNAME:Europe/Paris CEST
END:DAYLIGHT
END:VTIMEZONE
BEGIN:VEVENT
UID:43f9ef31d147692447a65ead11058dda
CATEGORIES:Circuit Massif D2 (alpin)
CREATED:20181114T121858
SUMMARY:CD2 U18 à Masters ACW carrosserie Gérardmer **REPORTE(E) au 16/02/2019**
URL;VALUE=URI:https://skivosges.net/agenda/export-synchronisation/detailevenement/1113/-/
 cd2-u18-a-masters-acw-carrosserie-gerardmer-reporte-e-au-16-02-2019?tmpl=co
 mponent
DESCRIPTION:<!-- #gskiepreuve code généré par le plugin jevents pour GskiEpreuves. Ne p
 as modifier cette ligne, ni tout le contenu suivant  #gskiepreuve --><div c
 lass="gski-evenement_infos"><div class="gski-evenement-nom">CD2 U18 à Maste
 rs ACW carrosserie Gérardmer</div><div class="gski-evenement-report"> <font
  class="gskiattention">(Epreuve reportée au 16/02/2019)</font></div><ul cla
 ss="gski-evenement-liste-infos"><li>Codex évenement AMVT0100</li><li>Statio
 n : GERARDMER</li><li>Organisateur : 14089 GERARDMER SKI ALPIN</li><li>Cour
 riel : <!-- Cette adresse électronique est protégée contre les robots spamm
 eurs. --><span class="cloaked_email ep_2fe4cb36"><span data-ep-b="e&#46;&#1
 02;&#114;" data-ep-a="&#103;e&#114;a&#114;"><span data-ep-a="d&#109;&#101;&
 #114;-" data-ep-b="&#111;&#114;&#97;n&#103;"><span data-ep-a="s&#107;&#105;
 -&#97;" data-ep-b="&#108;p&#105;&#110;&#64;"></span></span></span></span><s
 cript>RegularLabs.EmailProtector.unCloak("ep_2fe4cb36");</script></li><li>T
 éléphone : 03 29 60 98 04</li><li><span class="gski-evenement-obs">Délégué 
 Technique : TURRI TIZIANO</span></li></ul><div class="gski-evenement-infos-
 2"><div class="gski-evenement-info-inscriptions"><div class="gski-evenement
 -inscriptions-periodes">Période d'inscription à l'evènement du dimanche 30 
 décembre 2018 à 00:00 au vendredi 04 janvier 2019 à 12:00 <span class="gski
 -evenement-inscriptions-impossibles">(Inscriptions impossibles).</span><div
  class="gski-evenement-inscriptions-types-titres">Inscriptions ouvertes aux
  detenteurs des titres Fédéraux valides suivants : Licenciés Compétiteurs</
 div></div></div><div class="gski-evenement-epreuves"><div class="gski-evene
 ment-epreuves-titres">Epreuves :</div><ul class="gski-evenement-epreuves-li
 st"><li><div class="gski-epreuve-date">Le dimanche 06 janvier 2019</div><ul
  class="gski-epreuve-liste-infos"><li>Codex épreuve AMVM0101</li><li>Slalom
  Geant</li><li>Catégorie(s) : U18 a Masters (Hommes)</li></ul></li><li><div
  class="gski-epreuve-date">Le dimanche 06 janvier 2019</div><ul class="gski
 -epreuve-liste-infos"><li>Codex épreuve AMVF0101</li><li>Slalom Geant</li><
 li>Catégorie(s) : U18 a Masters (Dames)</li></ul></li></ul></div><div class
 ="gskiepreuves-links"><ul><li><a href="/index.php?option=com_jevents&task=i
 calevent.detail&evid=1108&Itemid=6283">Voir les informations dans l'agenda.
 ..</a></li><li><a href="/index.php?option=com_gskiepreuves&view=afficheresu
 ltats&format_option=tous&filter[search]=AMVT0100&filter[date_debut]=16-02-2
 019&filter[date_fin]=16-02-2019&code_activite=ALP&Itemid=6283">Vers les rés
 ultats...</a></li><li>Publications concernant cet évènement :<ul><li><a hre
 f="/index.php?option=com_content&view=article&id=6689&Itemid=6283">Samedi 1
 6 Février 2019 à 12:28 : Le 16/02/2019 GERARDMER Résultats</a></li><li><a h
 ref="/index.php?option=com_content&view=article&id=6684&Itemid=6283">Vendre
 di 15 Février 2019 à 16:54 : Le 16/02/2019 GERARDMER Liste de départs</a></
 li></ul></li></ul></div></div"><!-- #/gskiepreuve fin du dode généré par le
  plugin jevents pour GskiEpreuves. . Ne pas modifier cette ligne, ni tout l
 e contenu précedant.  #/gskiepreuve --> <a href="https://skivosges.net/agen
 da/export-synchronisation/detailevenement/1113/-/cd2-u18-a-masters-acw-carr
 osserie-gerardmer-reporte-e-au-16-02-2019?tmpl=component">Cet évènement a é
 té importé depuis :https://skivosges.net/agenda/export-synchronisation/deta
 ilevenement/1113/-/cd2-u18-a-masters-acw-carrosserie-gerardmer-reporte-e-au
 -16-02-2019?tmpl=component</a>
X-ALT-DESC;FMTTYPE=text/html:<!-- #gskiepreuve code généré par le plugin jevents pour GskiEpreuves. Ne p
 as modifier cette ligne, ni tout le contenu suivant  #gskiepreuve --><div c
 lass="gski-evenement_infos"><div class="gski-evenement-nom">CD2 U18 à Maste
 rs ACW carrosserie Gérardmer</div><div class="gski-evenement-report"> <font
  class="gskiattention">(Epreuve reportée au 16/02/2019)</font></div><ul cla
 ss="gski-evenement-liste-infos"><li>Codex évenement AMVT0100</li><li>Statio
 n : GERARDMER</li><li>Organisateur : 14089 GERARDMER SKI ALPIN</li><li>Cour
 riel : <!-- Cette adresse électronique est protégée contre les robots spamm
 eurs. --><span class="cloaked_email ep_2fe4cb36"><span data-ep-b="e&#46;&#1
 02;&#114;" data-ep-a="&#103;e&#114;a&#114;"><span data-ep-a="d&#109;&#101;&
 #114;-" data-ep-b="&#111;&#114;&#97;n&#103;"><span data-ep-a="s&#107;&#105;
 -&#97;" data-ep-b="&#108;p&#105;&#110;&#64;"></span></span></span></span><s
 cript>RegularLabs.EmailProtector.unCloak("ep_2fe4cb36");</script></li><li>T
 éléphone : 03 29 60 98 04</li><li><span class="gski-evenement-obs">Délégué 
 Technique : TURRI TIZIANO</span></li></ul><div class="gski-evenement-infos-
 2"><div class="gski-evenement-info-inscriptions"><div class="gski-evenement
 -inscriptions-periodes">Période d'inscription à l'evènement du dimanche 30 
 décembre 2018 à 00:00 au vendredi 04 janvier 2019 à 12:00 <span class="gski
 -evenement-inscriptions-impossibles">(Inscriptions impossibles).</span><div
  class="gski-evenement-inscriptions-types-titres">Inscriptions ouvertes aux
  detenteurs des titres Fédéraux valides suivants : Licenciés Compétiteurs</
 div></div></div><div class="gski-evenement-epreuves"><div class="gski-evene
 ment-epreuves-titres">Epreuves :</div><ul class="gski-evenement-epreuves-li
 st"><li><div class="gski-epreuve-date">Le dimanche 06 janvier 2019</div><ul
  class="gski-epreuve-liste-infos"><li>Codex épreuve AMVM0101</li><li>Slalom
  Geant</li><li>Catégorie(s) : U18 a Masters (Hommes)</li></ul></li><li><div
  class="gski-epreuve-date">Le dimanche 06 janvier 2019</div><ul class="gski
 -epreuve-liste-infos"><li>Codex épreuve AMVF0101</li><li>Slalom Geant</li><
 li>Catégorie(s) : U18 a Masters (Dames)</li></ul></li></ul></div><div class
 ="gskiepreuves-links"><ul><li><a href="https://skivosges.net/index.php?opti
 on=com_jevents&task=icalevent.detail&evid=1108&Itemid=6283">Voir les inform
 ations dans l'agenda...</a></li><li><a href="https://skivosges.net/index.ph
 p?option=com_gskiepreuves&view=afficheresultats&format_option=tous&filter[s
 earch]=AMVT0100&filter[date_debut]=16-02-2019&filter[date_fin]=16-02-2019&c
 ode_activite=ALP&Itemid=6283">Vers les résultats...</a></li><li>Publication
 s concernant cet évènement :<ul><li><a href="https://skivosges.net/index.ph
 p?option=com_content&view=article&id=6689&Itemid=6283">Samedi 16 Février 20
 19 à 12:28 : Le 16/02/2019 GERARDMER Résultats</a></li><li><a href="https:/
 /skivosges.net/index.php?option=com_content&view=article&id=6684&Itemid=628
 3">Vendredi 15 Février 2019 à 16:54 : Le 16/02/2019 GERARDMER Liste de dépa
 rts</a></li></ul></li></ul></div></div"><!-- #/gskiepreuve fin du dode géné
 ré par le plugin jevents pour GskiEpreuves. . Ne pas modifier cette ligne, 
 ni tout le contenu précedant.  #/gskiepreuve --> <a href="https://skivosges
 .net/agenda/export-synchronisation/detailevenement/1113/-/cd2-u18-a-masters
 -acw-carrosserie-gerardmer-reporte-e-au-16-02-2019?tmpl=component">Cet évèn
 ement a été importé depuis :https://skivosges.net/agenda/export-synchronisa
 tion/detailevenement/1113/-/cd2-u18-a-masters-acw-carrosserie-gerardmer-rep
 orte-e-au-16-02-2019?tmpl=component</a>DTSTAMP:20260420T131809
DTSTART;TZID=Europe/Paris;VALUE=DATE:20190106
DTEND;TZID=Europe/Paris;VALUE=DATE:20190107
SEQUENCE:0
TRANSP:OPAQUE
END:VEVENT
END:VCALENDAR