BEGIN:VCALENDAR
VERSION:2.0
PRODID:-//jEvents 2.0 for Joomla//EN
CALSCALE:GREGORIAN
METHOD:PUBLISH
BEGIN:VTIMEZONE
TZID:Europe/Paris
BEGIN:STANDARD
DTSTART:20180105T000000
RDATE:20180325T030000
TZOFFSETFROM:+0200
TZOFFSETTO:+0100
TZNAME:Europe/Paris CET
END:STANDARD
BEGIN:STANDARD
DTSTART:20181028T020000
RDATE:20190331T030000
TZOFFSETFROM:+0200
TZOFFSETTO:+0100
TZNAME:Europe/Paris CET
END:STANDARD
BEGIN:STANDARD
DTSTART:20191027T020000
RDATE:20200329T030000
TZOFFSETFROM:+0200
TZOFFSETTO:+0100
TZNAME:Europe/Paris CET
END:STANDARD
BEGIN:STANDARD
DTSTART:20201025T020000
RDATE:20210328T030000
TZOFFSETFROM:+0200
TZOFFSETTO:+0100
TZNAME:Europe/Paris CET
END:STANDARD
BEGIN:STANDARD
DTSTART:20211031T020000
RDATE:20220327T030000
TZOFFSETFROM:+0200
TZOFFSETTO:+0100
TZNAME:Europe/Paris CET
END:STANDARD
BEGIN:STANDARD
DTSTART:20221030T020000
RDATE:20230326T030000
TZOFFSETFROM:+0200
TZOFFSETTO:+0100
TZNAME:Europe/Paris CET
END:STANDARD
BEGIN:STANDARD
DTSTART:20231029T020000
RDATE:20240331T030000
TZOFFSETFROM:+0200
TZOFFSETTO:+0100
TZNAME:Europe/Paris CET
END:STANDARD
BEGIN:STANDARD
DTSTART:20241027T020000
RDATE:20250330T030000
TZOFFSETFROM:+0200
TZOFFSETTO:+0100
TZNAME:Europe/Paris CET
END:STANDARD
BEGIN:STANDARD
DTSTART:20251026T020000
RDATE:20260329T030000
TZOFFSETFROM:+0200
TZOFFSETTO:+0100
TZNAME:Europe/Paris CET
END:STANDARD
BEGIN:STANDARD
DTSTART:20261025T020000
RDATE:20270328T030000
TZOFFSETFROM:+0200
TZOFFSETTO:+0100
TZNAME:Europe/Paris CET
END:STANDARD
BEGIN:DAYLIGHT
DTSTART:20180325T030000
RDATE:20181028T020000
TZOFFSETFROM:+0100
TZOFFSETTO:+0200
TZNAME:Europe/Paris CEST
END:DAYLIGHT
BEGIN:DAYLIGHT
DTSTART:20190331T030000
RDATE:20191027T020000
TZOFFSETFROM:+0100
TZOFFSETTO:+0200
TZNAME:Europe/Paris CEST
END:DAYLIGHT
BEGIN:DAYLIGHT
DTSTART:20200329T030000
RDATE:20201025T020000
TZOFFSETFROM:+0100
TZOFFSETTO:+0200
TZNAME:Europe/Paris CEST
END:DAYLIGHT
BEGIN:DAYLIGHT
DTSTART:20210328T030000
RDATE:20211031T020000
TZOFFSETFROM:+0100
TZOFFSETTO:+0200
TZNAME:Europe/Paris CEST
END:DAYLIGHT
BEGIN:DAYLIGHT
DTSTART:20220327T030000
RDATE:20221030T020000
TZOFFSETFROM:+0100
TZOFFSETTO:+0200
TZNAME:Europe/Paris CEST
END:DAYLIGHT
BEGIN:DAYLIGHT
DTSTART:20230326T030000
RDATE:20231029T020000
TZOFFSETFROM:+0100
TZOFFSETTO:+0200
TZNAME:Europe/Paris CEST
END:DAYLIGHT
BEGIN:DAYLIGHT
DTSTART:20240331T030000
RDATE:20241027T020000
TZOFFSETFROM:+0100
TZOFFSETTO:+0200
TZNAME:Europe/Paris CEST
END:DAYLIGHT
BEGIN:DAYLIGHT
DTSTART:20250330T030000
RDATE:20251026T020000
TZOFFSETFROM:+0100
TZOFFSETTO:+0200
TZNAME:Europe/Paris CEST
END:DAYLIGHT
BEGIN:DAYLIGHT
DTSTART:20260329T030000
RDATE:20261025T020000
TZOFFSETFROM:+0100
TZOFFSETTO:+0200
TZNAME:Europe/Paris CEST
END:DAYLIGHT
END:VTIMEZONE
BEGIN:VEVENT
UID:351824ac25540ed26ad51c6df41d306d
CATEGORIES:Circuit Massif Jeunes (alpin)
CREATED:20181114T121858
SUMMARY:CJM Coupe d'argent U16 GP Valfleuri-Optique Schivy **REPORTE(E) au 19/01/2019**
URL;VALUE=URI:https://skivosges.net/agenda/export-synchronisation/detailevenement/1114/-/
 cjm-coupe-dargent-u16-gp-valfleuri-optique-schivy-reporte-e-au-19-01-2019?t
 mpl=component
DESCRIPTION:CJM Coupe d'argent U16 GP Valfleuri-Optique Schivy (Epreuve reportée au 19/
 01/2019)\n - Codex évenement AMVT0110\n - Station : SCHNEPFENRIED\n - Organ
 isateur : 14140 LES AMIS DE LA NATURE MUNSTER\n - Courriel : RegularLabs.Em
 ailProtector.unCloak("ep_88985235");Période d'inscription à l'evènement du 
 dimanche 30 décembre 2018 à 00:00 au vendredi 04 janvier 2019 à 18:00 (Insc
 riptions impossibles).Inscriptions ouvertes aux detenteurs des titres Fédér
 aux valides suivants : Licenciés CompétiteursEpreuves :\n - Le dimanche 06 
 janvier 2019\n - Codex épreuve AMVM0111\n - Slalom Geant\n - Catégorie(s) :
  U16 (Garçons)\n - Le dimanche 06 janvier 2019\n - Codex épreuve AMVF0111\n
  - Slalom Geant\n - Catégorie(s) : U16 (Filles)\n - Voir les informations d
 ans l'agenda... (/index.php?option=com_jevents&amp;task=icalevent.detail&am
 p;evid=1109&amp;Itemid=6283)\n - Vers les résultats... (/index.php?option=c
 om_gskiepreuves&amp;view=afficheresultats&amp;format_option=tous&amp;filter
 [search]=AMVT0110&amp;filter[date_debut]=19-01-2019&amp;filter[date_fin]=19
 -01-2019&amp;code_activite=ALP&amp;Itemid=6283)\n - Publications concernant
  cet évènement :\n - Samedi 19 Janvier 2019 à 15:54 : Le 19/01/2019 SCHNEPF
 ENRIED Résultats\n - Vendredi 18 Janvier 2019 à 19:21 : Le 19/01/2019 SCHNE
 PFENRIED Liste de départs\n - Lundi 14 Janvier 2019 à 22:38 : Le 19/01/2019
  SCHNEPFENRIED Informations Cet évènement a été importé depuis :https://ski
 vosges.net/agenda/export-synchronisation/detailevenement/1114/-/cjm-coupe-d
 argent-u16-gp-valfleuri-optique-schivy-reporte-e-au-19-01-2019?tmpl=compone
 nt
X-ALT-DESC;FMTTYPE=text/html:<!-- #gskiepreuve code généré par le plugin jevents pour GskiEpreuves. Ne p
 as modifier cette ligne, ni tout le contenu suivant  #gskiepreuve --><div c
 lass="gski-evenement_infos"><div class="gski-evenement-nom">CJM Coupe d'arg
 ent U16 GP Valfleuri-Optique Schivy</div><div class="gski-evenement-report"
 > <font class="gskiattention">(Epreuve reportée au 19/01/2019)</font></div>
 <ul class="gski-evenement-liste-infos"><li>Codex évenement AMVT0110</li><li
 >Station : SCHNEPFENRIED</li><li>Organisateur : 14140 LES AMIS DE LA NATURE
  MUNSTER</li><li>Courriel : <!-- Cette adresse électronique est protégée co
 ntre les robots spammeurs. --><span class="cloaked_email ep_88985235"><span
  data-ep-b="&#114;" data-ep-a="mar&#99;"><span data-ep-a="&#104;an&#100;" d
 ata-ep-b="e&#101;&#46;&#102;"><span data-ep-a="c&#97;&#112;h" data-ep-b="&#
 105;&#64;&#102;&#114;"></span></span></span></span><script>RegularLabs.Emai
 lProtector.unCloak("ep_88985235");</script></li></ul><div class="gski-evene
 ment-infos-2"><div class="gski-evenement-info-inscriptions"><div class="gsk
 i-evenement-inscriptions-periodes">Période d'inscription à l'evènement du d
 imanche 30 décembre 2018 à 00:00 au vendredi 04 janvier 2019 à 18:00 <span 
 class="gski-evenement-inscriptions-impossibles">(Inscriptions impossibles).
 </span><div class="gski-evenement-inscriptions-types-titres">Inscriptions o
 uvertes aux detenteurs des titres Fédéraux valides suivants : Licenciés Com
 pétiteurs</div></div></div><div class="gski-evenement-epreuves"><div class=
 "gski-evenement-epreuves-titres">Epreuves :</div><ul class="gski-evenement-
 epreuves-list"><li><div class="gski-epreuve-date">Le dimanche 06 janvier 20
 19</div><ul class="gski-epreuve-liste-infos"><li>Codex épreuve AMVM0111</li
 ><li>Slalom Geant</li><li>Catégorie(s) : U16 (Garçons)</li></ul></li><li><d
 iv class="gski-epreuve-date">Le dimanche 06 janvier 2019</div><ul class="gs
 ki-epreuve-liste-infos"><li>Codex épreuve AMVF0111</li><li>Slalom Geant</li
 ><li>Catégorie(s) : U16 (Filles)</li></ul></li></ul></div><div class="gskie
 preuves-links"><ul><li><a href="https://skivosges.net/index.php?option=com_
 jevents&task=icalevent.detail&evid=1109&Itemid=6283">Voir les informations 
 dans l'agenda...</a></li><li><a href="https://skivosges.net/index.php?optio
 n=com_gskiepreuves&view=afficheresultats&format_option=tous&filter[search]=
 AMVT0110&filter[date_debut]=19-01-2019&filter[date_fin]=19-01-2019&code_act
 ivite=ALP&Itemid=6283">Vers les résultats...</a></li><li>Publications conce
 rnant cet évènement :<ul><li><a href="https://skivosges.net/index.php?optio
 n=com_content&view=article&id=6558&Itemid=6283">Samedi 19 Janvier 2019 à 15
 :54 : Le 19/01/2019 SCHNEPFENRIED Résultats</a></li><li><a href="https://sk
 ivosges.net/index.php?option=com_content&view=article&id=6553&Itemid=6283">
 Vendredi 18 Janvier 2019 à 19:21 : Le 19/01/2019 SCHNEPFENRIED Liste de dép
 arts</a></li><li><a href="https://skivosges.net/index.php?option=com_conten
 t&view=article&id=6530&Itemid=6283">Lundi 14 Janvier 2019 à 22:38 : Le 19/0
 1/2019 SCHNEPFENRIED Informations</a></li></ul></li></ul></div></div"><!-- 
 #/gskiepreuve fin du dode généré par le plugin jevents pour GskiEpreuves. .
  Ne pas modifier cette ligne, ni tout le contenu précedant.  #/gskiepreuve 
 --> <a href="https://skivosges.net/agenda/export-synchronisation/detaileven
 ement/1114/-/cjm-coupe-dargent-u16-gp-valfleuri-optique-schivy-reporte-e-au
 -19-01-2019?tmpl=component">Cet évènement a été importé depuis :https://ski
 vosges.net/agenda/export-synchronisation/detailevenement/1114/-/cjm-coupe-d
 argent-u16-gp-valfleuri-optique-schivy-reporte-e-au-19-01-2019?tmpl=compone
 nt</a>DTSTAMP:20260420T131354
DTSTART;TZID=Europe/Paris;VALUE=DATE:20190106
DTEND;TZID=Europe/Paris;VALUE=DATE:20190107
SEQUENCE:0
TRANSP:OPAQUE
END:VEVENT
END:VCALENDAR