BEGIN:VCALENDAR
VERSION:2.0
PRODID:-//jEvents 2.0 for Joomla//EN
CALSCALE:GREGORIAN
METHOD:PUBLISH
BEGIN:VTIMEZONE
TZID:Europe/Paris
BEGIN:STANDARD
DTSTART:20180105T000000
RDATE:20180325T030000
TZOFFSETFROM:+0200
TZOFFSETTO:+0100
TZNAME:Europe/Paris CET
END:STANDARD
BEGIN:STANDARD
DTSTART:20181028T020000
RDATE:20190331T030000
TZOFFSETFROM:+0200
TZOFFSETTO:+0100
TZNAME:Europe/Paris CET
END:STANDARD
BEGIN:STANDARD
DTSTART:20191027T020000
RDATE:20200329T030000
TZOFFSETFROM:+0200
TZOFFSETTO:+0100
TZNAME:Europe/Paris CET
END:STANDARD
BEGIN:STANDARD
DTSTART:20201025T020000
RDATE:20210328T030000
TZOFFSETFROM:+0200
TZOFFSETTO:+0100
TZNAME:Europe/Paris CET
END:STANDARD
BEGIN:STANDARD
DTSTART:20211031T020000
RDATE:20220327T030000
TZOFFSETFROM:+0200
TZOFFSETTO:+0100
TZNAME:Europe/Paris CET
END:STANDARD
BEGIN:STANDARD
DTSTART:20221030T020000
RDATE:20230326T030000
TZOFFSETFROM:+0200
TZOFFSETTO:+0100
TZNAME:Europe/Paris CET
END:STANDARD
BEGIN:STANDARD
DTSTART:20231029T020000
RDATE:20240331T030000
TZOFFSETFROM:+0200
TZOFFSETTO:+0100
TZNAME:Europe/Paris CET
END:STANDARD
BEGIN:STANDARD
DTSTART:20241027T020000
RDATE:20250330T030000
TZOFFSETFROM:+0200
TZOFFSETTO:+0100
TZNAME:Europe/Paris CET
END:STANDARD
BEGIN:STANDARD
DTSTART:20251026T020000
RDATE:20260329T030000
TZOFFSETFROM:+0200
TZOFFSETTO:+0100
TZNAME:Europe/Paris CET
END:STANDARD
BEGIN:STANDARD
DTSTART:20261025T020000
RDATE:20270328T030000
TZOFFSETFROM:+0200
TZOFFSETTO:+0100
TZNAME:Europe/Paris CET
END:STANDARD
BEGIN:DAYLIGHT
DTSTART:20180325T030000
RDATE:20181028T020000
TZOFFSETFROM:+0100
TZOFFSETTO:+0200
TZNAME:Europe/Paris CEST
END:DAYLIGHT
BEGIN:DAYLIGHT
DTSTART:20190331T030000
RDATE:20191027T020000
TZOFFSETFROM:+0100
TZOFFSETTO:+0200
TZNAME:Europe/Paris CEST
END:DAYLIGHT
BEGIN:DAYLIGHT
DTSTART:20200329T030000
RDATE:20201025T020000
TZOFFSETFROM:+0100
TZOFFSETTO:+0200
TZNAME:Europe/Paris CEST
END:DAYLIGHT
BEGIN:DAYLIGHT
DTSTART:20210328T030000
RDATE:20211031T020000
TZOFFSETFROM:+0100
TZOFFSETTO:+0200
TZNAME:Europe/Paris CEST
END:DAYLIGHT
BEGIN:DAYLIGHT
DTSTART:20220327T030000
RDATE:20221030T020000
TZOFFSETFROM:+0100
TZOFFSETTO:+0200
TZNAME:Europe/Paris CEST
END:DAYLIGHT
BEGIN:DAYLIGHT
DTSTART:20230326T030000
RDATE:20231029T020000
TZOFFSETFROM:+0100
TZOFFSETTO:+0200
TZNAME:Europe/Paris CEST
END:DAYLIGHT
BEGIN:DAYLIGHT
DTSTART:20240331T030000
RDATE:20241027T020000
TZOFFSETFROM:+0100
TZOFFSETTO:+0200
TZNAME:Europe/Paris CEST
END:DAYLIGHT
BEGIN:DAYLIGHT
DTSTART:20250330T030000
RDATE:20251026T020000
TZOFFSETFROM:+0100
TZOFFSETTO:+0200
TZNAME:Europe/Paris CEST
END:DAYLIGHT
BEGIN:DAYLIGHT
DTSTART:20260329T030000
RDATE:20261025T020000
TZOFFSETFROM:+0100
TZOFFSETTO:+0200
TZNAME:Europe/Paris CEST
END:DAYLIGHT
END:VTIMEZONE
BEGIN:VEVENT
UID:859597b2d50deb4841f6121e93dee9ee
CATEGORIES:Circuit Lorraine Jeunes (alpin)
CREATED:20181114T121858
SUMMARY:CJL Coupe de Bronze U8 à U14 Prix G. Lemaire / Credit Agricole **REPORTE(E) au 02/03/2019**
URL;VALUE=URI:https://skivosges.net/agenda/export-synchronisation/detailevenement/1115/-/
 cjl-coupe-de-bronze-u8-a-u14-prix-g-lemaire-credit-agricole-reporte-e-au-02
 -03-2019?tmpl=component
DESCRIPTION:<!-- #gskiepreuve code généré par le plugin jevents pour GskiEpreuves. Ne p
 as modifier cette ligne, ni tout le contenu suivant  #gskiepreuve --><div c
 lass="gski-evenement_infos"><div class="gski-evenement-nom">CJL Coupe de Br
 onze U8 à U14 Prix G. Lemaire / Credit Agricole</div><div class="gski-evene
 ment-report"> <font class="gskiattention">(Epreuve reportée au 02/03/2019)<
 /font></div><ul class="gski-evenement-liste-infos"><li>Codex évenement AMVT
 0080</li><li>Station : LA BRESSE</li><li>Organisateur : 14024 LA BRESSAUDE 
 SECTION SKI</li><li>Courriel : <!-- Cette adresse électronique est protégée
  contre les robots spammeurs. --><span class="cloaked_email ep_5c725cee"><s
 pan data-ep-a="o&#100;&#105;l&#101;" data-ep-b="&#102;&#114;"><span data-ep
 -a=".&#109;u&#110;&#115;" data-ep-b="&#97;n&#103;e&#46;"><span data-ep-a="&
 #99;&#104;&#46;&#115;&#99;" data-ep-b="&#108;&#98;&#64;&#111;r"></span></sp
 an></span></span><script>RegularLabs.EmailProtector.unCloak("ep_5c725cee");
 </script></li><li>Téléphone : 0608855252</li><li><span class="gski-evenemen
 t-obs">Délégué Technique : LEPAGE REMI</span></li></ul><div class="gski-eve
 nement-infos-2"><div class="gski-evenement-info-inscriptions"><div class="g
 ski-evenement-inscriptions-periodes">Période d'inscription à l'evènement du
  dimanche 30 décembre 2018 à 00:00 au vendredi 04 janvier 2019 à 12:00 <spa
 n class="gski-evenement-inscriptions-impossibles">(Inscriptions impossibles
 ).</span><div class="gski-evenement-inscriptions-types-titres">Inscriptions
  ouvertes aux detenteurs des titres Fédéraux valides suivants : Licenciés C
 ompétiteurs</div></div></div><div class="gski-evenement-epreuves"><div clas
 s="gski-evenement-epreuves-titres">Epreuves :</div><ul class="gski-evenemen
 t-epreuves-list"><li><div class="gski-epreuve-date">Le dimanche 06 janvier 
 2019</div><ul class="gski-epreuve-liste-infos"><li>Codex épreuve AMVM0081</
 li><li>Slalom Geant</li><li>Catégorie(s) : U8/U10 (Garçons)</li></ul></li><
 li><div class="gski-epreuve-date">Le dimanche 06 janvier 2019</div><ul clas
 s="gski-epreuve-liste-infos"><li>Codex épreuve AMVF0081</li><li>Slalom Gean
 t</li><li>Catégorie(s) : U8/U10 (Filles)</li></ul></li><li><div class="gski
 -epreuve-date">Le dimanche 06 janvier 2019</div><ul class="gski-epreuve-lis
 te-infos"><li>Codex épreuve AMVM0082</li><li>Slalom Geant</li><li>Catégorie
 (s) : U12 (Garçons)</li></ul></li><li><div class="gski-epreuve-date">Le dim
 anche 06 janvier 2019</div><ul class="gski-epreuve-liste-infos"><li>Codex é
 preuve AMVF0082</li><li>Slalom Geant</li><li>Catégorie(s) : U12 (Filles)</l
 i></ul></li><li><div class="gski-epreuve-date">Le dimanche 06 janvier 2019<
 /div><ul class="gski-epreuve-liste-infos"><li>Codex épreuve AMVM0083</li><l
 i>Slalom Geant</li><li>Catégorie(s) : U14 (Garçons)</li></ul></li><li><div 
 class="gski-epreuve-date">Le dimanche 06 janvier 2019</div><ul class="gski-
 epreuve-liste-infos"><li>Codex épreuve AMVF0083</li><li>Slalom Geant</li><l
 i>Catégorie(s) : U14 (Filles)</li></ul></li></ul></div><div class="gskiepre
 uves-links"><ul><li><a href="/index.php?option=com_jevents&task=icalevent.d
 etail&evid=1110&Itemid=6283">Voir les informations dans l'agenda...</a></li
 ><li><a href="/index.php?option=com_gskiepreuves&view=afficheresultats&form
 at_option=tous&filter[search]=AMVT0080&filter[date_debut]=02-03-2019&filter
 [date_fin]=02-03-2019&code_activite=ALP&Itemid=6283">Vers les résultats...<
 /a></li><li>Publications concernant cet évènement :<ul><li><a href="/index.
 php?option=com_content&view=article&id=6761&Itemid=6283">Samedi 2 Mars 2019
  à 16:47 : Le 02/03/2019 LA BRESSE Résultats</a></li></ul></li></ul></div><
 /div"><!-- #/gskiepreuve fin du dode généré par le plugin jevents pour Gski
 Epreuves. . Ne pas modifier cette ligne, ni tout le contenu précedant.  #/g
 skiepreuve --> <a href="https://skivosges.net/agenda/export-synchronisation
 /detailevenement/1115/-/cjl-coupe-de-bronze-u8-a-u14-prix-g-lemaire-credit-
 agricole-reporte-e-au-02-03-2019?tmpl=component">Cet évènement a été import
 é depuis :https://skivosges.net/agenda/export-synchronisation/detaileveneme
 nt/1115/-/cjl-coupe-de-bronze-u8-a-u14-prix-g-lemaire-credit-agricole-repor
 te-e-au-02-03-2019?tmpl=component</a>
X-ALT-DESC;FMTTYPE=text/html:<!-- #gskiepreuve code généré par le plugin jevents pour GskiEpreuves. Ne p
 as modifier cette ligne, ni tout le contenu suivant  #gskiepreuve --><div c
 lass="gski-evenement_infos"><div class="gski-evenement-nom">CJL Coupe de Br
 onze U8 à U14 Prix G. Lemaire / Credit Agricole</div><div class="gski-evene
 ment-report"> <font class="gskiattention">(Epreuve reportée au 02/03/2019)<
 /font></div><ul class="gski-evenement-liste-infos"><li>Codex évenement AMVT
 0080</li><li>Station : LA BRESSE</li><li>Organisateur : 14024 LA BRESSAUDE 
 SECTION SKI</li><li>Courriel : <!-- Cette adresse électronique est protégée
  contre les robots spammeurs. --><span class="cloaked_email ep_5c725cee"><s
 pan data-ep-a="o&#100;&#105;l&#101;" data-ep-b="&#102;&#114;"><span data-ep
 -a=".&#109;u&#110;&#115;" data-ep-b="&#97;n&#103;e&#46;"><span data-ep-a="&
 #99;&#104;&#46;&#115;&#99;" data-ep-b="&#108;&#98;&#64;&#111;r"></span></sp
 an></span></span><script>RegularLabs.EmailProtector.unCloak("ep_5c725cee");
 </script></li><li>Téléphone : 0608855252</li><li><span class="gski-evenemen
 t-obs">Délégué Technique : LEPAGE REMI</span></li></ul><div class="gski-eve
 nement-infos-2"><div class="gski-evenement-info-inscriptions"><div class="g
 ski-evenement-inscriptions-periodes">Période d'inscription à l'evènement du
  dimanche 30 décembre 2018 à 00:00 au vendredi 04 janvier 2019 à 12:00 <spa
 n class="gski-evenement-inscriptions-impossibles">(Inscriptions impossibles
 ).</span><div class="gski-evenement-inscriptions-types-titres">Inscriptions
  ouvertes aux detenteurs des titres Fédéraux valides suivants : Licenciés C
 ompétiteurs</div></div></div><div class="gski-evenement-epreuves"><div clas
 s="gski-evenement-epreuves-titres">Epreuves :</div><ul class="gski-evenemen
 t-epreuves-list"><li><div class="gski-epreuve-date">Le dimanche 06 janvier 
 2019</div><ul class="gski-epreuve-liste-infos"><li>Codex épreuve AMVM0081</
 li><li>Slalom Geant</li><li>Catégorie(s) : U8/U10 (Garçons)</li></ul></li><
 li><div class="gski-epreuve-date">Le dimanche 06 janvier 2019</div><ul clas
 s="gski-epreuve-liste-infos"><li>Codex épreuve AMVF0081</li><li>Slalom Gean
 t</li><li>Catégorie(s) : U8/U10 (Filles)</li></ul></li><li><div class="gski
 -epreuve-date">Le dimanche 06 janvier 2019</div><ul class="gski-epreuve-lis
 te-infos"><li>Codex épreuve AMVM0082</li><li>Slalom Geant</li><li>Catégorie
 (s) : U12 (Garçons)</li></ul></li><li><div class="gski-epreuve-date">Le dim
 anche 06 janvier 2019</div><ul class="gski-epreuve-liste-infos"><li>Codex é
 preuve AMVF0082</li><li>Slalom Geant</li><li>Catégorie(s) : U12 (Filles)</l
 i></ul></li><li><div class="gski-epreuve-date">Le dimanche 06 janvier 2019<
 /div><ul class="gski-epreuve-liste-infos"><li>Codex épreuve AMVM0083</li><l
 i>Slalom Geant</li><li>Catégorie(s) : U14 (Garçons)</li></ul></li><li><div 
 class="gski-epreuve-date">Le dimanche 06 janvier 2019</div><ul class="gski-
 epreuve-liste-infos"><li>Codex épreuve AMVF0083</li><li>Slalom Geant</li><l
 i>Catégorie(s) : U14 (Filles)</li></ul></li></ul></div><div class="gskiepre
 uves-links"><ul><li><a href="https://skivosges.net/index.php?option=com_jev
 ents&task=icalevent.detail&evid=1110&Itemid=6283">Voir les informations dan
 s l'agenda...</a></li><li><a href="https://skivosges.net/index.php?option=c
 om_gskiepreuves&view=afficheresultats&format_option=tous&filter[search]=AMV
 T0080&filter[date_debut]=02-03-2019&filter[date_fin]=02-03-2019&code_activi
 te=ALP&Itemid=6283">Vers les résultats...</a></li><li>Publications concerna
 nt cet évènement :<ul><li><a href="https://skivosges.net/index.php?option=c
 om_content&view=article&id=6761&Itemid=6283">Samedi 2 Mars 2019 à 16:47 : L
 e 02/03/2019 LA BRESSE Résultats</a></li></ul></li></ul></div></div"><!-- #
 /gskiepreuve fin du dode généré par le plugin jevents pour GskiEpreuves. . 
 Ne pas modifier cette ligne, ni tout le contenu précedant.  #/gskiepreuve -
 -> <a href="https://skivosges.net/agenda/export-synchronisation/detailevene
 ment/1115/-/cjl-coupe-de-bronze-u8-a-u14-prix-g-lemaire-credit-agricole-rep
 orte-e-au-02-03-2019?tmpl=component">Cet évènement a été importé depuis :ht
 tps://skivosges.net/agenda/export-synchronisation/detailevenement/1115/-/cj
 l-coupe-de-bronze-u8-a-u14-prix-g-lemaire-credit-agricole-reporte-e-au-02-0
 3-2019?tmpl=component</a>DTSTAMP:20260420T185226
DTSTART;TZID=Europe/Paris;VALUE=DATE:20190106
DTEND;TZID=Europe/Paris;VALUE=DATE:20190107
SEQUENCE:0
TRANSP:OPAQUE
END:VEVENT
END:VCALENDAR