BEGIN:VCALENDAR
VERSION:2.0
PRODID:-//jEvents 2.0 for Joomla//EN
CALSCALE:GREGORIAN
METHOD:PUBLISH
BEGIN:VTIMEZONE
TZID:Europe/Paris
BEGIN:STANDARD
DTSTART:20180105T000000
RDATE:20180325T030000
TZOFFSETFROM:+0200
TZOFFSETTO:+0100
TZNAME:Europe/Paris CET
END:STANDARD
BEGIN:STANDARD
DTSTART:20181028T020000
RDATE:20190331T030000
TZOFFSETFROM:+0200
TZOFFSETTO:+0100
TZNAME:Europe/Paris CET
END:STANDARD
BEGIN:STANDARD
DTSTART:20191027T020000
RDATE:20200329T030000
TZOFFSETFROM:+0200
TZOFFSETTO:+0100
TZNAME:Europe/Paris CET
END:STANDARD
BEGIN:STANDARD
DTSTART:20201025T020000
RDATE:20210328T030000
TZOFFSETFROM:+0200
TZOFFSETTO:+0100
TZNAME:Europe/Paris CET
END:STANDARD
BEGIN:STANDARD
DTSTART:20211031T020000
RDATE:20220327T030000
TZOFFSETFROM:+0200
TZOFFSETTO:+0100
TZNAME:Europe/Paris CET
END:STANDARD
BEGIN:STANDARD
DTSTART:20221030T020000
RDATE:20230326T030000
TZOFFSETFROM:+0200
TZOFFSETTO:+0100
TZNAME:Europe/Paris CET
END:STANDARD
BEGIN:STANDARD
DTSTART:20231029T020000
RDATE:20240331T030000
TZOFFSETFROM:+0200
TZOFFSETTO:+0100
TZNAME:Europe/Paris CET
END:STANDARD
BEGIN:STANDARD
DTSTART:20241027T020000
RDATE:20250330T030000
TZOFFSETFROM:+0200
TZOFFSETTO:+0100
TZNAME:Europe/Paris CET
END:STANDARD
BEGIN:STANDARD
DTSTART:20251026T020000
RDATE:20260329T030000
TZOFFSETFROM:+0200
TZOFFSETTO:+0100
TZNAME:Europe/Paris CET
END:STANDARD
BEGIN:STANDARD
DTSTART:20261025T020000
RDATE:20270328T030000
TZOFFSETFROM:+0200
TZOFFSETTO:+0100
TZNAME:Europe/Paris CET
END:STANDARD
BEGIN:DAYLIGHT
DTSTART:20180325T030000
RDATE:20181028T020000
TZOFFSETFROM:+0100
TZOFFSETTO:+0200
TZNAME:Europe/Paris CEST
END:DAYLIGHT
BEGIN:DAYLIGHT
DTSTART:20190331T030000
RDATE:20191027T020000
TZOFFSETFROM:+0100
TZOFFSETTO:+0200
TZNAME:Europe/Paris CEST
END:DAYLIGHT
BEGIN:DAYLIGHT
DTSTART:20200329T030000
RDATE:20201025T020000
TZOFFSETFROM:+0100
TZOFFSETTO:+0200
TZNAME:Europe/Paris CEST
END:DAYLIGHT
BEGIN:DAYLIGHT
DTSTART:20210328T030000
RDATE:20211031T020000
TZOFFSETFROM:+0100
TZOFFSETTO:+0200
TZNAME:Europe/Paris CEST
END:DAYLIGHT
BEGIN:DAYLIGHT
DTSTART:20220327T030000
RDATE:20221030T020000
TZOFFSETFROM:+0100
TZOFFSETTO:+0200
TZNAME:Europe/Paris CEST
END:DAYLIGHT
BEGIN:DAYLIGHT
DTSTART:20230326T030000
RDATE:20231029T020000
TZOFFSETFROM:+0100
TZOFFSETTO:+0200
TZNAME:Europe/Paris CEST
END:DAYLIGHT
BEGIN:DAYLIGHT
DTSTART:20240331T030000
RDATE:20241027T020000
TZOFFSETFROM:+0100
TZOFFSETTO:+0200
TZNAME:Europe/Paris CEST
END:DAYLIGHT
BEGIN:DAYLIGHT
DTSTART:20250330T030000
RDATE:20251026T020000
TZOFFSETFROM:+0100
TZOFFSETTO:+0200
TZNAME:Europe/Paris CEST
END:DAYLIGHT
BEGIN:DAYLIGHT
DTSTART:20260329T030000
RDATE:20261025T020000
TZOFFSETFROM:+0100
TZOFFSETTO:+0200
TZNAME:Europe/Paris CEST
END:DAYLIGHT
END:VTIMEZONE
BEGIN:VEVENT
UID:465d949db6fa3ce080b5c2863f361244
CATEGORIES:Circuit Alsace Jeunes (alpin)
CREATED:20181114T121858
SUMMARY:CJA Coupe de Bronze Prix de la clinique du Ski **REPORTE**
URL;VALUE=URI:https://skivosges.net/agenda/export-synchronisation/detailevenement/1116/-/
 cja-coupe-de-bronze-prix-de-la-clinique-du-ski-reporte?tmpl=component
DESCRIPTION:CJA Coupe de Bronze Prix de la clinique du Ski (Epreuve reportée, date à de
 terminer)\n - Codex évenement AMVT0120\n - Station : MARKSTEIN\n - Piste : 
 stade \n - Organisateur : 14231 SKI CLUB SAUSHEIM\n - Courriel : RegularLab
 s.EmailProtector.unCloak("ep_6673b79f");\n - Téléphone : 0676974091Période 
 d'inscription à l'evènement du dimanche 30 décembre 2018 à 00:00 au vendred
 i 04 janvier 2019 à 12:00 (Inscriptions impossibles).Inscriptions ouvertes 
 aux detenteurs des titres Fédéraux valides suivants : Licenciés Compétiteur
 sEpreuves :\n - Le dimanche 06 janvier 2019 à 10:00\n - Codex épreuve AMVM0
 121\n - Slalom Geant\n - Catégorie(s) : U8/U10 (Garçons)\n - Le dimanche 06
  janvier 2019\n - Codex épreuve AMVF0121\n - Slalom Geant\n - Catégorie(s) 
 : U8/U10 (Filles)\n - Le dimanche 06 janvier 2019 à 11:00\n - Codex épreuve
  AMVF0122\n - Slalom Geant\n - Catégorie(s) : U12 (Filles)\n - Le dimanche 
 06 janvier 2019\n - Codex épreuve AMVM0122\n - Slalom Geant\n - Catégorie(s
 ) : U12 (Garçons)\n - Voir les informations dans l'agenda... (/index.php?op
 tion=com_jevents&amp;task=icalevent.detail&amp;evid=1111&amp;Itemid=6283) C
 et évènement a été importé depuis :https://skivosges.net/agenda/export-sync
 hronisation/detailevenement/1116/-/cja-coupe-de-bronze-prix-de-la-clinique-
 du-ski-reporte?tmpl=component
X-ALT-DESC;FMTTYPE=text/html:<!-- #gskiepreuve code généré par le plugin jevents pour GskiEpreuves. Ne p
 as modifier cette ligne, ni tout le contenu suivant  #gskiepreuve --><div c
 lass="gski-evenement_infos"><div class="gski-evenement-nom">CJA Coupe de Br
 onze Prix de la clinique du Ski</div><div class="gski-evenement-report"> <f
 ont class="gskiattention">(Epreuve reportée, date à determiner)</font></div
 ><ul class="gski-evenement-liste-infos"><li>Codex évenement AMVT0120</li><l
 i>Station : MARKSTEIN</li><li>Piste : stade </li><li>Organisateur : 14231 S
 KI CLUB SAUSHEIM</li><li>Courriel : <!-- Cette adresse électronique est pro
 tégée contre les robots spammeurs. --><span class="cloaked_email ep_6673b79
 f"><span data-ep-a="&#98;.&#104;a" data-ep-b=""><span data-ep-b="&#111;.&#1
 02;&#114;" data-ep-a="b&#101;&#114;e"><span data-ep-a="&#114;&#64;&#119;&#9
 7;" data-ep-b="na&#100;o"></span></span></span></span><script>RegularLabs.E
 mailProtector.unCloak("ep_6673b79f");</script></li><li>Téléphone : 06769740
 91</li></ul><div class="gski-evenement-infos-2"><div class="gski-evenement-
 info-inscriptions"><div class="gski-evenement-inscriptions-periodes">Périod
 e d'inscription à l'evènement du dimanche 30 décembre 2018 à 00:00 au vendr
 edi 04 janvier 2019 à 12:00 <span class="gski-evenement-inscriptions-imposs
 ibles">(Inscriptions impossibles).</span><div class="gski-evenement-inscrip
 tions-types-titres">Inscriptions ouvertes aux detenteurs des titres Fédérau
 x valides suivants : Licenciés Compétiteurs</div></div></div><div class="gs
 ki-evenement-epreuves"><div class="gski-evenement-epreuves-titres">Epreuves
  :</div><ul class="gski-evenement-epreuves-list"><li><div class="gski-epreu
 ve-date">Le dimanche 06 janvier 2019 à 10:00</div><ul class="gski-epreuve-l
 iste-infos"><li>Codex épreuve AMVM0121</li><li>Slalom Geant</li><li>Catégor
 ie(s) : U8/U10 (Garçons)</li></ul></li><li><div class="gski-epreuve-date">L
 e dimanche 06 janvier 2019</div><ul class="gski-epreuve-liste-infos"><li>Co
 dex épreuve AMVF0121</li><li>Slalom Geant</li><li>Catégorie(s) : U8/U10 (Fi
 lles)</li></ul></li><li><div class="gski-epreuve-date">Le dimanche 06 janvi
 er 2019 à 11:00</div><ul class="gski-epreuve-liste-infos"><li>Codex épreuve
  AMVF0122</li><li>Slalom Geant</li><li>Catégorie(s) : U12 (Filles)</li></ul
 ></li><li><div class="gski-epreuve-date">Le dimanche 06 janvier 2019</div><
 ul class="gski-epreuve-liste-infos"><li>Codex épreuve AMVM0122</li><li>Slal
 om Geant</li><li>Catégorie(s) : U12 (Garçons)</li></ul></li></ul></div><div
  class="gskiepreuves-links"><ul><li><a href="https://skivosges.net/index.ph
 p?option=com_jevents&task=icalevent.detail&evid=1111&Itemid=6283">Voir les 
 informations dans l'agenda...</a></li></ul></div></div"><!-- #/gskiepreuve 
 fin du dode généré par le plugin jevents pour GskiEpreuves. . Ne pas modifi
 er cette ligne, ni tout le contenu précedant.  #/gskiepreuve --> <a href="h
 ttps://skivosges.net/agenda/export-synchronisation/detailevenement/1116/-/c
 ja-coupe-de-bronze-prix-de-la-clinique-du-ski-reporte?tmpl=component">Cet é
 vènement a été importé depuis :https://skivosges.net/agenda/export-synchron
 isation/detailevenement/1116/-/cja-coupe-de-bronze-prix-de-la-clinique-du-s
 ki-reporte?tmpl=component</a>DTSTAMP:20260420T145955
DTSTART;TZID=Europe/Paris;VALUE=DATE:20190106
DTEND;TZID=Europe/Paris;VALUE=DATE:20190107
SEQUENCE:0
TRANSP:OPAQUE
END:VEVENT
END:VCALENDAR