BEGIN:VCALENDAR
VERSION:2.0
PRODID:-//jEvents 2.0 for Joomla//EN
CALSCALE:GREGORIAN
METHOD:PUBLISH
BEGIN:VTIMEZONE
TZID:Europe/Paris
BEGIN:STANDARD
DTSTART:20180110T000000
RDATE:20180325T030000
TZOFFSETFROM:+0200
TZOFFSETTO:+0100
TZNAME:Europe/Paris CET
END:STANDARD
BEGIN:STANDARD
DTSTART:20181028T020000
RDATE:20190331T030000
TZOFFSETFROM:+0200
TZOFFSETTO:+0100
TZNAME:Europe/Paris CET
END:STANDARD
BEGIN:STANDARD
DTSTART:20191027T020000
RDATE:20200329T030000
TZOFFSETFROM:+0200
TZOFFSETTO:+0100
TZNAME:Europe/Paris CET
END:STANDARD
BEGIN:STANDARD
DTSTART:20201025T020000
RDATE:20210328T030000
TZOFFSETFROM:+0200
TZOFFSETTO:+0100
TZNAME:Europe/Paris CET
END:STANDARD
BEGIN:STANDARD
DTSTART:20211031T020000
RDATE:20220327T030000
TZOFFSETFROM:+0200
TZOFFSETTO:+0100
TZNAME:Europe/Paris CET
END:STANDARD
BEGIN:STANDARD
DTSTART:20221030T020000
RDATE:20230326T030000
TZOFFSETFROM:+0200
TZOFFSETTO:+0100
TZNAME:Europe/Paris CET
END:STANDARD
BEGIN:STANDARD
DTSTART:20231029T020000
RDATE:20240331T030000
TZOFFSETFROM:+0200
TZOFFSETTO:+0100
TZNAME:Europe/Paris CET
END:STANDARD
BEGIN:STANDARD
DTSTART:20241027T020000
RDATE:20250330T030000
TZOFFSETFROM:+0200
TZOFFSETTO:+0100
TZNAME:Europe/Paris CET
END:STANDARD
BEGIN:STANDARD
DTSTART:20251026T020000
RDATE:20260329T030000
TZOFFSETFROM:+0200
TZOFFSETTO:+0100
TZNAME:Europe/Paris CET
END:STANDARD
BEGIN:STANDARD
DTSTART:20261025T020000
RDATE:20270328T030000
TZOFFSETFROM:+0200
TZOFFSETTO:+0100
TZNAME:Europe/Paris CET
END:STANDARD
BEGIN:DAYLIGHT
DTSTART:20180325T030000
RDATE:20181028T020000
TZOFFSETFROM:+0100
TZOFFSETTO:+0200
TZNAME:Europe/Paris CEST
END:DAYLIGHT
BEGIN:DAYLIGHT
DTSTART:20190331T030000
RDATE:20191027T020000
TZOFFSETFROM:+0100
TZOFFSETTO:+0200
TZNAME:Europe/Paris CEST
END:DAYLIGHT
BEGIN:DAYLIGHT
DTSTART:20200329T030000
RDATE:20201025T020000
TZOFFSETFROM:+0100
TZOFFSETTO:+0200
TZNAME:Europe/Paris CEST
END:DAYLIGHT
BEGIN:DAYLIGHT
DTSTART:20210328T030000
RDATE:20211031T020000
TZOFFSETFROM:+0100
TZOFFSETTO:+0200
TZNAME:Europe/Paris CEST
END:DAYLIGHT
BEGIN:DAYLIGHT
DTSTART:20220327T030000
RDATE:20221030T020000
TZOFFSETFROM:+0100
TZOFFSETTO:+0200
TZNAME:Europe/Paris CEST
END:DAYLIGHT
BEGIN:DAYLIGHT
DTSTART:20230326T030000
RDATE:20231029T020000
TZOFFSETFROM:+0100
TZOFFSETTO:+0200
TZNAME:Europe/Paris CEST
END:DAYLIGHT
BEGIN:DAYLIGHT
DTSTART:20240331T030000
RDATE:20241027T020000
TZOFFSETFROM:+0100
TZOFFSETTO:+0200
TZNAME:Europe/Paris CEST
END:DAYLIGHT
BEGIN:DAYLIGHT
DTSTART:20250330T030000
RDATE:20251026T020000
TZOFFSETFROM:+0100
TZOFFSETTO:+0200
TZNAME:Europe/Paris CEST
END:DAYLIGHT
BEGIN:DAYLIGHT
DTSTART:20260329T030000
RDATE:20261025T020000
TZOFFSETFROM:+0100
TZOFFSETTO:+0200
TZNAME:Europe/Paris CEST
END:DAYLIGHT
END:VTIMEZONE
BEGIN:VEVENT
UID:fa836402b7139b757d588fc0921d77af
CATEGORIES:Circuit Massif Masters (alpin)
CREATED:20181114T121858
SUMMARY:CMM  Esprit Racing GP WOLFBERGER **REPORTE(E) au 01/03/2019**
URL;VALUE=URI:https://skivosges.net/agenda/export-synchronisation/detailevenement/1119/-/
 cmm-esprit-racing-gp-wolfberger-reporte-e-au-01-03-2019?tmpl=component
DESCRIPTION:<!-- #gskiepreuve code généré par le plugin jevents pour GskiEpreuves. Ne p
 as modifier cette ligne, ni tout le contenu suivant  #gskiepreuve --><div c
 lass="gski-evenement_infos"><div class="gski-evenement-nom">CMM  Esprit Rac
 ing GP WOLFBERGER</div><div class="gski-evenement-report"> <font class="gsk
 iattention">(Epreuve reportée au 01/03/2019)</font></div><ul class="gski-ev
 enement-liste-infos"><li>Codex évenement AMVT0130</li><li>Station : MARKSTE
 IN</li><li>Piste : Stade de Slalom</li><li>Organisateur : 14356 S.C.O.S.E.G
 . GUEBWILLER</li><li>Courriel : <!-- Cette adresse électronique est protégé
 e contre les robots spammeurs. --><span class="cloaked_email ep_abddde41"><
 span data-ep-a="&#100;f&#101;&#114;" data-ep-b="&#114;"><span data-ep-a="&#
 110;&#97;&#110;&#100;" data-ep-b="&#97;&#108;.&#102;"><span data-ep-a="&#64
 ;pu&#98;" data-ep-b="&#108;&#121;qu"></span></span></span></span><script>Re
 gularLabs.EmailProtector.unCloak("ep_abddde41");</script></li><li>Téléphone
  : 06 81 99 73 62</li><li><span class="gski-evenement-obs">Délégué Techniqu
 e : VONTHRON JEAN MARIE</span></li></ul><div class="gski-evenement-infos-2"
 ><div class="gski-evenement-info-inscriptions"><div class="gski-evenement-i
 nscriptions-periodes">Période d'inscription à l'evènement du vendredi 04 ja
 nvier 2019 à 00:00 au jeudi 10 janvier 2019 à 20:00 <span class="gski-evene
 ment-inscriptions-impossibles">(Inscriptions impossibles).</span><div class
 ="gski-evenement-inscriptions-types-titres">Inscriptions ouvertes aux deten
 teurs des titres Fédéraux valides suivants : Licenciés Compétiteurs</div></
 div></div><div class="gski-evenement-info-live">L'épreuve sera chronometrée
  avec les résultats publiés en direct (live)</div><div class="gski-evenemen
 t-epreuves"><div class="gski-evenement-epreuves-titres">Epreuves :</div><ul
  class="gski-evenement-epreuves-list"><li><div class="gski-epreuve-date">Le
  vendredi 11 janvier 2019 à 19:30</div><ul class="gski-epreuve-liste-infos"
 ><li>Codex épreuve AMVM0131</li><li>Slalom</li><li>Catégorie(s) : Tous les 
 Masters+U30 Hommes (Hommes)</li></ul></li><li><div class="gski-epreuve-date
 ">Le vendredi 11 janvier 2019 à 19:30</div><ul class="gski-epreuve-liste-in
 fos"><li>Codex épreuve AMVF0131</li><li>Slalom</li><li>Catégorie(s) : U30 a
  C5 Dames (Dames)</li></ul></li></ul></div><div class="gskiepreuves-links">
 <ul><li><a href="/index.php?option=com_jevents&task=icalevent.detail&evid=1
 114&Itemid=6283">Voir les informations dans l'agenda...</a></li></ul></div>
 </div"><!-- #/gskiepreuve fin du dode généré par le plugin jevents pour Gsk
 iEpreuves. . Ne pas modifier cette ligne, ni tout le contenu précedant.  #/
 gskiepreuve --> <a href="https://skivosges.net/agenda/export-synchronisatio
 n/detailevenement/1119/-/cmm-esprit-racing-gp-wolfberger-reporte-e-au-01-03
 -2019?tmpl=component">Cet évènement a été importé depuis :https://skivosges
 .net/agenda/export-synchronisation/detailevenement/1119/-/cmm-esprit-racing
 -gp-wolfberger-reporte-e-au-01-03-2019?tmpl=component</a>
X-ALT-DESC;FMTTYPE=text/html:<!-- #gskiepreuve code généré par le plugin jevents pour GskiEpreuves. Ne p
 as modifier cette ligne, ni tout le contenu suivant  #gskiepreuve --><div c
 lass="gski-evenement_infos"><div class="gski-evenement-nom">CMM  Esprit Rac
 ing GP WOLFBERGER</div><div class="gski-evenement-report"> <font class="gsk
 iattention">(Epreuve reportée au 01/03/2019)</font></div><ul class="gski-ev
 enement-liste-infos"><li>Codex évenement AMVT0130</li><li>Station : MARKSTE
 IN</li><li>Piste : Stade de Slalom</li><li>Organisateur : 14356 S.C.O.S.E.G
 . GUEBWILLER</li><li>Courriel : <!-- Cette adresse électronique est protégé
 e contre les robots spammeurs. --><span class="cloaked_email ep_abddde41"><
 span data-ep-a="&#100;f&#101;&#114;" data-ep-b="&#114;"><span data-ep-a="&#
 110;&#97;&#110;&#100;" data-ep-b="&#97;&#108;.&#102;"><span data-ep-a="&#64
 ;pu&#98;" data-ep-b="&#108;&#121;qu"></span></span></span></span><script>Re
 gularLabs.EmailProtector.unCloak("ep_abddde41");</script></li><li>Téléphone
  : 06 81 99 73 62</li><li><span class="gski-evenement-obs">Délégué Techniqu
 e : VONTHRON JEAN MARIE</span></li></ul><div class="gski-evenement-infos-2"
 ><div class="gski-evenement-info-inscriptions"><div class="gski-evenement-i
 nscriptions-periodes">Période d'inscription à l'evènement du vendredi 04 ja
 nvier 2019 à 00:00 au jeudi 10 janvier 2019 à 20:00 <span class="gski-evene
 ment-inscriptions-impossibles">(Inscriptions impossibles).</span><div class
 ="gski-evenement-inscriptions-types-titres">Inscriptions ouvertes aux deten
 teurs des titres Fédéraux valides suivants : Licenciés Compétiteurs</div></
 div></div><div class="gski-evenement-info-live">L'épreuve sera chronometrée
  avec les résultats publiés en direct (live)</div><div class="gski-evenemen
 t-epreuves"><div class="gski-evenement-epreuves-titres">Epreuves :</div><ul
  class="gski-evenement-epreuves-list"><li><div class="gski-epreuve-date">Le
  vendredi 11 janvier 2019 à 19:30</div><ul class="gski-epreuve-liste-infos"
 ><li>Codex épreuve AMVM0131</li><li>Slalom</li><li>Catégorie(s) : Tous les 
 Masters+U30 Hommes (Hommes)</li></ul></li><li><div class="gski-epreuve-date
 ">Le vendredi 11 janvier 2019 à 19:30</div><ul class="gski-epreuve-liste-in
 fos"><li>Codex épreuve AMVF0131</li><li>Slalom</li><li>Catégorie(s) : U30 a
  C5 Dames (Dames)</li></ul></li></ul></div><div class="gskiepreuves-links">
 <ul><li><a href="https://skivosges.net/index.php?option=com_jevents&task=ic
 alevent.detail&evid=1114&Itemid=6283">Voir les informations dans l'agenda..
 .</a></li></ul></div></div"><!-- #/gskiepreuve fin du dode généré par le pl
 ugin jevents pour GskiEpreuves. . Ne pas modifier cette ligne, ni tout le c
 ontenu précedant.  #/gskiepreuve --> <a href="https://skivosges.net/agenda/
 export-synchronisation/detailevenement/1119/-/cmm-esprit-racing-gp-wolfberg
 er-reporte-e-au-01-03-2019?tmpl=component">Cet évènement a été importé depu
 is :https://skivosges.net/agenda/export-synchronisation/detailevenement/111
 9/-/cmm-esprit-racing-gp-wolfberger-reporte-e-au-01-03-2019?tmpl=component<
 /a>DTSTAMP:20260420T131811
DTSTART;TZID=Europe/Paris;VALUE=DATE:20190111
DTEND;TZID=Europe/Paris;VALUE=DATE:20190112
SEQUENCE:0
TRANSP:OPAQUE
END:VEVENT
END:VCALENDAR