BEGIN:VCALENDAR
VERSION:2.0
PRODID:-//jEvents 2.0 for Joomla//EN
CALSCALE:GREGORIAN
METHOD:PUBLISH
BEGIN:VTIMEZONE
TZID:Europe/Paris
BEGIN:STANDARD
DTSTART:20180112T000000
RDATE:20180325T030000
TZOFFSETFROM:+0200
TZOFFSETTO:+0100
TZNAME:Europe/Paris CET
END:STANDARD
BEGIN:STANDARD
DTSTART:20181028T020000
RDATE:20190331T030000
TZOFFSETFROM:+0200
TZOFFSETTO:+0100
TZNAME:Europe/Paris CET
END:STANDARD
BEGIN:STANDARD
DTSTART:20191027T020000
RDATE:20200329T030000
TZOFFSETFROM:+0200
TZOFFSETTO:+0100
TZNAME:Europe/Paris CET
END:STANDARD
BEGIN:STANDARD
DTSTART:20201025T020000
RDATE:20210328T030000
TZOFFSETFROM:+0200
TZOFFSETTO:+0100
TZNAME:Europe/Paris CET
END:STANDARD
BEGIN:STANDARD
DTSTART:20211031T020000
RDATE:20220327T030000
TZOFFSETFROM:+0200
TZOFFSETTO:+0100
TZNAME:Europe/Paris CET
END:STANDARD
BEGIN:STANDARD
DTSTART:20221030T020000
RDATE:20230326T030000
TZOFFSETFROM:+0200
TZOFFSETTO:+0100
TZNAME:Europe/Paris CET
END:STANDARD
BEGIN:STANDARD
DTSTART:20231029T020000
RDATE:20240331T030000
TZOFFSETFROM:+0200
TZOFFSETTO:+0100
TZNAME:Europe/Paris CET
END:STANDARD
BEGIN:STANDARD
DTSTART:20241027T020000
RDATE:20250330T030000
TZOFFSETFROM:+0200
TZOFFSETTO:+0100
TZNAME:Europe/Paris CET
END:STANDARD
BEGIN:STANDARD
DTSTART:20251026T020000
RDATE:20260329T030000
TZOFFSETFROM:+0200
TZOFFSETTO:+0100
TZNAME:Europe/Paris CET
END:STANDARD
BEGIN:STANDARD
DTSTART:20261025T020000
RDATE:20270328T030000
TZOFFSETFROM:+0200
TZOFFSETTO:+0100
TZNAME:Europe/Paris CET
END:STANDARD
BEGIN:DAYLIGHT
DTSTART:20180325T030000
RDATE:20181028T020000
TZOFFSETFROM:+0100
TZOFFSETTO:+0200
TZNAME:Europe/Paris CEST
END:DAYLIGHT
BEGIN:DAYLIGHT
DTSTART:20190331T030000
RDATE:20191027T020000
TZOFFSETFROM:+0100
TZOFFSETTO:+0200
TZNAME:Europe/Paris CEST
END:DAYLIGHT
BEGIN:DAYLIGHT
DTSTART:20200329T030000
RDATE:20201025T020000
TZOFFSETFROM:+0100
TZOFFSETTO:+0200
TZNAME:Europe/Paris CEST
END:DAYLIGHT
BEGIN:DAYLIGHT
DTSTART:20210328T030000
RDATE:20211031T020000
TZOFFSETFROM:+0100
TZOFFSETTO:+0200
TZNAME:Europe/Paris CEST
END:DAYLIGHT
BEGIN:DAYLIGHT
DTSTART:20220327T030000
RDATE:20221030T020000
TZOFFSETFROM:+0100
TZOFFSETTO:+0200
TZNAME:Europe/Paris CEST
END:DAYLIGHT
BEGIN:DAYLIGHT
DTSTART:20230326T030000
RDATE:20231029T020000
TZOFFSETFROM:+0100
TZOFFSETTO:+0200
TZNAME:Europe/Paris CEST
END:DAYLIGHT
BEGIN:DAYLIGHT
DTSTART:20240331T030000
RDATE:20241027T020000
TZOFFSETFROM:+0100
TZOFFSETTO:+0200
TZNAME:Europe/Paris CEST
END:DAYLIGHT
BEGIN:DAYLIGHT
DTSTART:20250330T030000
RDATE:20251026T020000
TZOFFSETFROM:+0100
TZOFFSETTO:+0200
TZNAME:Europe/Paris CEST
END:DAYLIGHT
BEGIN:DAYLIGHT
DTSTART:20260329T030000
RDATE:20261025T020000
TZOFFSETFROM:+0100
TZOFFSETTO:+0200
TZNAME:Europe/Paris CEST
END:DAYLIGHT
END:VTIMEZONE
BEGIN:VEVENT
UID:ce24df4efdaf85827ba45197a41775b2
CATEGORIES:Circuit Massif Adultes (alpin)
CREATED:20181114T121858
SUMMARY:CAM U16 à Masters **REPORTE**
URL;VALUE=URI:https://skivosges.net/agenda/export-synchronisation/detailevenement/1123/-/
 cam-u16-a-masters-reporte?tmpl=component
DESCRIPTION:CAM U16 à Masters (Epreuve reportée, date à determiner)\n - Codex évenement
  AMVT0160\n - Station : MARKSTEIN\n - Organisateur : 14186 S.C VALLEE DE WE
 SSERLING\n - Courriel : RegularLabs.EmailProtector.unCloak("ep_48cf9ada");\
 n - Téléphone : 03 89 82 78 08\n - Délégué Technique : VONTHRON JEAN MARIEP
 ériode d'inscription à l'evènement du dimanche 06 janvier 2019 à 00:00 au v
 endredi 11 janvier 2019 à 12:00 (Inscriptions impossibles).Inscriptions ouv
 ertes aux detenteurs des titres Fédéraux valides suivants : Licenciés Compé
 titeursEpreuves :\n - Le dimanche 13 janvier 2019\n - Codex épreuve AMVM016
 1\n - Slalom\n - Catégorie(s) : U16 (Garçons)\n - Le dimanche 13 janvier 20
 19\n - Codex épreuve AMVF0161\n - Slalom\n - Catégorie(s) : U16 (Filles)\n 
 - Le dimanche 13 janvier 2019\n - Codex épreuve AMVF0162\n - Slalom\n - Cat
 égorie(s) : U18 a Masters (Dames)\n - Le dimanche 13 janvier 2019\n - Codex
  épreuve AMVM0162\n - Slalom\n - Catégorie(s) : U18 a Masters (Hommes)\n - 
 Voir les informations dans l'agenda... (/index.php?option=com_jevents&amp;t
 ask=icalevent.detail&amp;evid=1118&amp;Itemid=6283) Cet évènement a été imp
 orté depuis :https://skivosges.net/agenda/export-synchronisation/detaileven
 ement/1123/-/cam-u16-a-masters-reporte?tmpl=component
X-ALT-DESC;FMTTYPE=text/html:<!-- #gskiepreuve code généré par le plugin jevents pour GskiEpreuves. Ne p
 as modifier cette ligne, ni tout le contenu suivant  #gskiepreuve --><div c
 lass="gski-evenement_infos"><div class="gski-evenement-nom">CAM U16 à Maste
 rs</div><div class="gski-evenement-report"> <font class="gskiattention">(Ep
 reuve reportée, date à determiner)</font></div><ul class="gski-evenement-li
 ste-infos"><li>Codex évenement AMVT0160</li><li>Station : MARKSTEIN</li><li
 >Organisateur : 14186 S.C VALLEE DE WESSERLING</li><li>Courriel : <!-- Cett
 e adresse électronique est protégée contre les robots spammeurs. --><span c
 lass="cloaked_email ep_48cf9ada"><span data-ep-a="&#115;&#99;&#118;&#119;" 
 data-ep-b="&#109;"><span data-ep-b="&#108;.&#99;&#111;" data-ep-a="e&#115;&
 #115;&#101;"><span data-ep-b="g&#64;&#97;&#111;" data-ep-a="&#114;l&#105;&#
 110;"></span></span></span></span><script>RegularLabs.EmailProtector.unCloa
 k("ep_48cf9ada");</script></li><li>Téléphone : 03 89 82 78 08</li><li><span
  class="gski-evenement-obs">Délégué Technique : VONTHRON JEAN MARIE</span><
 /li></ul><div class="gski-evenement-infos-2"><div class="gski-evenement-inf
 o-inscriptions"><div class="gski-evenement-inscriptions-periodes">Période d
 'inscription à l'evènement du dimanche 06 janvier 2019 à 00:00 au vendredi 
 11 janvier 2019 à 12:00 <span class="gski-evenement-inscriptions-impossible
 s">(Inscriptions impossibles).</span><div class="gski-evenement-inscription
 s-types-titres">Inscriptions ouvertes aux detenteurs des titres Fédéraux va
 lides suivants : Licenciés Compétiteurs</div></div></div><div class="gski-e
 venement-epreuves"><div class="gski-evenement-epreuves-titres">Epreuves :</
 div><ul class="gski-evenement-epreuves-list"><li><div class="gski-epreuve-d
 ate">Le dimanche 13 janvier 2019</div><ul class="gski-epreuve-liste-infos">
 <li>Codex épreuve AMVM0161</li><li>Slalom</li><li>Catégorie(s) : U16 (Garço
 ns)</li></ul></li><li><div class="gski-epreuve-date">Le dimanche 13 janvier
  2019</div><ul class="gski-epreuve-liste-infos"><li>Codex épreuve AMVF0161<
 /li><li>Slalom</li><li>Catégorie(s) : U16 (Filles)</li></ul></li><li><div c
 lass="gski-epreuve-date">Le dimanche 13 janvier 2019</div><ul class="gski-e
 preuve-liste-infos"><li>Codex épreuve AMVF0162</li><li>Slalom</li><li>Catég
 orie(s) : U18 a Masters (Dames)</li></ul></li><li><div class="gski-epreuve-
 date">Le dimanche 13 janvier 2019</div><ul class="gski-epreuve-liste-infos"
 ><li>Codex épreuve AMVM0162</li><li>Slalom</li><li>Catégorie(s) : U18 a Mas
 ters (Hommes)</li></ul></li></ul></div><div class="gskiepreuves-links"><ul>
 <li><a href="https://skivosges.net/index.php?option=com_jevents&task=icalev
 ent.detail&evid=1118&Itemid=6283">Voir les informations dans l'agenda...</a
 ></li></ul></div></div"><!-- #/gskiepreuve fin du dode généré par le plugin
  jevents pour GskiEpreuves. . Ne pas modifier cette ligne, ni tout le conte
 nu précedant.  #/gskiepreuve --> <a href="https://skivosges.net/agenda/expo
 rt-synchronisation/detailevenement/1123/-/cam-u16-a-masters-reporte?tmpl=co
 mponent">Cet évènement a été importé depuis :https://skivosges.net/agenda/e
 xport-synchronisation/detailevenement/1123/-/cam-u16-a-masters-reporte?tmpl
 =component</a>DTSTAMP:20260420T131434
DTSTART;TZID=Europe/Paris;VALUE=DATE:20190113
DTEND;TZID=Europe/Paris;VALUE=DATE:20190114
SEQUENCE:0
TRANSP:OPAQUE
END:VEVENT
END:VCALENDAR