BEGIN:VCALENDAR
VERSION:2.0
PRODID:-//jEvents 2.0 for Joomla//EN
CALSCALE:GREGORIAN
METHOD:PUBLISH
BEGIN:VTIMEZONE
TZID:Europe/Paris
BEGIN:STANDARD
DTSTART:20180112T000000
RDATE:20180325T030000
TZOFFSETFROM:+0200
TZOFFSETTO:+0100
TZNAME:Europe/Paris CET
END:STANDARD
BEGIN:STANDARD
DTSTART:20181028T020000
RDATE:20190331T030000
TZOFFSETFROM:+0200
TZOFFSETTO:+0100
TZNAME:Europe/Paris CET
END:STANDARD
BEGIN:STANDARD
DTSTART:20191027T020000
RDATE:20200329T030000
TZOFFSETFROM:+0200
TZOFFSETTO:+0100
TZNAME:Europe/Paris CET
END:STANDARD
BEGIN:STANDARD
DTSTART:20201025T020000
RDATE:20210328T030000
TZOFFSETFROM:+0200
TZOFFSETTO:+0100
TZNAME:Europe/Paris CET
END:STANDARD
BEGIN:STANDARD
DTSTART:20211031T020000
RDATE:20220327T030000
TZOFFSETFROM:+0200
TZOFFSETTO:+0100
TZNAME:Europe/Paris CET
END:STANDARD
BEGIN:STANDARD
DTSTART:20221030T020000
RDATE:20230326T030000
TZOFFSETFROM:+0200
TZOFFSETTO:+0100
TZNAME:Europe/Paris CET
END:STANDARD
BEGIN:STANDARD
DTSTART:20231029T020000
RDATE:20240331T030000
TZOFFSETFROM:+0200
TZOFFSETTO:+0100
TZNAME:Europe/Paris CET
END:STANDARD
BEGIN:STANDARD
DTSTART:20241027T020000
RDATE:20250330T030000
TZOFFSETFROM:+0200
TZOFFSETTO:+0100
TZNAME:Europe/Paris CET
END:STANDARD
BEGIN:STANDARD
DTSTART:20251026T020000
RDATE:20260329T030000
TZOFFSETFROM:+0200
TZOFFSETTO:+0100
TZNAME:Europe/Paris CET
END:STANDARD
BEGIN:STANDARD
DTSTART:20261025T020000
RDATE:20270328T030000
TZOFFSETFROM:+0200
TZOFFSETTO:+0100
TZNAME:Europe/Paris CET
END:STANDARD
BEGIN:DAYLIGHT
DTSTART:20180325T030000
RDATE:20181028T020000
TZOFFSETFROM:+0100
TZOFFSETTO:+0200
TZNAME:Europe/Paris CEST
END:DAYLIGHT
BEGIN:DAYLIGHT
DTSTART:20190331T030000
RDATE:20191027T020000
TZOFFSETFROM:+0100
TZOFFSETTO:+0200
TZNAME:Europe/Paris CEST
END:DAYLIGHT
BEGIN:DAYLIGHT
DTSTART:20200329T030000
RDATE:20201025T020000
TZOFFSETFROM:+0100
TZOFFSETTO:+0200
TZNAME:Europe/Paris CEST
END:DAYLIGHT
BEGIN:DAYLIGHT
DTSTART:20210328T030000
RDATE:20211031T020000
TZOFFSETFROM:+0100
TZOFFSETTO:+0200
TZNAME:Europe/Paris CEST
END:DAYLIGHT
BEGIN:DAYLIGHT
DTSTART:20220327T030000
RDATE:20221030T020000
TZOFFSETFROM:+0100
TZOFFSETTO:+0200
TZNAME:Europe/Paris CEST
END:DAYLIGHT
BEGIN:DAYLIGHT
DTSTART:20230326T030000
RDATE:20231029T020000
TZOFFSETFROM:+0100
TZOFFSETTO:+0200
TZNAME:Europe/Paris CEST
END:DAYLIGHT
BEGIN:DAYLIGHT
DTSTART:20240331T030000
RDATE:20241027T020000
TZOFFSETFROM:+0100
TZOFFSETTO:+0200
TZNAME:Europe/Paris CEST
END:DAYLIGHT
BEGIN:DAYLIGHT
DTSTART:20250330T030000
RDATE:20251026T020000
TZOFFSETFROM:+0100
TZOFFSETTO:+0200
TZNAME:Europe/Paris CEST
END:DAYLIGHT
BEGIN:DAYLIGHT
DTSTART:20260329T030000
RDATE:20261025T020000
TZOFFSETFROM:+0100
TZOFFSETTO:+0200
TZNAME:Europe/Paris CEST
END:DAYLIGHT
END:VTIMEZONE
BEGIN:VEVENT
UID:990385437d6e7239bec55902ed667512
CATEGORIES:Circuit Massif Jeunes (alpin)
CREATED:20181114T121858
SUMMARY:CJM Micro Coupe Massif U8/U10 Confiserie Géromoise
URL;VALUE=URI:https://skivosges.net/agenda/export-synchronisation/detailevenement/1125/-/
 cjm-micro-coupe-massif-u8-u10-confiserie-geromoise?tmpl=component
DESCRIPTION:CJM Micro Coupe Massif U8/U10 Confiserie Géromoise\n - Codex évenement AMVT
 0190\n - Lieu : La Mauseleine\n - Station : GERARDMER\n - Piste : Stade \n 
 - Organisateur : 14089 GERARDMER SKI ALPIN\n - Courriel : RegularLabs.Email
 Protector.unCloak("ep_ab9cad61");\n - Téléphone : 03 29 60 98 04\n - Délégu
 é Technique : DODIN YVESPériode d'inscription à l'evènement du dimanche 06 
 janvier 2019 à 00:00 au vendredi 11 janvier 2019 à 16:00 (Inscriptions impo
 ssibles).Inscriptions ouvertes aux detenteurs des titres Fédéraux valides s
 uivants : Licenciés CompétiteursL'épreuve sera chronometrée avec les résult
 ats publiés en direct (live)Epreuves :\n - Le dimanche 13 janvier 2019\n - 
 Codex épreuve AMVM0191\n - Combine Race\n - Catégorie(s) : U8/U10 (Garçons)
 \n - Le dimanche 13 janvier 2019\n - Codex épreuve AMVF0191\n - Combine Rac
 e\n - Catégorie(s) : U8/U10 (Filles)\n - Voir les informations dans l'agend
 a... (/index.php?option=com_jevents&amp;task=icalevent.detail&amp;evid=1120
 &amp;Itemid=6283)\n - Vers les résultats... (/index.php?option=com_gskiepre
 uves&amp;view=afficheresultats&amp;format_option=tous&amp;filter[search]=AM
 VT0190&amp;filter[date_debut]=13-01-2019&amp;filter[date_fin]=13-01-2019&am
 p;code_activite=ALP&amp;Itemid=6283)\n - Publications concernant cet évènem
 ent :\n - Samedi 12 Janvier 2019 à 10:26 : Le 13/01/2019 GERARDMER Liste de
  départs Cet évènement a été importé depuis :https://skivosges.net/agenda/e
 xport-synchronisation/detailevenement/1125/-/cjm-micro-coupe-massif-u8-u10-
 confiserie-geromoise?tmpl=component
X-ALT-DESC;FMTTYPE=text/html:<!-- #gskiepreuve code généré par le plugin jevents pour GskiEpreuves. Ne p
 as modifier cette ligne, ni tout le contenu suivant  #gskiepreuve --><div c
 lass="gski-evenement_infos"><div class="gski-evenement-nom">CJM Micro Coupe
  Massif U8/U10 Confiserie Géromoise</div><div class="gski-evenement-report"
 ></div><ul class="gski-evenement-liste-infos"><li>Codex évenement AMVT0190<
 /li><li>Lieu : La Mauseleine</li><li>Station : GERARDMER</li><li>Piste : St
 ade </li><li>Organisateur : 14089 GERARDMER SKI ALPIN</li><li>Courriel : <!
 -- Cette adresse électronique est protégée contre les robots spammeurs. -->
 <span class="cloaked_email ep_ab9cad61"><span data-ep-a="&#103;&#101;&#114;
 &#97;r" data-ep-b="e&#46;&#102;&#114;"><span data-ep-a="&#100;&#109;e&#114;
 -" data-ep-b="&#111;&#114;&#97;&#110;g"><span data-ep-b="lpi&#110;&#64;" da
 ta-ep-a="&#115;k&#105;-a"></span></span></span></span><script>RegularLabs.E
 mailProtector.unCloak("ep_ab9cad61");</script></li><li>Téléphone : 03 29 60
  98 04</li><li><span class="gski-evenement-obs">Délégué Technique : DODIN Y
 VES</span></li></ul><div class="gski-evenement-infos-2"><div class="gski-ev
 enement-info-inscriptions"><div class="gski-evenement-inscriptions-periodes
 ">Période d'inscription à l'evènement du dimanche 06 janvier 2019 à 00:00 a
 u vendredi 11 janvier 2019 à 16:00 <span class="gski-evenement-inscriptions
 -impossibles">(Inscriptions impossibles).</span><div class="gski-evenement-
 inscriptions-types-titres">Inscriptions ouvertes aux detenteurs des titres 
 Fédéraux valides suivants : Licenciés Compétiteurs</div></div></div><div cl
 ass="gski-evenement-info-live">L'épreuve sera chronometrée avec les résulta
 ts publiés en direct (live)</div><div class="gski-evenement-epreuves"><div 
 class="gski-evenement-epreuves-titres">Epreuves :</div><ul class="gski-even
 ement-epreuves-list"><li><div class="gski-epreuve-date">Le dimanche 13 janv
 ier 2019</div><ul class="gski-epreuve-liste-infos"><li>Codex épreuve AMVM01
 91</li><li>Combine Race</li><li>Catégorie(s) : U8/U10 (Garçons)</li></ul></
 li><li><div class="gski-epreuve-date">Le dimanche 13 janvier 2019</div><ul 
 class="gski-epreuve-liste-infos"><li>Codex épreuve AMVF0191</li><li>Combine
  Race</li><li>Catégorie(s) : U8/U10 (Filles)</li></ul></li></ul></div><div 
 class="gskiepreuves-links"><ul><li><a href="https://skivosges.net/index.php
 ?option=com_jevents&task=icalevent.detail&evid=1120&Itemid=6283">Voir les i
 nformations dans l'agenda...</a></li><li><a href="https://skivosges.net/ind
 ex.php?option=com_gskiepreuves&view=afficheresultats&format_option=tous&fil
 ter[search]=AMVT0190&filter[date_debut]=13-01-2019&filter[date_fin]=13-01-2
 019&code_activite=ALP&Itemid=6283">Vers les résultats...</a></li><li>Public
 ations concernant cet évènement :<ul><li><a href="https://skivosges.net/ind
 ex.php?option=com_content&view=article&id=6518&Itemid=6283">Samedi 12 Janvi
 er 2019 à 10:26 : Le 13/01/2019 GERARDMER Liste de départs</a></li></ul></l
 i></ul></div></div"><!-- #/gskiepreuve fin du dode généré par le plugin jev
 ents pour GskiEpreuves. . Ne pas modifier cette ligne, ni tout le contenu p
 récedant.  #/gskiepreuve --> <a href="https://skivosges.net/agenda/export-s
 ynchronisation/detailevenement/1125/-/cjm-micro-coupe-massif-u8-u10-confise
 rie-geromoise?tmpl=component">Cet évènement a été importé depuis :https://s
 kivosges.net/agenda/export-synchronisation/detailevenement/1125/-/cjm-micro
 -coupe-massif-u8-u10-confiserie-geromoise?tmpl=component</a>DTSTAMP:20260420T131450
DTSTART;TZID=Europe/Paris;VALUE=DATE:20190113
DTEND;TZID=Europe/Paris;VALUE=DATE:20190114
SEQUENCE:0
TRANSP:OPAQUE
END:VEVENT
END:VCALENDAR