BEGIN:VCALENDAR
VERSION:2.0
PRODID:-//jEvents 2.0 for Joomla//EN
CALSCALE:GREGORIAN
METHOD:PUBLISH
BEGIN:VTIMEZONE
TZID:Europe/Paris
BEGIN:STANDARD
DTSTART:20180112T000000
RDATE:20180325T030000
TZOFFSETFROM:+0200
TZOFFSETTO:+0100
TZNAME:Europe/Paris CET
END:STANDARD
BEGIN:STANDARD
DTSTART:20181028T020000
RDATE:20190331T030000
TZOFFSETFROM:+0200
TZOFFSETTO:+0100
TZNAME:Europe/Paris CET
END:STANDARD
BEGIN:STANDARD
DTSTART:20191027T020000
RDATE:20200329T030000
TZOFFSETFROM:+0200
TZOFFSETTO:+0100
TZNAME:Europe/Paris CET
END:STANDARD
BEGIN:STANDARD
DTSTART:20201025T020000
RDATE:20210328T030000
TZOFFSETFROM:+0200
TZOFFSETTO:+0100
TZNAME:Europe/Paris CET
END:STANDARD
BEGIN:STANDARD
DTSTART:20211031T020000
RDATE:20220327T030000
TZOFFSETFROM:+0200
TZOFFSETTO:+0100
TZNAME:Europe/Paris CET
END:STANDARD
BEGIN:STANDARD
DTSTART:20221030T020000
RDATE:20230326T030000
TZOFFSETFROM:+0200
TZOFFSETTO:+0100
TZNAME:Europe/Paris CET
END:STANDARD
BEGIN:STANDARD
DTSTART:20231029T020000
RDATE:20240331T030000
TZOFFSETFROM:+0200
TZOFFSETTO:+0100
TZNAME:Europe/Paris CET
END:STANDARD
BEGIN:STANDARD
DTSTART:20241027T020000
RDATE:20250330T030000
TZOFFSETFROM:+0200
TZOFFSETTO:+0100
TZNAME:Europe/Paris CET
END:STANDARD
BEGIN:STANDARD
DTSTART:20251026T020000
RDATE:20260329T030000
TZOFFSETFROM:+0200
TZOFFSETTO:+0100
TZNAME:Europe/Paris CET
END:STANDARD
BEGIN:STANDARD
DTSTART:20261025T020000
RDATE:20270328T030000
TZOFFSETFROM:+0200
TZOFFSETTO:+0100
TZNAME:Europe/Paris CET
END:STANDARD
BEGIN:DAYLIGHT
DTSTART:20180325T030000
RDATE:20181028T020000
TZOFFSETFROM:+0100
TZOFFSETTO:+0200
TZNAME:Europe/Paris CEST
END:DAYLIGHT
BEGIN:DAYLIGHT
DTSTART:20190331T030000
RDATE:20191027T020000
TZOFFSETFROM:+0100
TZOFFSETTO:+0200
TZNAME:Europe/Paris CEST
END:DAYLIGHT
BEGIN:DAYLIGHT
DTSTART:20200329T030000
RDATE:20201025T020000
TZOFFSETFROM:+0100
TZOFFSETTO:+0200
TZNAME:Europe/Paris CEST
END:DAYLIGHT
BEGIN:DAYLIGHT
DTSTART:20210328T030000
RDATE:20211031T020000
TZOFFSETFROM:+0100
TZOFFSETTO:+0200
TZNAME:Europe/Paris CEST
END:DAYLIGHT
BEGIN:DAYLIGHT
DTSTART:20220327T030000
RDATE:20221030T020000
TZOFFSETFROM:+0100
TZOFFSETTO:+0200
TZNAME:Europe/Paris CEST
END:DAYLIGHT
BEGIN:DAYLIGHT
DTSTART:20230326T030000
RDATE:20231029T020000
TZOFFSETFROM:+0100
TZOFFSETTO:+0200
TZNAME:Europe/Paris CEST
END:DAYLIGHT
BEGIN:DAYLIGHT
DTSTART:20240331T030000
RDATE:20241027T020000
TZOFFSETFROM:+0100
TZOFFSETTO:+0200
TZNAME:Europe/Paris CEST
END:DAYLIGHT
BEGIN:DAYLIGHT
DTSTART:20250330T030000
RDATE:20251026T020000
TZOFFSETFROM:+0100
TZOFFSETTO:+0200
TZNAME:Europe/Paris CEST
END:DAYLIGHT
BEGIN:DAYLIGHT
DTSTART:20260329T030000
RDATE:20261025T020000
TZOFFSETFROM:+0100
TZOFFSETTO:+0200
TZNAME:Europe/Paris CEST
END:DAYLIGHT
END:VTIMEZONE
BEGIN:VEVENT
UID:5e832efcbcaa759314ef5a48ea3e47cf
CATEGORIES:Circuit Lorraine Jeunes (alpin)
CREATED:20181114T121858
SUMMARY:CJL Coupe de Bronze  Prix CEERI
URL;VALUE=URI:https://skivosges.net/agenda/export-synchronisation/detailevenement/1126/-/
 cjl-coupe-de-bronze-prix-ceeri?tmpl=component
DESCRIPTION:<!-- #gskiepreuve code généré par le plugin jevents pour GskiEpreuves. Ne p
 as modifier cette ligne, ni tout le contenu suivant  #gskiepreuve --><div c
 lass="gski-evenement_infos"><div class="gski-evenement-nom">CJL Coupe de Br
 onze  Prix CEERI</div><div class="gski-evenement-report"></div><ul class="g
 ski-evenement-liste-infos"><li>Codex évenement AMVT0200</li><li>Station : F
 RERE JOSEPH</li><li>Organisateur : 14083 U.S VENTRON</li><li>Courriel : <!-
 - Cette adresse électronique est protégée contre les robots spammeurs. --><
 span class="cloaked_email ep_64e75e2a"><span data-ep-b="l&#101;&#46;&#102;&
 #114;" data-ep-a="&#115;&#116;&#101;&#112;&#104;"><span data-ep-a="&#97;&#1
 10;&#101;.&#103;" data-ep-b="r&#105;ca&#98;"><span data-ep-a="iga&#110;&#11
 6;" data-ep-b="&#64;nu&#109;&#101;"></span></span></span></span><script>Reg
 ularLabs.EmailProtector.unCloak("ep_64e75e2a");</script></li><li><span clas
 s="gski-evenement-obs">Délégué Technique : POIROT MARTIAL</span></li></ul><
 div class="gski-evenement-infos-2"><div class="gski-evenement-info-inscript
 ions"><div class="gski-evenement-inscriptions-periodes">Période d'inscripti
 on à l'evènement du dimanche 06 janvier 2019 à 00:00 au samedi 12 janvier 2
 019 à 09:00 <span class="gski-evenement-inscriptions-impossibles">(Inscript
 ions impossibles).</span><div class="gski-evenement-inscriptions-types-titr
 es">Inscriptions ouvertes aux detenteurs des titres Fédéraux valides suivan
 ts : Licenciés Compétiteurs</div></div></div><div class="gski-evenement-epr
 euves"><div class="gski-evenement-epreuves-titres">Epreuves :</div><ul clas
 s="gski-evenement-epreuves-list"><li><div class="gski-epreuve-date">Le dima
 nche 13 janvier 2019 à 10:00</div><ul class="gski-epreuve-liste-infos"><li>
 Codex épreuve AMVM0201</li><li>Slalom</li><li>Catégorie(s) : U12 (Garçons)<
 /li></ul></li><li><div class="gski-epreuve-date">Le dimanche 13 janvier 201
 9 à 10:00</div><ul class="gski-epreuve-liste-infos"><li>Codex épreuve AMVF0
 201</li><li>Slalom</li><li>Catégorie(s) : U12 (Filles)</li></ul></li><li><d
 iv class="gski-epreuve-date">Le dimanche 13 janvier 2019 à 10:00</div><ul c
 lass="gski-epreuve-liste-infos"><li>Codex épreuve AMVM0202</li><li>Slalom</
 li><li>Catégorie(s) : U14 (Garçons)</li></ul></li><li><div class="gski-epre
 uve-date">Le dimanche 13 janvier 2019 à 10:00</div><ul class="gski-epreuve-
 liste-infos"><li>Codex épreuve AMVF0202</li><li>Slalom</li><li>Catégorie(s)
  : U14 (Filles)</li></ul></li></ul></div><div class="gskiepreuves-links"><u
 l><li><a href="/index.php?option=com_jevents&task=icalevent.detail&evid=112
 1&Itemid=6283">Voir les informations dans l'agenda...</a></li><li><a href="
 /index.php?option=com_gskiepreuves&view=afficheresultats&format_option=tous
 &filter[search]=AMVT0200&filter[date_debut]=13-01-2019&filter[date_fin]=13-
 01-2019&code_activite=ALP&Itemid=6283">Vers les résultats...</a></li></ul><
 /div></div"><!-- #/gskiepreuve fin du dode généré par le plugin jevents pou
 r GskiEpreuves. . Ne pas modifier cette ligne, ni tout le contenu précedant
 .  #/gskiepreuve --> <a href="https://skivosges.net/agenda/export-synchroni
 sation/detailevenement/1126/-/cjl-coupe-de-bronze-prix-ceeri?tmpl=component
 ">Cet évènement a été importé depuis :https://skivosges.net/agenda/export-s
 ynchronisation/detailevenement/1126/-/cjl-coupe-de-bronze-prix-ceeri?tmpl=c
 omponent</a>
X-ALT-DESC;FMTTYPE=text/html:<!-- #gskiepreuve code généré par le plugin jevents pour GskiEpreuves. Ne p
 as modifier cette ligne, ni tout le contenu suivant  #gskiepreuve --><div c
 lass="gski-evenement_infos"><div class="gski-evenement-nom">CJL Coupe de Br
 onze  Prix CEERI</div><div class="gski-evenement-report"></div><ul class="g
 ski-evenement-liste-infos"><li>Codex évenement AMVT0200</li><li>Station : F
 RERE JOSEPH</li><li>Organisateur : 14083 U.S VENTRON</li><li>Courriel : <!-
 - Cette adresse électronique est protégée contre les robots spammeurs. --><
 span class="cloaked_email ep_64e75e2a"><span data-ep-b="l&#101;&#46;&#102;&
 #114;" data-ep-a="&#115;&#116;&#101;&#112;&#104;"><span data-ep-a="&#97;&#1
 10;&#101;.&#103;" data-ep-b="r&#105;ca&#98;"><span data-ep-a="iga&#110;&#11
 6;" data-ep-b="&#64;nu&#109;&#101;"></span></span></span></span><script>Reg
 ularLabs.EmailProtector.unCloak("ep_64e75e2a");</script></li><li><span clas
 s="gski-evenement-obs">Délégué Technique : POIROT MARTIAL</span></li></ul><
 div class="gski-evenement-infos-2"><div class="gski-evenement-info-inscript
 ions"><div class="gski-evenement-inscriptions-periodes">Période d'inscripti
 on à l'evènement du dimanche 06 janvier 2019 à 00:00 au samedi 12 janvier 2
 019 à 09:00 <span class="gski-evenement-inscriptions-impossibles">(Inscript
 ions impossibles).</span><div class="gski-evenement-inscriptions-types-titr
 es">Inscriptions ouvertes aux detenteurs des titres Fédéraux valides suivan
 ts : Licenciés Compétiteurs</div></div></div><div class="gski-evenement-epr
 euves"><div class="gski-evenement-epreuves-titres">Epreuves :</div><ul clas
 s="gski-evenement-epreuves-list"><li><div class="gski-epreuve-date">Le dima
 nche 13 janvier 2019 à 10:00</div><ul class="gski-epreuve-liste-infos"><li>
 Codex épreuve AMVM0201</li><li>Slalom</li><li>Catégorie(s) : U12 (Garçons)<
 /li></ul></li><li><div class="gski-epreuve-date">Le dimanche 13 janvier 201
 9 à 10:00</div><ul class="gski-epreuve-liste-infos"><li>Codex épreuve AMVF0
 201</li><li>Slalom</li><li>Catégorie(s) : U12 (Filles)</li></ul></li><li><d
 iv class="gski-epreuve-date">Le dimanche 13 janvier 2019 à 10:00</div><ul c
 lass="gski-epreuve-liste-infos"><li>Codex épreuve AMVM0202</li><li>Slalom</
 li><li>Catégorie(s) : U14 (Garçons)</li></ul></li><li><div class="gski-epre
 uve-date">Le dimanche 13 janvier 2019 à 10:00</div><ul class="gski-epreuve-
 liste-infos"><li>Codex épreuve AMVF0202</li><li>Slalom</li><li>Catégorie(s)
  : U14 (Filles)</li></ul></li></ul></div><div class="gskiepreuves-links"><u
 l><li><a href="https://skivosges.net/index.php?option=com_jevents&task=ical
 event.detail&evid=1121&Itemid=6283">Voir les informations dans l'agenda...<
 /a></li><li><a href="https://skivosges.net/index.php?option=com_gskiepreuve
 s&view=afficheresultats&format_option=tous&filter[search]=AMVT0200&filter[d
 ate_debut]=13-01-2019&filter[date_fin]=13-01-2019&code_activite=ALP&Itemid=
 6283">Vers les résultats...</a></li></ul></div></div"><!-- #/gskiepreuve fi
 n du dode généré par le plugin jevents pour GskiEpreuves. . Ne pas modifier
  cette ligne, ni tout le contenu précedant.  #/gskiepreuve --> <a href="htt
 ps://skivosges.net/agenda/export-synchronisation/detailevenement/1126/-/cjl
 -coupe-de-bronze-prix-ceeri?tmpl=component">Cet évènement a été importé dep
 uis :https://skivosges.net/agenda/export-synchronisation/detailevenement/11
 26/-/cjl-coupe-de-bronze-prix-ceeri?tmpl=component</a>DTSTAMP:20260420T184543
DTSTART;TZID=Europe/Paris;VALUE=DATE:20190113
DTEND;TZID=Europe/Paris;VALUE=DATE:20190114
SEQUENCE:0
TRANSP:OPAQUE
END:VEVENT
END:VCALENDAR