BEGIN:VCALENDAR
VERSION:2.0
PRODID:-//jEvents 2.0 for Joomla//EN
CALSCALE:GREGORIAN
METHOD:PUBLISH
BEGIN:VTIMEZONE
TZID:Europe/Paris
BEGIN:STANDARD
DTSTART:20180112T000000
RDATE:20180325T030000
TZOFFSETFROM:+0200
TZOFFSETTO:+0100
TZNAME:Europe/Paris CET
END:STANDARD
BEGIN:STANDARD
DTSTART:20181028T020000
RDATE:20190331T030000
TZOFFSETFROM:+0200
TZOFFSETTO:+0100
TZNAME:Europe/Paris CET
END:STANDARD
BEGIN:STANDARD
DTSTART:20191027T020000
RDATE:20200329T030000
TZOFFSETFROM:+0200
TZOFFSETTO:+0100
TZNAME:Europe/Paris CET
END:STANDARD
BEGIN:STANDARD
DTSTART:20201025T020000
RDATE:20210328T030000
TZOFFSETFROM:+0200
TZOFFSETTO:+0100
TZNAME:Europe/Paris CET
END:STANDARD
BEGIN:STANDARD
DTSTART:20211031T020000
RDATE:20220327T030000
TZOFFSETFROM:+0200
TZOFFSETTO:+0100
TZNAME:Europe/Paris CET
END:STANDARD
BEGIN:STANDARD
DTSTART:20221030T020000
RDATE:20230326T030000
TZOFFSETFROM:+0200
TZOFFSETTO:+0100
TZNAME:Europe/Paris CET
END:STANDARD
BEGIN:STANDARD
DTSTART:20231029T020000
RDATE:20240331T030000
TZOFFSETFROM:+0200
TZOFFSETTO:+0100
TZNAME:Europe/Paris CET
END:STANDARD
BEGIN:STANDARD
DTSTART:20241027T020000
RDATE:20250330T030000
TZOFFSETFROM:+0200
TZOFFSETTO:+0100
TZNAME:Europe/Paris CET
END:STANDARD
BEGIN:STANDARD
DTSTART:20251026T020000
RDATE:20260329T030000
TZOFFSETFROM:+0200
TZOFFSETTO:+0100
TZNAME:Europe/Paris CET
END:STANDARD
BEGIN:STANDARD
DTSTART:20261025T020000
RDATE:20270328T030000
TZOFFSETFROM:+0200
TZOFFSETTO:+0100
TZNAME:Europe/Paris CET
END:STANDARD
BEGIN:DAYLIGHT
DTSTART:20180325T030000
RDATE:20181028T020000
TZOFFSETFROM:+0100
TZOFFSETTO:+0200
TZNAME:Europe/Paris CEST
END:DAYLIGHT
BEGIN:DAYLIGHT
DTSTART:20190331T030000
RDATE:20191027T020000
TZOFFSETFROM:+0100
TZOFFSETTO:+0200
TZNAME:Europe/Paris CEST
END:DAYLIGHT
BEGIN:DAYLIGHT
DTSTART:20200329T030000
RDATE:20201025T020000
TZOFFSETFROM:+0100
TZOFFSETTO:+0200
TZNAME:Europe/Paris CEST
END:DAYLIGHT
BEGIN:DAYLIGHT
DTSTART:20210328T030000
RDATE:20211031T020000
TZOFFSETFROM:+0100
TZOFFSETTO:+0200
TZNAME:Europe/Paris CEST
END:DAYLIGHT
BEGIN:DAYLIGHT
DTSTART:20220327T030000
RDATE:20221030T020000
TZOFFSETFROM:+0100
TZOFFSETTO:+0200
TZNAME:Europe/Paris CEST
END:DAYLIGHT
BEGIN:DAYLIGHT
DTSTART:20230326T030000
RDATE:20231029T020000
TZOFFSETFROM:+0100
TZOFFSETTO:+0200
TZNAME:Europe/Paris CEST
END:DAYLIGHT
BEGIN:DAYLIGHT
DTSTART:20240331T030000
RDATE:20241027T020000
TZOFFSETFROM:+0100
TZOFFSETTO:+0200
TZNAME:Europe/Paris CEST
END:DAYLIGHT
BEGIN:DAYLIGHT
DTSTART:20250330T030000
RDATE:20251026T020000
TZOFFSETFROM:+0100
TZOFFSETTO:+0200
TZNAME:Europe/Paris CEST
END:DAYLIGHT
BEGIN:DAYLIGHT
DTSTART:20260329T030000
RDATE:20261025T020000
TZOFFSETFROM:+0100
TZOFFSETTO:+0200
TZNAME:Europe/Paris CEST
END:DAYLIGHT
END:VTIMEZONE
BEGIN:VEVENT
UID:45d266f21f8f4f812551043af8fe1e82
CATEGORIES:Circuit Alsace Jeunes (alpin)
CREATED:20181114T121858
SUMMARY:CJA Coupe Bronze U12 /U14 prix Vola Cup **REPORTE(E) au 02/03/2019**
URL;VALUE=URI:https://skivosges.net/agenda/export-synchronisation/detailevenement/1127/-/
 cja-coupe-bronze-u12-u14-prix-vola-cup-reporte-e-au-02-03-2019?tmpl=compone
 nt
DESCRIPTION:CJA Coupe Bronze U12 /U14 prix Vola Cup (Epreuve reportée au 02/03/2019)\n 
 - Codex évenement AMVT0210\n - Station : MARKSTEIN\n - Piste : Stade de Sla
 lom\n - Organisateur : 14356 S.C.O.S.E.G. GUEBWILLER\n - Courriel : Regular
 Labs.EmailProtector.unCloak("ep_c5275fe6");\n - Téléphone : 06 81 99 73 62\
 n - Délégué Technique : MULLER JEAN CLAUDEPériode d'inscription à l'evèneme
 nt du dimanche 06 janvier 2019 à 00:00 au samedi 12 janvier 2019 à 12:00 (I
 nscriptions impossibles).Inscriptions ouvertes aux detenteurs des titres Fé
 déraux valides suivants : Licenciés CompétiteursL'épreuve sera chronometrée
  avec les résultats publiés en direct (live)Epreuves :\n - Le dimanche 13 j
 anvier 2019\n - Codex épreuve AMVM0211\n - Slalom Geant\n - Catégorie(s) : 
 U12 (Garçons)\n - Le dimanche 13 janvier 2019\n - Codex épreuve AMVF0211\n 
 - Slalom Geant\n - Catégorie(s) : U12 (Filles)\n - Le dimanche 13 janvier 2
 019\n - Codex épreuve AMVM0212\n - Slalom Geant\n - Catégorie(s) : U14 (Gar
 çons)\n - Le dimanche 13 janvier 2019\n - Codex épreuve AMVF0212\n - Slalom
  Geant\n - Catégorie(s) : U14 (Filles)\n - Voir les informations dans l'age
 nda... (/index.php?option=com_jevents&amp;task=icalevent.detail&amp;evid=11
 22&amp;Itemid=6283)\n - Vers la liste de départs... (/index.php?option=com_
 gskiepreuves&amp;view=affichedeparts&amp;format_option=tous&amp;filter[sear
 ch]=AMVT0210&amp;filter[date_debut]=02-03-2019&amp;filter[date_fin]=02-03-2
 019&amp;Itemid=6283)\n - Publications concernant cet évènement :\n - Vendre
 di 1 Mars 2019 à 16:51 : Le 02/03/2019 MARKSTEIN Liste de départs\n - Vendr
 edi 1 Mars 2019 à 14:22 : Le 13/01/2019 MARKSTEIN Liste de départs Cet évèn
 ement a été importé depuis :https://skivosges.net/agenda/export-synchronisa
 tion/detailevenement/1127/-/cja-coupe-bronze-u12-u14-prix-vola-cup-reporte-
 e-au-02-03-2019?tmpl=component
X-ALT-DESC;FMTTYPE=text/html:<!-- #gskiepreuve code généré par le plugin jevents pour GskiEpreuves. Ne p
 as modifier cette ligne, ni tout le contenu suivant  #gskiepreuve --><div c
 lass="gski-evenement_infos"><div class="gski-evenement-nom">CJA Coupe Bronz
 e U12 /U14 prix Vola Cup</div><div class="gski-evenement-report"> <font cla
 ss="gskiattention">(Epreuve reportée au 02/03/2019)</font></div><ul class="
 gski-evenement-liste-infos"><li>Codex évenement AMVT0210</li><li>Station : 
 MARKSTEIN</li><li>Piste : Stade de Slalom</li><li>Organisateur : 14356 S.C.
 O.S.E.G. GUEBWILLER</li><li>Courriel : <!-- Cette adresse électronique est 
 protégée contre les robots spammeurs. --><span class="cloaked_email ep_c527
 5fe6"><span data-ep-a="&#100;fe&#114;" data-ep-b="&#114;"><span data-ep-b="
 al&#46;&#102;" data-ep-a="&#110;&#97;n&#100;"><span data-ep-a="&#64;&#112;&
 #117;&#98;" data-ep-b="l&#121;q&#117;"></span></span></span></span><script>
 RegularLabs.EmailProtector.unCloak("ep_c5275fe6");</script></li><li>Télépho
 ne : 06 81 99 73 62</li><li><span class="gski-evenement-obs">Délégué Techni
 que : MULLER JEAN CLAUDE</span></li></ul><div class="gski-evenement-infos-2
 "><div class="gski-evenement-info-inscriptions"><div class="gski-evenement-
 inscriptions-periodes">Période d'inscription à l'evènement du dimanche 06 j
 anvier 2019 à 00:00 au samedi 12 janvier 2019 à 12:00 <span class="gski-eve
 nement-inscriptions-impossibles">(Inscriptions impossibles).</span><div cla
 ss="gski-evenement-inscriptions-types-titres">Inscriptions ouvertes aux det
 enteurs des titres Fédéraux valides suivants : Licenciés Compétiteurs</div>
 </div></div><div class="gski-evenement-info-live">L'épreuve sera chronometr
 ée avec les résultats publiés en direct (live)</div><div class="gski-evenem
 ent-epreuves"><div class="gski-evenement-epreuves-titres">Epreuves :</div><
 ul class="gski-evenement-epreuves-list"><li><div class="gski-epreuve-date">
 Le dimanche 13 janvier 2019</div><ul class="gski-epreuve-liste-infos"><li>C
 odex épreuve AMVM0211</li><li>Slalom Geant</li><li>Catégorie(s) : U12 (Garç
 ons)</li></ul></li><li><div class="gski-epreuve-date">Le dimanche 13 janvie
 r 2019</div><ul class="gski-epreuve-liste-infos"><li>Codex épreuve AMVF0211
 </li><li>Slalom Geant</li><li>Catégorie(s) : U12 (Filles)</li></ul></li><li
 ><div class="gski-epreuve-date">Le dimanche 13 janvier 2019</div><ul class=
 "gski-epreuve-liste-infos"><li>Codex épreuve AMVM0212</li><li>Slalom Geant<
 /li><li>Catégorie(s) : U14 (Garçons)</li></ul></li><li><div class="gski-epr
 euve-date">Le dimanche 13 janvier 2019</div><ul class="gski-epreuve-liste-i
 nfos"><li>Codex épreuve AMVF0212</li><li>Slalom Geant</li><li>Catégorie(s) 
 : U14 (Filles)</li></ul></li></ul></div><div class="gskiepreuves-links"><ul
 ><li><a href="https://skivosges.net/index.php?option=com_jevents&task=icale
 vent.detail&evid=1122&Itemid=6283">Voir les informations dans l'agenda...</
 a></li><li><a href="https://skivosges.net/index.php?option=com_gskiepreuves
 &view=affichedeparts&format_option=tous&filter[search]=AMVT0210&filter[date
 _debut]=02-03-2019&filter[date_fin]=02-03-2019&Itemid=6283">Vers la liste d
 e départs...</a></li><li>Publications concernant cet évènement :<ul><li><a 
 href="https://skivosges.net/index.php?option=com_content&view=article&id=67
 41&Itemid=6283">Vendredi 1 Mars 2019 à 16:51 : Le 02/03/2019 MARKSTEIN List
 e de départs</a></li><li><a href="https://skivosges.net/index.php?option=co
 m_content&view=article&id=6740&Itemid=6283">Vendredi 1 Mars 2019 à 14:22 : 
 Le 13/01/2019 MARKSTEIN Liste de départs</a></li></ul></li></ul></div></div
 "><!-- #/gskiepreuve fin du dode généré par le plugin jevents pour GskiEpre
 uves. . Ne pas modifier cette ligne, ni tout le contenu précedant.  #/gskie
 preuve --> <a href="https://skivosges.net/agenda/export-synchronisation/det
 ailevenement/1127/-/cja-coupe-bronze-u12-u14-prix-vola-cup-reporte-e-au-02-
 03-2019?tmpl=component">Cet évènement a été importé depuis :https://skivosg
 es.net/agenda/export-synchronisation/detailevenement/1127/-/cja-coupe-bronz
 e-u12-u14-prix-vola-cup-reporte-e-au-02-03-2019?tmpl=component</a>DTSTAMP:20260420T183850
DTSTART;TZID=Europe/Paris;VALUE=DATE:20190113
DTEND;TZID=Europe/Paris;VALUE=DATE:20190114
SEQUENCE:0
TRANSP:OPAQUE
END:VEVENT
END:VCALENDAR