BEGIN:VCALENDAR
VERSION:2.0
PRODID:-//jEvents 2.0 for Joomla//EN
CALSCALE:GREGORIAN
METHOD:PUBLISH
BEGIN:VTIMEZONE
TZID:Europe/Paris
BEGIN:STANDARD
DTSTART:20180112T000000
RDATE:20180325T030000
TZOFFSETFROM:+0200
TZOFFSETTO:+0100
TZNAME:Europe/Paris CET
END:STANDARD
BEGIN:STANDARD
DTSTART:20181028T020000
RDATE:20190331T030000
TZOFFSETFROM:+0200
TZOFFSETTO:+0100
TZNAME:Europe/Paris CET
END:STANDARD
BEGIN:STANDARD
DTSTART:20191027T020000
RDATE:20200329T030000
TZOFFSETFROM:+0200
TZOFFSETTO:+0100
TZNAME:Europe/Paris CET
END:STANDARD
BEGIN:STANDARD
DTSTART:20201025T020000
RDATE:20210328T030000
TZOFFSETFROM:+0200
TZOFFSETTO:+0100
TZNAME:Europe/Paris CET
END:STANDARD
BEGIN:STANDARD
DTSTART:20211031T020000
RDATE:20220327T030000
TZOFFSETFROM:+0200
TZOFFSETTO:+0100
TZNAME:Europe/Paris CET
END:STANDARD
BEGIN:STANDARD
DTSTART:20221030T020000
RDATE:20230326T030000
TZOFFSETFROM:+0200
TZOFFSETTO:+0100
TZNAME:Europe/Paris CET
END:STANDARD
BEGIN:STANDARD
DTSTART:20231029T020000
RDATE:20240331T030000
TZOFFSETFROM:+0200
TZOFFSETTO:+0100
TZNAME:Europe/Paris CET
END:STANDARD
BEGIN:STANDARD
DTSTART:20241027T020000
RDATE:20250330T030000
TZOFFSETFROM:+0200
TZOFFSETTO:+0100
TZNAME:Europe/Paris CET
END:STANDARD
BEGIN:STANDARD
DTSTART:20251026T020000
RDATE:20260329T030000
TZOFFSETFROM:+0200
TZOFFSETTO:+0100
TZNAME:Europe/Paris CET
END:STANDARD
BEGIN:STANDARD
DTSTART:20261025T020000
RDATE:20270328T030000
TZOFFSETFROM:+0200
TZOFFSETTO:+0100
TZNAME:Europe/Paris CET
END:STANDARD
BEGIN:DAYLIGHT
DTSTART:20180325T030000
RDATE:20181028T020000
TZOFFSETFROM:+0100
TZOFFSETTO:+0200
TZNAME:Europe/Paris CEST
END:DAYLIGHT
BEGIN:DAYLIGHT
DTSTART:20190331T030000
RDATE:20191027T020000
TZOFFSETFROM:+0100
TZOFFSETTO:+0200
TZNAME:Europe/Paris CEST
END:DAYLIGHT
BEGIN:DAYLIGHT
DTSTART:20200329T030000
RDATE:20201025T020000
TZOFFSETFROM:+0100
TZOFFSETTO:+0200
TZNAME:Europe/Paris CEST
END:DAYLIGHT
BEGIN:DAYLIGHT
DTSTART:20210328T030000
RDATE:20211031T020000
TZOFFSETFROM:+0100
TZOFFSETTO:+0200
TZNAME:Europe/Paris CEST
END:DAYLIGHT
BEGIN:DAYLIGHT
DTSTART:20220327T030000
RDATE:20221030T020000
TZOFFSETFROM:+0100
TZOFFSETTO:+0200
TZNAME:Europe/Paris CEST
END:DAYLIGHT
BEGIN:DAYLIGHT
DTSTART:20230326T030000
RDATE:20231029T020000
TZOFFSETFROM:+0100
TZOFFSETTO:+0200
TZNAME:Europe/Paris CEST
END:DAYLIGHT
BEGIN:DAYLIGHT
DTSTART:20240331T030000
RDATE:20241027T020000
TZOFFSETFROM:+0100
TZOFFSETTO:+0200
TZNAME:Europe/Paris CEST
END:DAYLIGHT
BEGIN:DAYLIGHT
DTSTART:20250330T030000
RDATE:20251026T020000
TZOFFSETFROM:+0100
TZOFFSETTO:+0200
TZNAME:Europe/Paris CEST
END:DAYLIGHT
BEGIN:DAYLIGHT
DTSTART:20260329T030000
RDATE:20261025T020000
TZOFFSETFROM:+0100
TZOFFSETTO:+0200
TZNAME:Europe/Paris CEST
END:DAYLIGHT
END:VTIMEZONE
BEGIN:VEVENT
UID:9502149f2e973d0006ab64425009a353
CATEGORIES:Compétition Ski de Fond
CREATED:20181114T121858
SUMMARY:Trace Vosgienne  Big Mat Atomic n°6 U13 à U17
URL;VALUE=URI:https://skivosges.net/agenda/export-synchronisation/detailevenement/1129/-/
 trace-vosgienne-big-mat-atomic-n-6-u13-a-u17?tmpl=component
DESCRIPTION:Trace Vosgienne  Big Mat Atomic n°6 U13 à U17\n - Codex évenement FMVT0100\
 n - Lieu : Hautes Vannes\n - Station : Gerardmer\n - Organisateur : 14469 A
 .S GERARDMER SKI NORDIQUE\n - Courriel : RegularLabs.EmailProtector.unCloak
 ("ep_bef04cc7");\n - Délégué Technique : GRANDEMANGE PHILIPPEPériode d'insc
 ription à l'evènement du dimanche 06 janvier 2019 à 00:00 au vendredi 11 ja
 nvier 2019 à 12:00 (Inscriptions impossibles).Inscriptions ouvertes aux det
 enteurs des titres Fédéraux valides suivants : Licenciés CompétiteursEpreuv
 es :\n - Le dimanche 13 janvier 2019\n - Codex épreuve FMVF0101\n - Mass St
 art (Depart ligne)\n - Catégorie(s) : U13 (Filles)\n - Le dimanche 13 janvi
 er 2019\n - Codex épreuve FMVM0101\n - Mass Start (Depart ligne)\n - Catégo
 rie(s) : U13 (Garçons)\n - Le dimanche 13 janvier 2019\n - Codex épreuve FM
 VF0102\n - Mass Start (Depart ligne)\n - Catégorie(s) : U15 (Filles)\n - Le
  dimanche 13 janvier 2019\n - Codex épreuve FMVM0102\n - Mass Start (Depart
  ligne)\n - Catégorie(s) : U15 (Garçons)\n - Le dimanche 13 janvier 2019\n 
 - Codex épreuve FMVF0103\n - Mass Start (Depart ligne)\n - Catégorie(s) : U
 17 (Dames)\n - Le dimanche 13 janvier 2019\n - Codex épreuve FMVM0103\n - M
 ass Start (Depart ligne)\n - Catégorie(s) : U17 (Hommes)\n - Le dimanche 13
  janvier 2019\n - Codex épreuve FMVF0104\n - Mass Start (Depart ligne)\n - 
 Catégorie(s) : U13/U15 (Filles)\n - Le dimanche 13 janvier 2019\n - Codex é
 preuve FMVM0104\n - Mass Start (Depart ligne)\n - Catégorie(s) : U17 (Homme
 s)\n - Le dimanche 13 janvier 2019\n - Codex épreuve FMVF0105\n - Mass Star
 t (Depart ligne)\n - Catégorie(s) : U15/U17 (Mixte)\n - Le dimanche 13 janv
 ier 2019\n - Codex épreuve FMVM0105\n - Mass Start (Depart ligne)\n - Catég
 orie(s) : Senior (Hommes)\n - Voir les informations dans l'agenda... (/inde
 x.php?option=com_jevents&amp;task=icalevent.detail&amp;evid=1124&amp;Itemid
 =6283)\n - Vers les résultats... (/index.php?option=com_gskiepreuves&amp;vi
 ew=afficheresultats&amp;format_option=tous&amp;filter[search]=FMVT0100&amp;
 filter[date_debut]=13-01-2019&amp;filter[date_fin]=13-01-2019&amp;code_acti
 vite=FOND&amp;Itemid=6283)\n - Publications concernant cet évènement :\n - 
 Mardi 15 Janvier 2019 à 16:16 : Le 13/01/2019 GERARDMER Résultats Cet évène
 ment a été importé depuis :https://skivosges.net/agenda/export-synchronisat
 ion/detailevenement/1129/-/trace-vosgienne-big-mat-atomic-n-6-u13-a-u17?tmp
 l=component
X-ALT-DESC;FMTTYPE=text/html:<!-- #gskiepreuve code généré par le plugin jevents pour GskiEpreuves. Ne p
 as modifier cette ligne, ni tout le contenu suivant  #gskiepreuve --><div c
 lass="gski-evenement_infos"><div class="gski-evenement-nom">Trace Vosgienne
   Big Mat Atomic n°6 U13 à U17</div><div class="gski-evenement-report"></di
 v><ul class="gski-evenement-liste-infos"><li>Codex évenement FMVT0100</li><
 li>Lieu : Hautes Vannes</li><li>Station : Gerardmer</li><li>Organisateur : 
 14469 A.S GERARDMER SKI NORDIQUE</li><li>Courriel : <!-- Cette adresse élec
 tronique est protégée contre les robots spammeurs. --><span class="cloaked_
 email ep_bef04cc7"><span data-ep-a="&#102;r&#97;&#110;" data-ep-b="&#46;&#1
 02;r"><span data-ep-b="&#98;b&#111;&#120;" data-ep-a="c&#105;s."><span data
 -ep-a="&#107;&#105;&#101;&#110;" data-ep-b="&#116;z&#121;&#64;"></span></sp
 an></span></span><script>RegularLabs.EmailProtector.unCloak("ep_bef04cc7");
 </script></li><li><span class="gski-evenement-obs">Délégué Technique : GRAN
 DEMANGE PHILIPPE</span></li></ul><div class="gski-evenement-infos-2"><div c
 lass="gski-evenement-info-inscriptions"><div class="gski-evenement-inscript
 ions-periodes">Période d'inscription à l'evènement du dimanche 06 janvier 2
 019 à 00:00 au vendredi 11 janvier 2019 à 12:00 <span class="gski-evenement
 -inscriptions-impossibles">(Inscriptions impossibles).</span><div class="gs
 ki-evenement-inscriptions-types-titres">Inscriptions ouvertes aux detenteur
 s des titres Fédéraux valides suivants : Licenciés Compétiteurs</div></div>
 </div><div class="gski-evenement-epreuves"><div class="gski-evenement-epreu
 ves-titres">Epreuves :</div><ul class="gski-evenement-epreuves-list"><li><d
 iv class="gski-epreuve-date">Le dimanche 13 janvier 2019</div><ul class="gs
 ki-epreuve-liste-infos"><li>Codex épreuve FMVF0101</li><li>Mass Start (Depa
 rt ligne)</li><li>Catégorie(s) : U13 (Filles)</li></ul></li><li><div class=
 "gski-epreuve-date">Le dimanche 13 janvier 2019</div><ul class="gski-epreuv
 e-liste-infos"><li>Codex épreuve FMVM0101</li><li>Mass Start (Depart ligne)
 </li><li>Catégorie(s) : U13 (Garçons)</li></ul></li><li><div class="gski-ep
 reuve-date">Le dimanche 13 janvier 2019</div><ul class="gski-epreuve-liste-
 infos"><li>Codex épreuve FMVF0102</li><li>Mass Start (Depart ligne)</li><li
 >Catégorie(s) : U15 (Filles)</li></ul></li><li><div class="gski-epreuve-dat
 e">Le dimanche 13 janvier 2019</div><ul class="gski-epreuve-liste-infos"><l
 i>Codex épreuve FMVM0102</li><li>Mass Start (Depart ligne)</li><li>Catégori
 e(s) : U15 (Garçons)</li></ul></li><li><div class="gski-epreuve-date">Le di
 manche 13 janvier 2019</div><ul class="gski-epreuve-liste-infos"><li>Codex 
 épreuve FMVF0103</li><li>Mass Start (Depart ligne)</li><li>Catégorie(s) : U
 17 (Dames)</li></ul></li><li><div class="gski-epreuve-date">Le dimanche 13 
 janvier 2019</div><ul class="gski-epreuve-liste-infos"><li>Codex épreuve FM
 VM0103</li><li>Mass Start (Depart ligne)</li><li>Catégorie(s) : U17 (Hommes
 )</li></ul></li><li><div class="gski-epreuve-date">Le dimanche 13 janvier 2
 019</div><ul class="gski-epreuve-liste-infos"><li>Codex épreuve FMVF0104</l
 i><li>Mass Start (Depart ligne)</li><li>Catégorie(s) : U13/U15 (Filles)</li
 ></ul></li><li><div class="gski-epreuve-date">Le dimanche 13 janvier 2019</
 div><ul class="gski-epreuve-liste-infos"><li>Codex épreuve FMVM0104</li><li
 >Mass Start (Depart ligne)</li><li>Catégorie(s) : U17 (Hommes)</li></ul></l
 i><li><div class="gski-epreuve-date">Le dimanche 13 janvier 2019</div><ul c
 lass="gski-epreuve-liste-infos"><li>Codex épreuve FMVF0105</li><li>Mass Sta
 rt (Depart ligne)</li><li>Catégorie(s) : U15/U17 (Mixte)</li></ul></li><li>
 <div class="gski-epreuve-date">Le dimanche 13 janvier 2019</div><ul class="
 gski-epreuve-liste-infos"><li>Codex épreuve FMVM0105</li><li>Mass Start (De
 part ligne)</li><li>Catégorie(s) : Senior (Hommes)</li></ul></li></ul></div
 ><div class="gskiepreuves-links"><ul><li><a href="https://skivosges.net/ind
 ex.php?option=com_jevents&task=icalevent.detail&evid=1124&Itemid=6283">Voir
  les informations dans l'agenda...</a></li><li><a href="https://skivosges.n
 et/index.php?option=com_gskiepreuves&view=afficheresultats&format_option=to
 us&filter[search]=FMVT0100&filter[date_debut]=13-01-2019&filter[date_fin]=1
 3-01-2019&code_activite=FOND&Itemid=6283">Vers les résultats...</a></li><li
 >Publications concernant cet évènement :<ul><li><a href="https://skivosges.
 net/index.php?option=com_content&view=article&id=6540&Itemid=6283">Mardi 15
  Janvier 2019 à 16:16 : Le 13/01/2019 GERARDMER Résultats</a></li></ul></li
 ></ul></div></div"><!-- #/gskiepreuve fin du dode généré par le plugin jeve
 nts pour GskiEpreuves. . Ne pas modifier cette ligne, ni tout le contenu pr
 écedant.  #/gskiepreuve --> <a href="https://skivosges.net/agenda/export-sy
 nchronisation/detailevenement/1129/-/trace-vosgienne-big-mat-atomic-n-6-u13
 -a-u17?tmpl=component">Cet évènement a été importé depuis :https://skivosge
 s.net/agenda/export-synchronisation/detailevenement/1129/-/trace-vosgienne-
 big-mat-atomic-n-6-u13-a-u17?tmpl=component</a>DTSTAMP:20260420T183921
DTSTART;TZID=Europe/Paris;VALUE=DATE:20190113
DTEND;TZID=Europe/Paris;VALUE=DATE:20190114
SEQUENCE:0
TRANSP:OPAQUE
END:VEVENT
END:VCALENDAR