BEGIN:VCALENDAR
VERSION:2.0
PRODID:-//jEvents 2.0 for Joomla//EN
CALSCALE:GREGORIAN
METHOD:PUBLISH
BEGIN:VTIMEZONE
TZID:Europe/Paris
BEGIN:STANDARD
DTSTART:20180119T000000
RDATE:20180325T030000
TZOFFSETFROM:+0200
TZOFFSETTO:+0100
TZNAME:Europe/Paris CET
END:STANDARD
BEGIN:STANDARD
DTSTART:20181028T020000
RDATE:20190331T030000
TZOFFSETFROM:+0200
TZOFFSETTO:+0100
TZNAME:Europe/Paris CET
END:STANDARD
BEGIN:STANDARD
DTSTART:20191027T020000
RDATE:20200329T030000
TZOFFSETFROM:+0200
TZOFFSETTO:+0100
TZNAME:Europe/Paris CET
END:STANDARD
BEGIN:STANDARD
DTSTART:20201025T020000
RDATE:20210328T030000
TZOFFSETFROM:+0200
TZOFFSETTO:+0100
TZNAME:Europe/Paris CET
END:STANDARD
BEGIN:STANDARD
DTSTART:20211031T020000
RDATE:20220327T030000
TZOFFSETFROM:+0200
TZOFFSETTO:+0100
TZNAME:Europe/Paris CET
END:STANDARD
BEGIN:STANDARD
DTSTART:20221030T020000
RDATE:20230326T030000
TZOFFSETFROM:+0200
TZOFFSETTO:+0100
TZNAME:Europe/Paris CET
END:STANDARD
BEGIN:STANDARD
DTSTART:20231029T020000
RDATE:20240331T030000
TZOFFSETFROM:+0200
TZOFFSETTO:+0100
TZNAME:Europe/Paris CET
END:STANDARD
BEGIN:STANDARD
DTSTART:20241027T020000
RDATE:20250330T030000
TZOFFSETFROM:+0200
TZOFFSETTO:+0100
TZNAME:Europe/Paris CET
END:STANDARD
BEGIN:STANDARD
DTSTART:20251026T020000
RDATE:20260329T030000
TZOFFSETFROM:+0200
TZOFFSETTO:+0100
TZNAME:Europe/Paris CET
END:STANDARD
BEGIN:STANDARD
DTSTART:20261025T020000
RDATE:20270328T030000
TZOFFSETFROM:+0200
TZOFFSETTO:+0100
TZNAME:Europe/Paris CET
END:STANDARD
BEGIN:DAYLIGHT
DTSTART:20180325T030000
RDATE:20181028T020000
TZOFFSETFROM:+0100
TZOFFSETTO:+0200
TZNAME:Europe/Paris CEST
END:DAYLIGHT
BEGIN:DAYLIGHT
DTSTART:20190331T030000
RDATE:20191027T020000
TZOFFSETFROM:+0100
TZOFFSETTO:+0200
TZNAME:Europe/Paris CEST
END:DAYLIGHT
BEGIN:DAYLIGHT
DTSTART:20200329T030000
RDATE:20201025T020000
TZOFFSETFROM:+0100
TZOFFSETTO:+0200
TZNAME:Europe/Paris CEST
END:DAYLIGHT
BEGIN:DAYLIGHT
DTSTART:20210328T030000
RDATE:20211031T020000
TZOFFSETFROM:+0100
TZOFFSETTO:+0200
TZNAME:Europe/Paris CEST
END:DAYLIGHT
BEGIN:DAYLIGHT
DTSTART:20220327T030000
RDATE:20221030T020000
TZOFFSETFROM:+0100
TZOFFSETTO:+0200
TZNAME:Europe/Paris CEST
END:DAYLIGHT
BEGIN:DAYLIGHT
DTSTART:20230326T030000
RDATE:20231029T020000
TZOFFSETFROM:+0100
TZOFFSETTO:+0200
TZNAME:Europe/Paris CEST
END:DAYLIGHT
BEGIN:DAYLIGHT
DTSTART:20240331T030000
RDATE:20241027T020000
TZOFFSETFROM:+0100
TZOFFSETTO:+0200
TZNAME:Europe/Paris CEST
END:DAYLIGHT
BEGIN:DAYLIGHT
DTSTART:20250330T030000
RDATE:20251026T020000
TZOFFSETFROM:+0100
TZOFFSETTO:+0200
TZNAME:Europe/Paris CEST
END:DAYLIGHT
BEGIN:DAYLIGHT
DTSTART:20260329T030000
RDATE:20261025T020000
TZOFFSETFROM:+0100
TZOFFSETTO:+0200
TZNAME:Europe/Paris CEST
END:DAYLIGHT
END:VTIMEZONE
BEGIN:VEVENT
UID:6491aff26124ec663f0a45dbf0656855
CATEGORIES:Circuit Massif Adultes (alpin)
CREATED:20181114T121858
SUMMARY:CAM Coupe Zinglé et Mémorial Schandené
URL;VALUE=URI:https://skivosges.net/agenda/export-synchronisation/detailevenement/1132/-/
 cam-coupe-zingle-et-memorial-schandene?tmpl=component
DESCRIPTION:CAM Coupe Zinglé et Mémorial Schandené\n - Codex évenement AMVT0240\n - Sta
 tion : SCHNEPFENRIED\n - Organisateur : 14140 LES AMIS DE LA NATURE MUNSTER
 \n - Courriel : RegularLabs.EmailProtector.unCloak("ep_04b05b8c");Période d
 'inscription à l'evènement du dimanche 13 janvier 2019 à 00:00 au vendredi 
 18 janvier 2019 à 18:00 (Inscriptions impossibles).Inscriptions ouvertes au
 x detenteurs des titres Fédéraux valides suivants : Licenciés CompétiteursL
 'épreuve sera chronometrée avec les résultats publiés en direct (live)Epreu
 ves :\n - Le dimanche 20 janvier 2019 à 09:15\n - Codex épreuve AMVM0241\n 
 - Slalom\n - Catégorie(s) : U18 a Masters (Hommes)\n - Le dimanche 20 janvi
 er 2019 à 09:15\n - Codex épreuve AMVF0241\n - Slalom\n - Catégorie(s) : U1
 8 a Masters (Dames)\n - Voir les informations dans l'agenda... (/index.php?
 option=com_jevents&amp;task=icalevent.detail&amp;evid=1127&amp;Itemid=6283)
 \n - Vers les résultats... (/index.php?option=com_gskiepreuves&amp;view=aff
 icheresultats&amp;format_option=tous&amp;filter[search]=AMVT0240&amp;filter
 [date_debut]=20-01-2019&amp;filter[date_fin]=20-01-2019&amp;code_activite=A
 LP&amp;Itemid=6283)\n - Publications concernant cet évènement :\n - Dimanch
 e 20 Janvier 2019 à 15:27 : Le 20/01/2019 SCHNEPFENRIED Résultats\n - Vendr
 edi 18 Janvier 2019 à 20:09 : Le 20/01/2019 SCHNEPFENRIED Liste de départs\
 n - Mardi 15 Janvier 2019 à 12:51 : Le 20/01/2019 SCHNEPFENRIED Information
 s Cet évènement a été importé depuis :https://skivosges.net/agenda/export-s
 ynchronisation/detailevenement/1132/-/cam-coupe-zingle-et-memorial-schanden
 e?tmpl=component
X-ALT-DESC;FMTTYPE=text/html:<!-- #gskiepreuve code généré par le plugin jevents pour GskiEpreuves. Ne p
 as modifier cette ligne, ni tout le contenu suivant  #gskiepreuve --><div c
 lass="gski-evenement_infos"><div class="gski-evenement-nom">CAM Coupe Zingl
 é et Mémorial Schandené</div><div class="gski-evenement-report"></div><ul c
 lass="gski-evenement-liste-infos"><li>Codex évenement AMVT0240</li><li>Stat
 ion : SCHNEPFENRIED</li><li>Organisateur : 14140 LES AMIS DE LA NATURE MUNS
 TER</li><li>Courriel : <!-- Cette adresse électronique est protégée contre 
 les robots spammeurs. --><span class="cloaked_email ep_04b05b8c"><span data
 -ep-a="&#112;hil&#105;" data-ep-b="&#103;&#101;&#46;&#102;&#114;"><span dat
 a-ep-a="&#112;&#112;e.m" data-ep-b="&#64;&#111;&#114;&#97;&#110;"><span dat
 a-ep-b="&#110;d5&#52;&#55;" data-ep-a="&#97;&#114;&#99;&#104;a"></span></sp
 an></span></span><script>RegularLabs.EmailProtector.unCloak("ep_04b05b8c");
 </script></li></ul><div class="gski-evenement-infos-2"><div class="gski-eve
 nement-info-inscriptions"><div class="gski-evenement-inscriptions-periodes"
 >Période d'inscription à l'evènement du dimanche 13 janvier 2019 à 00:00 au
  vendredi 18 janvier 2019 à 18:00 <span class="gski-evenement-inscriptions-
 impossibles">(Inscriptions impossibles).</span><div class="gski-evenement-i
 nscriptions-types-titres">Inscriptions ouvertes aux detenteurs des titres F
 édéraux valides suivants : Licenciés Compétiteurs</div></div></div><div cla
 ss="gski-evenement-info-live">L'épreuve sera chronometrée avec les résultat
 s publiés en direct (live)</div><div class="gski-evenement-epreuves"><div c
 lass="gski-evenement-epreuves-titres">Epreuves :</div><ul class="gski-evene
 ment-epreuves-list"><li><div class="gski-epreuve-date">Le dimanche 20 janvi
 er 2019 à 09:15</div><ul class="gski-epreuve-liste-infos"><li>Codex épreuve
  AMVM0241</li><li>Slalom</li><li>Catégorie(s) : U18 a Masters (Hommes)</li>
 </ul></li><li><div class="gski-epreuve-date">Le dimanche 20 janvier 2019 à 
 09:15</div><ul class="gski-epreuve-liste-infos"><li>Codex épreuve AMVF0241<
 /li><li>Slalom</li><li>Catégorie(s) : U18 a Masters (Dames)</li></ul></li><
 /ul></div><div class="gskiepreuves-links"><ul><li><a href="https://skivosge
 s.net/index.php?option=com_jevents&task=icalevent.detail&evid=1127&Itemid=6
 283">Voir les informations dans l'agenda...</a></li><li><a href="https://sk
 ivosges.net/index.php?option=com_gskiepreuves&view=afficheresultats&format_
 option=tous&filter[search]=AMVT0240&filter[date_debut]=20-01-2019&filter[da
 te_fin]=20-01-2019&code_activite=ALP&Itemid=6283">Vers les résultats...</a>
 </li><li>Publications concernant cet évènement :<ul><li><a href="https://sk
 ivosges.net/index.php?option=com_content&view=article&id=6563&Itemid=6283">
 Dimanche 20 Janvier 2019 à 15:27 : Le 20/01/2019 SCHNEPFENRIED Résultats</a
 ></li><li><a href="https://skivosges.net/index.php?option=com_content&view=
 article&id=6554&Itemid=6283">Vendredi 18 Janvier 2019 à 20:09 : Le 20/01/20
 19 SCHNEPFENRIED Liste de départs</a></li><li><a href="https://skivosges.ne
 t/index.php?option=com_content&view=article&id=6538&Itemid=6283">Mardi 15 J
 anvier 2019 à 12:51 : Le 20/01/2019 SCHNEPFENRIED Informations</a></li></ul
 ></li></ul></div></div"><!-- #/gskiepreuve fin du dode généré par le plugin
  jevents pour GskiEpreuves. . Ne pas modifier cette ligne, ni tout le conte
 nu précedant.  #/gskiepreuve --> <a href="https://skivosges.net/agenda/expo
 rt-synchronisation/detailevenement/1132/-/cam-coupe-zingle-et-memorial-scha
 ndene?tmpl=component">Cet évènement a été importé depuis :https://skivosges
 .net/agenda/export-synchronisation/detailevenement/1132/-/cam-coupe-zingle-
 et-memorial-schandene?tmpl=component</a>DTSTAMP:20260420T145809
DTSTART;TZID=Europe/Paris;VALUE=DATE:20190120
DTEND;TZID=Europe/Paris;VALUE=DATE:20190121
SEQUENCE:0
TRANSP:OPAQUE
END:VEVENT
END:VCALENDAR