BEGIN:VCALENDAR
VERSION:2.0
PRODID:-//jEvents 2.0 for Joomla//EN
CALSCALE:GREGORIAN
METHOD:PUBLISH
BEGIN:VTIMEZONE
TZID:Europe/Paris
BEGIN:STANDARD
DTSTART:20180119T000000
RDATE:20180325T030000
TZOFFSETFROM:+0200
TZOFFSETTO:+0100
TZNAME:Europe/Paris CET
END:STANDARD
BEGIN:STANDARD
DTSTART:20181028T020000
RDATE:20190331T030000
TZOFFSETFROM:+0200
TZOFFSETTO:+0100
TZNAME:Europe/Paris CET
END:STANDARD
BEGIN:STANDARD
DTSTART:20191027T020000
RDATE:20200329T030000
TZOFFSETFROM:+0200
TZOFFSETTO:+0100
TZNAME:Europe/Paris CET
END:STANDARD
BEGIN:STANDARD
DTSTART:20201025T020000
RDATE:20210328T030000
TZOFFSETFROM:+0200
TZOFFSETTO:+0100
TZNAME:Europe/Paris CET
END:STANDARD
BEGIN:STANDARD
DTSTART:20211031T020000
RDATE:20220327T030000
TZOFFSETFROM:+0200
TZOFFSETTO:+0100
TZNAME:Europe/Paris CET
END:STANDARD
BEGIN:STANDARD
DTSTART:20221030T020000
RDATE:20230326T030000
TZOFFSETFROM:+0200
TZOFFSETTO:+0100
TZNAME:Europe/Paris CET
END:STANDARD
BEGIN:STANDARD
DTSTART:20231029T020000
RDATE:20240331T030000
TZOFFSETFROM:+0200
TZOFFSETTO:+0100
TZNAME:Europe/Paris CET
END:STANDARD
BEGIN:STANDARD
DTSTART:20241027T020000
RDATE:20250330T030000
TZOFFSETFROM:+0200
TZOFFSETTO:+0100
TZNAME:Europe/Paris CET
END:STANDARD
BEGIN:STANDARD
DTSTART:20251026T020000
RDATE:20260329T030000
TZOFFSETFROM:+0200
TZOFFSETTO:+0100
TZNAME:Europe/Paris CET
END:STANDARD
BEGIN:STANDARD
DTSTART:20261025T020000
RDATE:20270328T030000
TZOFFSETFROM:+0200
TZOFFSETTO:+0100
TZNAME:Europe/Paris CET
END:STANDARD
BEGIN:DAYLIGHT
DTSTART:20180325T030000
RDATE:20181028T020000
TZOFFSETFROM:+0100
TZOFFSETTO:+0200
TZNAME:Europe/Paris CEST
END:DAYLIGHT
BEGIN:DAYLIGHT
DTSTART:20190331T030000
RDATE:20191027T020000
TZOFFSETFROM:+0100
TZOFFSETTO:+0200
TZNAME:Europe/Paris CEST
END:DAYLIGHT
BEGIN:DAYLIGHT
DTSTART:20200329T030000
RDATE:20201025T020000
TZOFFSETFROM:+0100
TZOFFSETTO:+0200
TZNAME:Europe/Paris CEST
END:DAYLIGHT
BEGIN:DAYLIGHT
DTSTART:20210328T030000
RDATE:20211031T020000
TZOFFSETFROM:+0100
TZOFFSETTO:+0200
TZNAME:Europe/Paris CEST
END:DAYLIGHT
BEGIN:DAYLIGHT
DTSTART:20220327T030000
RDATE:20221030T020000
TZOFFSETFROM:+0100
TZOFFSETTO:+0200
TZNAME:Europe/Paris CEST
END:DAYLIGHT
BEGIN:DAYLIGHT
DTSTART:20230326T030000
RDATE:20231029T020000
TZOFFSETFROM:+0100
TZOFFSETTO:+0200
TZNAME:Europe/Paris CEST
END:DAYLIGHT
BEGIN:DAYLIGHT
DTSTART:20240331T030000
RDATE:20241027T020000
TZOFFSETFROM:+0100
TZOFFSETTO:+0200
TZNAME:Europe/Paris CEST
END:DAYLIGHT
BEGIN:DAYLIGHT
DTSTART:20250330T030000
RDATE:20251026T020000
TZOFFSETFROM:+0100
TZOFFSETTO:+0200
TZNAME:Europe/Paris CEST
END:DAYLIGHT
BEGIN:DAYLIGHT
DTSTART:20260329T030000
RDATE:20261025T020000
TZOFFSETFROM:+0100
TZOFFSETTO:+0200
TZNAME:Europe/Paris CEST
END:DAYLIGHT
END:VTIMEZONE
BEGIN:VEVENT
UID:f62db2ca5f271503ffcdb82ff9cdc453
CATEGORIES:Circuit Massif D2 (alpin)
CREATED:20181114T121858
SUMMARY:CD2 Coupe du Larcenaire et de l'US Bussang. ANNULÉE **REPORTE**
URL;VALUE=URI:https://skivosges.net/agenda/export-synchronisation/detailevenement/1133/-/
 cd2-coupe-du-larcenaire-et-de-lus-bussang-annulee-reporte?tmpl=component
DESCRIPTION:CD2 Coupe du Larcenaire et de l'US Bussang. ANNULÉE (Epreuve reportée, date
  à determiner)\n - Codex évenement AMVT0230\n - Station : BUSSANG\n - Organ
 isateur : 14007 UNION SPORTIVE BUSSANG\n - Courriel : RegularLabs.EmailProt
 ector.unCloak("ep_e8c0c98f");\n - Délégué Technique : HOUILLON PHILIPPEPéri
 ode d'inscription à l'evènement du dimanche 13 janvier 2019 à 00:00 au vend
 redi 18 janvier 2019 à 12:00 (Inscriptions impossibles).Inscriptions ouvert
 es aux detenteurs des titres Fédéraux valides suivants : Licenciés Compétit
 eursEpreuves :\n - Le dimanche 20 janvier 2019\n - Codex épreuve AMVM0231\n
  - Slalom\n - Catégorie(s) : U18 a Masters (Hommes)\n - Le dimanche 20 janv
 ier 2019\n - Codex épreuve AMVF0231\n - Slalom\n - Catégorie(s) : U18 a Mas
 ters (Dames)\n - Voir les informations dans l'agenda... (/index.php?option=
 com_jevents&amp;task=icalevent.detail&amp;evid=1128&amp;Itemid=6283) Cet év
 ènement a été importé depuis :https://skivosges.net/agenda/export-synchroni
 sation/detailevenement/1133/-/cd2-coupe-du-larcenaire-et-de-lus-bussang-ann
 ulee-reporte?tmpl=component
X-ALT-DESC;FMTTYPE=text/html:<!-- #gskiepreuve code généré par le plugin jevents pour GskiEpreuves. Ne p
 as modifier cette ligne, ni tout le contenu suivant  #gskiepreuve --><div c
 lass="gski-evenement_infos"><div class="gski-evenement-nom">CD2 Coupe du La
 rcenaire et de l'US Bussang. ANNULÉE</div><div class="gski-evenement-report
 "> <font class="gskiattention">(Epreuve reportée, date à determiner)</font>
 </div><ul class="gski-evenement-liste-infos"><li>Codex évenement AMVT0230</
 li><li>Station : BUSSANG</li><li>Organisateur : 14007 UNION SPORTIVE BUSSAN
 G</li><li>Courriel : <!-- Cette adresse électronique est protégée contre le
 s robots spammeurs. --><span class="cloaked_email ep_e8c0c98f"><span data-e
 p-b="" data-ep-a="&#100;&#97;&#110;&#105;"><span data-ep-b="r&#46;&#102;r" 
 data-ep-a="&#101;&#108;.&#109;"><span data-ep-a="o&#114;el" data-ep-b="&#53
 ;&#64;&#115;&#102;"></span></span></span></span><script>RegularLabs.EmailPr
 otector.unCloak("ep_e8c0c98f");</script></li><li><span class="gski-evenemen
 t-obs">Délégué Technique : HOUILLON PHILIPPE</span></li></ul><div class="gs
 ki-evenement-infos-2"><div class="gski-evenement-info-inscriptions"><div cl
 ass="gski-evenement-inscriptions-periodes">Période d'inscription à l'evènem
 ent du dimanche 13 janvier 2019 à 00:00 au vendredi 18 janvier 2019 à 12:00
  <span class="gski-evenement-inscriptions-impossibles">(Inscriptions imposs
 ibles).</span><div class="gski-evenement-inscriptions-types-titres">Inscrip
 tions ouvertes aux detenteurs des titres Fédéraux valides suivants : Licenc
 iés Compétiteurs</div></div></div><div class="gski-evenement-epreuves"><div
  class="gski-evenement-epreuves-titres">Epreuves :</div><ul class="gski-eve
 nement-epreuves-list"><li><div class="gski-epreuve-date">Le dimanche 20 jan
 vier 2019</div><ul class="gski-epreuve-liste-infos"><li>Codex épreuve AMVM0
 231</li><li>Slalom</li><li>Catégorie(s) : U18 a Masters (Hommes)</li></ul><
 /li><li><div class="gski-epreuve-date">Le dimanche 20 janvier 2019</div><ul
  class="gski-epreuve-liste-infos"><li>Codex épreuve AMVF0231</li><li>Slalom
 </li><li>Catégorie(s) : U18 a Masters (Dames)</li></ul></li></ul></div><div
  class="gskiepreuves-links"><ul><li><a href="https://skivosges.net/index.ph
 p?option=com_jevents&task=icalevent.detail&evid=1128&Itemid=6283">Voir les 
 informations dans l'agenda...</a></li></ul></div></div"><!-- #/gskiepreuve 
 fin du dode généré par le plugin jevents pour GskiEpreuves. . Ne pas modifi
 er cette ligne, ni tout le contenu précedant.  #/gskiepreuve --> <a href="h
 ttps://skivosges.net/agenda/export-synchronisation/detailevenement/1133/-/c
 d2-coupe-du-larcenaire-et-de-lus-bussang-annulee-reporte?tmpl=component">Ce
 t évènement a été importé depuis :https://skivosges.net/agenda/export-synch
 ronisation/detailevenement/1133/-/cd2-coupe-du-larcenaire-et-de-lus-bussang
 -annulee-reporte?tmpl=component</a>DTSTAMP:20260420T145817
DTSTART;TZID=Europe/Paris;VALUE=DATE:20190120
DTEND;TZID=Europe/Paris;VALUE=DATE:20190121
SEQUENCE:0
TRANSP:OPAQUE
END:VEVENT
END:VCALENDAR