BEGIN:VCALENDAR
VERSION:2.0
PRODID:-//jEvents 2.0 for Joomla//EN
CALSCALE:GREGORIAN
METHOD:PUBLISH
BEGIN:VTIMEZONE
TZID:Europe/Paris
BEGIN:STANDARD
DTSTART:20180119T000000
RDATE:20180325T030000
TZOFFSETFROM:+0200
TZOFFSETTO:+0100
TZNAME:Europe/Paris CET
END:STANDARD
BEGIN:STANDARD
DTSTART:20181028T020000
RDATE:20190331T030000
TZOFFSETFROM:+0200
TZOFFSETTO:+0100
TZNAME:Europe/Paris CET
END:STANDARD
BEGIN:STANDARD
DTSTART:20191027T020000
RDATE:20200329T030000
TZOFFSETFROM:+0200
TZOFFSETTO:+0100
TZNAME:Europe/Paris CET
END:STANDARD
BEGIN:STANDARD
DTSTART:20201025T020000
RDATE:20210328T030000
TZOFFSETFROM:+0200
TZOFFSETTO:+0100
TZNAME:Europe/Paris CET
END:STANDARD
BEGIN:STANDARD
DTSTART:20211031T020000
RDATE:20220327T030000
TZOFFSETFROM:+0200
TZOFFSETTO:+0100
TZNAME:Europe/Paris CET
END:STANDARD
BEGIN:STANDARD
DTSTART:20221030T020000
RDATE:20230326T030000
TZOFFSETFROM:+0200
TZOFFSETTO:+0100
TZNAME:Europe/Paris CET
END:STANDARD
BEGIN:STANDARD
DTSTART:20231029T020000
RDATE:20240331T030000
TZOFFSETFROM:+0200
TZOFFSETTO:+0100
TZNAME:Europe/Paris CET
END:STANDARD
BEGIN:STANDARD
DTSTART:20241027T020000
RDATE:20250330T030000
TZOFFSETFROM:+0200
TZOFFSETTO:+0100
TZNAME:Europe/Paris CET
END:STANDARD
BEGIN:STANDARD
DTSTART:20251026T020000
RDATE:20260329T030000
TZOFFSETFROM:+0200
TZOFFSETTO:+0100
TZNAME:Europe/Paris CET
END:STANDARD
BEGIN:STANDARD
DTSTART:20261025T020000
RDATE:20270328T030000
TZOFFSETFROM:+0200
TZOFFSETTO:+0100
TZNAME:Europe/Paris CET
END:STANDARD
BEGIN:DAYLIGHT
DTSTART:20180325T030000
RDATE:20181028T020000
TZOFFSETFROM:+0100
TZOFFSETTO:+0200
TZNAME:Europe/Paris CEST
END:DAYLIGHT
BEGIN:DAYLIGHT
DTSTART:20190331T030000
RDATE:20191027T020000
TZOFFSETFROM:+0100
TZOFFSETTO:+0200
TZNAME:Europe/Paris CEST
END:DAYLIGHT
BEGIN:DAYLIGHT
DTSTART:20200329T030000
RDATE:20201025T020000
TZOFFSETFROM:+0100
TZOFFSETTO:+0200
TZNAME:Europe/Paris CEST
END:DAYLIGHT
BEGIN:DAYLIGHT
DTSTART:20210328T030000
RDATE:20211031T020000
TZOFFSETFROM:+0100
TZOFFSETTO:+0200
TZNAME:Europe/Paris CEST
END:DAYLIGHT
BEGIN:DAYLIGHT
DTSTART:20220327T030000
RDATE:20221030T020000
TZOFFSETFROM:+0100
TZOFFSETTO:+0200
TZNAME:Europe/Paris CEST
END:DAYLIGHT
BEGIN:DAYLIGHT
DTSTART:20230326T030000
RDATE:20231029T020000
TZOFFSETFROM:+0100
TZOFFSETTO:+0200
TZNAME:Europe/Paris CEST
END:DAYLIGHT
BEGIN:DAYLIGHT
DTSTART:20240331T030000
RDATE:20241027T020000
TZOFFSETFROM:+0100
TZOFFSETTO:+0200
TZNAME:Europe/Paris CEST
END:DAYLIGHT
BEGIN:DAYLIGHT
DTSTART:20250330T030000
RDATE:20251026T020000
TZOFFSETFROM:+0100
TZOFFSETTO:+0200
TZNAME:Europe/Paris CEST
END:DAYLIGHT
BEGIN:DAYLIGHT
DTSTART:20260329T030000
RDATE:20261025T020000
TZOFFSETFROM:+0100
TZOFFSETTO:+0200
TZNAME:Europe/Paris CEST
END:DAYLIGHT
END:VTIMEZONE
BEGIN:VEVENT
UID:9487e0065025e2f521d1deb2d3ebd4ea
CATEGORIES:Circuit Massif Jeunes (alpin)
CREATED:20181114T121858
SUMMARY:CJM Coupe d'Argent U16 Restaurant Pizzeria Plein Sud Gérardmer
URL;VALUE=URI:https://skivosges.net/agenda/export-synchronisation/detailevenement/1134/-/
 cjm-coupe-dargent-u16-restaurant-pizzeria-plein-sud-gerardmer?tmpl=componen
 t
DESCRIPTION:CJM Coupe d'Argent U16 Restaurant Pizzeria Plein Sud Gérardmer\n - Codex év
 enement AMVT0220\n - Lieu : Stade\n - Station : GERARDMER\n - Piste : Stade
 \n - Organisateur : 14089 GERARDMER SKI ALPIN\n - Courriel : RegularLabs.Em
 ailProtector.unCloak("ep_8a4f18b8");\n - Téléphone : 03 29 60 98 04\n - Dél
 égué Technique : DODIN YVESPériode d'inscription à l'evènement du dimanche 
 13 janvier 2019 à 00:00 au vendredi 18 janvier 2019 à 17:00 (Inscriptions i
 mpossibles).Inscriptions ouvertes aux detenteurs des titres Fédéraux valide
 s suivants : Licenciés CompétiteursL'épreuve sera chronometrée avec les rés
 ultats publiés en direct (live)Epreuves :\n - Le dimanche 20 janvier 2019 à
  10:00\n - Codex épreuve AMVM0221\n - Slalom Geant\n - Catégorie(s) : U16 (
 Garçons)\n - Le dimanche 20 janvier 2019 à 10:00\n - Codex épreuve AMVF0221
 \n - Slalom Geant\n - Catégorie(s) : U16 (Filles)\n - Voir les informations
  dans l'agenda... (/index.php?option=com_jevents&amp;task=icalevent.detail&
 amp;evid=1129&amp;Itemid=6283)\n - Vers les résultats... (/index.php?option
 =com_gskiepreuves&amp;view=afficheresultats&amp;format_option=tous&amp;filt
 er[search]=AMVT0220&amp;filter[date_debut]=20-01-2019&amp;filter[date_fin]=
 20-01-2019&amp;code_activite=ALP&amp;Itemid=6283)\n - Publications concerna
 nt cet évènement :\n - Lundi 21 Janvier 2019 à 15:31 : Le 20/01/2019 GERARD
 MER Résultats\n - Mardi 15 Janvier 2019 à 10:39 : Le 20/01/2019 GERARDMER I
 nformations Cet évènement a été importé depuis :https://skivosges.net/agend
 a/export-synchronisation/detailevenement/1134/-/cjm-coupe-dargent-u16-resta
 urant-pizzeria-plein-sud-gerardmer?tmpl=component
X-ALT-DESC;FMTTYPE=text/html:<!-- #gskiepreuve code généré par le plugin jevents pour GskiEpreuves. Ne p
 as modifier cette ligne, ni tout le contenu suivant  #gskiepreuve --><div c
 lass="gski-evenement_infos"><div class="gski-evenement-nom">CJM Coupe d'Arg
 ent U16 Restaurant Pizzeria Plein Sud Gérardmer</div><div class="gski-evene
 ment-report"></div><ul class="gski-evenement-liste-infos"><li>Codex éveneme
 nt AMVT0220</li><li>Lieu : Stade</li><li>Station : GERARDMER</li><li>Piste 
 : Stade</li><li>Organisateur : 14089 GERARDMER SKI ALPIN</li><li>Courriel :
  <!-- Cette adresse électronique est protégée contre les robots spammeurs. 
 --><span class="cloaked_email ep_8a4f18b8"><span data-ep-a="&#103;&#101;r&#
 97;&#114;" data-ep-b="e&#46;&#102;&#114;"><span data-ep-b="&#111;&#114;&#97
 ;n&#103;" data-ep-a="&#100;&#109;er-"><span data-ep-a="&#115;&#107;&#105;&#
 45;&#97;" data-ep-b="&#108;&#112;&#105;&#110;&#64;"></span></span></span></
 span><script>RegularLabs.EmailProtector.unCloak("ep_8a4f18b8");</script></l
 i><li>Téléphone : 03 29 60 98 04</li><li><span class="gski-evenement-obs">D
 élégué Technique : DODIN YVES</span></li></ul><div class="gski-evenement-in
 fos-2"><div class="gski-evenement-info-inscriptions"><div class="gski-evene
 ment-inscriptions-periodes">Période d'inscription à l'evènement du dimanche
  13 janvier 2019 à 00:00 au vendredi 18 janvier 2019 à 17:00 <span class="g
 ski-evenement-inscriptions-impossibles">(Inscriptions impossibles).</span><
 div class="gski-evenement-inscriptions-types-titres">Inscriptions ouvertes 
 aux detenteurs des titres Fédéraux valides suivants : Licenciés Compétiteur
 s</div></div></div><div class="gski-evenement-info-live">L'épreuve sera chr
 onometrée avec les résultats publiés en direct (live)</div><div class="gski
 -evenement-epreuves"><div class="gski-evenement-epreuves-titres">Epreuves :
 </div><ul class="gski-evenement-epreuves-list"><li><div class="gski-epreuve
 -date">Le dimanche 20 janvier 2019 à 10:00</div><ul class="gski-epreuve-lis
 te-infos"><li>Codex épreuve AMVM0221</li><li>Slalom Geant</li><li>Catégorie
 (s) : U16 (Garçons)</li></ul></li><li><div class="gski-epreuve-date">Le dim
 anche 20 janvier 2019 à 10:00</div><ul class="gski-epreuve-liste-infos"><li
 >Codex épreuve AMVF0221</li><li>Slalom Geant</li><li>Catégorie(s) : U16 (Fi
 lles)</li></ul></li></ul></div><div class="gskiepreuves-links"><ul><li><a h
 ref="https://skivosges.net/index.php?option=com_jevents&task=icalevent.deta
 il&evid=1129&Itemid=6283">Voir les informations dans l'agenda...</a></li><l
 i><a href="https://skivosges.net/index.php?option=com_gskiepreuves&view=aff
 icheresultats&format_option=tous&filter[search]=AMVT0220&filter[date_debut]
 =20-01-2019&filter[date_fin]=20-01-2019&code_activite=ALP&Itemid=6283">Vers
  les résultats...</a></li><li>Publications concernant cet évènement :<ul><l
 i><a href="https://skivosges.net/index.php?option=com_content&view=article&
 id=6571&Itemid=6283">Lundi 21 Janvier 2019 à 15:31 : Le 20/01/2019 GERARDME
 R Résultats</a></li><li><a href="https://skivosges.net/index.php?option=com
 _content&view=article&id=6535&Itemid=6283">Mardi 15 Janvier 2019 à 10:39 : 
 Le 20/01/2019 GERARDMER Informations</a></li></ul></li></ul></div></div"><!
 -- #/gskiepreuve fin du dode généré par le plugin jevents pour GskiEpreuves
 . . Ne pas modifier cette ligne, ni tout le contenu précedant.  #/gskiepreu
 ve --> <a href="https://skivosges.net/agenda/export-synchronisation/detaile
 venement/1134/-/cjm-coupe-dargent-u16-restaurant-pizzeria-plein-sud-gerardm
 er?tmpl=component">Cet évènement a été importé depuis :https://skivosges.ne
 t/agenda/export-synchronisation/detailevenement/1134/-/cjm-coupe-dargent-u1
 6-restaurant-pizzeria-plein-sud-gerardmer?tmpl=component</a>DTSTAMP:20260420T145848
DTSTART;TZID=Europe/Paris;VALUE=DATE:20190120
DTEND;TZID=Europe/Paris;VALUE=DATE:20190121
SEQUENCE:0
TRANSP:OPAQUE
END:VEVENT
END:VCALENDAR