BEGIN:VCALENDAR
VERSION:2.0
PRODID:-//jEvents 2.0 for Joomla//EN
CALSCALE:GREGORIAN
METHOD:PUBLISH
BEGIN:VTIMEZONE
TZID:Europe/Paris
BEGIN:STANDARD
DTSTART:20180119T000000
RDATE:20180325T030000
TZOFFSETFROM:+0200
TZOFFSETTO:+0100
TZNAME:Europe/Paris CET
END:STANDARD
BEGIN:STANDARD
DTSTART:20181028T020000
RDATE:20190331T030000
TZOFFSETFROM:+0200
TZOFFSETTO:+0100
TZNAME:Europe/Paris CET
END:STANDARD
BEGIN:STANDARD
DTSTART:20191027T020000
RDATE:20200329T030000
TZOFFSETFROM:+0200
TZOFFSETTO:+0100
TZNAME:Europe/Paris CET
END:STANDARD
BEGIN:STANDARD
DTSTART:20201025T020000
RDATE:20210328T030000
TZOFFSETFROM:+0200
TZOFFSETTO:+0100
TZNAME:Europe/Paris CET
END:STANDARD
BEGIN:STANDARD
DTSTART:20211031T020000
RDATE:20220327T030000
TZOFFSETFROM:+0200
TZOFFSETTO:+0100
TZNAME:Europe/Paris CET
END:STANDARD
BEGIN:STANDARD
DTSTART:20221030T020000
RDATE:20230326T030000
TZOFFSETFROM:+0200
TZOFFSETTO:+0100
TZNAME:Europe/Paris CET
END:STANDARD
BEGIN:STANDARD
DTSTART:20231029T020000
RDATE:20240331T030000
TZOFFSETFROM:+0200
TZOFFSETTO:+0100
TZNAME:Europe/Paris CET
END:STANDARD
BEGIN:STANDARD
DTSTART:20241027T020000
RDATE:20250330T030000
TZOFFSETFROM:+0200
TZOFFSETTO:+0100
TZNAME:Europe/Paris CET
END:STANDARD
BEGIN:STANDARD
DTSTART:20251026T020000
RDATE:20260329T030000
TZOFFSETFROM:+0200
TZOFFSETTO:+0100
TZNAME:Europe/Paris CET
END:STANDARD
BEGIN:STANDARD
DTSTART:20261025T020000
RDATE:20270328T030000
TZOFFSETFROM:+0200
TZOFFSETTO:+0100
TZNAME:Europe/Paris CET
END:STANDARD
BEGIN:DAYLIGHT
DTSTART:20180325T030000
RDATE:20181028T020000
TZOFFSETFROM:+0100
TZOFFSETTO:+0200
TZNAME:Europe/Paris CEST
END:DAYLIGHT
BEGIN:DAYLIGHT
DTSTART:20190331T030000
RDATE:20191027T020000
TZOFFSETFROM:+0100
TZOFFSETTO:+0200
TZNAME:Europe/Paris CEST
END:DAYLIGHT
BEGIN:DAYLIGHT
DTSTART:20200329T030000
RDATE:20201025T020000
TZOFFSETFROM:+0100
TZOFFSETTO:+0200
TZNAME:Europe/Paris CEST
END:DAYLIGHT
BEGIN:DAYLIGHT
DTSTART:20210328T030000
RDATE:20211031T020000
TZOFFSETFROM:+0100
TZOFFSETTO:+0200
TZNAME:Europe/Paris CEST
END:DAYLIGHT
BEGIN:DAYLIGHT
DTSTART:20220327T030000
RDATE:20221030T020000
TZOFFSETFROM:+0100
TZOFFSETTO:+0200
TZNAME:Europe/Paris CEST
END:DAYLIGHT
BEGIN:DAYLIGHT
DTSTART:20230326T030000
RDATE:20231029T020000
TZOFFSETFROM:+0100
TZOFFSETTO:+0200
TZNAME:Europe/Paris CEST
END:DAYLIGHT
BEGIN:DAYLIGHT
DTSTART:20240331T030000
RDATE:20241027T020000
TZOFFSETFROM:+0100
TZOFFSETTO:+0200
TZNAME:Europe/Paris CEST
END:DAYLIGHT
BEGIN:DAYLIGHT
DTSTART:20250330T030000
RDATE:20251026T020000
TZOFFSETFROM:+0100
TZOFFSETTO:+0200
TZNAME:Europe/Paris CEST
END:DAYLIGHT
BEGIN:DAYLIGHT
DTSTART:20260329T030000
RDATE:20261025T020000
TZOFFSETFROM:+0100
TZOFFSETTO:+0200
TZNAME:Europe/Paris CEST
END:DAYLIGHT
END:VTIMEZONE
BEGIN:VEVENT
UID:e8988c78c1f66aae81097cbd1a74a09c
CATEGORIES:Circuit Massif Jeunes (alpin)
CREATED:20181114T121858
SUMMARY:CJM Coupe d'Argent U14 coupe de la station du Lac Blanc
URL;VALUE=URI:https://skivosges.net/agenda/export-synchronisation/detailevenement/1135/-/
 cjm-coupe-dargent-u14-coupe-de-la-station-du-lac-blanc?tmpl=component
DESCRIPTION:CJM Coupe d'Argent U14 coupe de la station du Lac Blanc\n - Codex évenement
  AMVT0260\n - Lieu : LE BONHOMME\n - Station : LAC BLANC\n - Piste : STADE 
 \n - Organisateur : 14251 SKI CLUB LE BONHOMME\n - Courriel : RegularLabs.E
 mailProtector.unCloak("ep_95ed1121");\n - Délégué Technique : KOENIG DANIEL
 Période d'inscription à l'evènement du dimanche 13 janvier 2019 à 00:00 au 
 vendredi 18 janvier 2019 à 18:00 (Inscriptions impossibles).Inscriptions ou
 vertes aux detenteurs des titres Fédéraux valides suivants : Licenciés Comp
 étiteursEpreuves :\n - Le dimanche 20 janvier 2019\n - Codex épreuve AMVM02
 61\n - Slalom Geant\n - Catégorie(s) : U14 (Garçons)\n - Le dimanche 20 jan
 vier 2019\n - Codex épreuve AMVF0261\n - Slalom Geant\n - Catégorie(s) : U1
 4 (Filles)\n - Voir les informations dans l'agenda... (/index.php?option=co
 m_jevents&amp;task=icalevent.detail&amp;evid=1130&amp;Itemid=6283)\n - Vers
  les résultats... (/index.php?option=com_gskiepreuves&amp;view=afficheresul
 tats&amp;format_option=tous&amp;filter[search]=AMVT0260&amp;filter[date_deb
 ut]=20-01-2019&amp;filter[date_fin]=20-01-2019&amp;code_activite=ALP&amp;It
 emid=6283)\n - Publications concernant cet évènement :\n - Dimanche 20 Janv
 ier 2019 à 19:12 : Le 20/01/2019 LAC BLANC Résultats Cet évènement a été im
 porté depuis :https://skivosges.net/agenda/export-synchronisation/detaileve
 nement/1135/-/cjm-coupe-dargent-u14-coupe-de-la-station-du-lac-blanc?tmpl=c
 omponent
X-ALT-DESC;FMTTYPE=text/html:<!-- #gskiepreuve code généré par le plugin jevents pour GskiEpreuves. Ne p
 as modifier cette ligne, ni tout le contenu suivant  #gskiepreuve --><div c
 lass="gski-evenement_infos"><div class="gski-evenement-nom">CJM Coupe d'Arg
 ent U14 coupe de la station du Lac Blanc</div><div class="gski-evenement-re
 port"></div><ul class="gski-evenement-liste-infos"><li>Codex évenement AMVT
 0260</li><li>Lieu : LE BONHOMME</li><li>Station : LAC BLANC</li><li>Piste :
  STADE </li><li>Organisateur : 14251 SKI CLUB LE BONHOMME</li><li>Courriel 
 : <!-- Cette adresse électronique est protégée contre les robots spammeurs.
  --><span class="cloaked_email ep_95ed1121"><span data-ep-b="&#46;&#102;&#1
 14;" data-ep-a="&#99;hr&#105;&#115;t"><span data-ep-a="i&#97;&#110;.&#99;&#
 104;" data-ep-b="&#111;&#114;a&#110;&#103;&#101;"><span data-ep-b="&#118;&#
 105;&#99;hc&#64;" data-ep-a="a&#102;i&#111;la"></span></span></span></span>
 <script>RegularLabs.EmailProtector.unCloak("ep_95ed1121");</script></li><li
 ><span class="gski-evenement-obs">Délégué Technique : KOENIG DANIEL</span><
 /li></ul><div class="gski-evenement-infos-2"><div class="gski-evenement-inf
 o-inscriptions"><div class="gski-evenement-inscriptions-periodes">Période d
 'inscription à l'evènement du dimanche 13 janvier 2019 à 00:00 au vendredi 
 18 janvier 2019 à 18:00 <span class="gski-evenement-inscriptions-impossible
 s">(Inscriptions impossibles).</span><div class="gski-evenement-inscription
 s-types-titres">Inscriptions ouvertes aux detenteurs des titres Fédéraux va
 lides suivants : Licenciés Compétiteurs</div></div></div><div class="gski-e
 venement-epreuves"><div class="gski-evenement-epreuves-titres">Epreuves :</
 div><ul class="gski-evenement-epreuves-list"><li><div class="gski-epreuve-d
 ate">Le dimanche 20 janvier 2019</div><ul class="gski-epreuve-liste-infos">
 <li>Codex épreuve AMVM0261</li><li>Slalom Geant</li><li>Catégorie(s) : U14 
 (Garçons)</li></ul></li><li><div class="gski-epreuve-date">Le dimanche 20 j
 anvier 2019</div><ul class="gski-epreuve-liste-infos"><li>Codex épreuve AMV
 F0261</li><li>Slalom Geant</li><li>Catégorie(s) : U14 (Filles)</li></ul></l
 i></ul></div><div class="gskiepreuves-links"><ul><li><a href="https://skivo
 sges.net/index.php?option=com_jevents&task=icalevent.detail&evid=1130&Itemi
 d=6283">Voir les informations dans l'agenda...</a></li><li><a href="https:/
 /skivosges.net/index.php?option=com_gskiepreuves&view=afficheresultats&form
 at_option=tous&filter[search]=AMVT0260&filter[date_debut]=20-01-2019&filter
 [date_fin]=20-01-2019&code_activite=ALP&Itemid=6283">Vers les résultats...<
 /a></li><li>Publications concernant cet évènement :<ul><li><a href="https:/
 /skivosges.net/index.php?option=com_content&view=article&id=6568&Itemid=628
 3">Dimanche 20 Janvier 2019 à 19:12 : Le 20/01/2019 LAC BLANC Résultats</a>
 </li></ul></li></ul></div></div"><!-- #/gskiepreuve fin du dode généré par 
 le plugin jevents pour GskiEpreuves. . Ne pas modifier cette ligne, ni tout
  le contenu précedant.  #/gskiepreuve --> <a href="https://skivosges.net/ag
 enda/export-synchronisation/detailevenement/1135/-/cjm-coupe-dargent-u14-co
 upe-de-la-station-du-lac-blanc?tmpl=component">Cet évènement a été importé 
 depuis :https://skivosges.net/agenda/export-synchronisation/detailevenement
 /1135/-/cjm-coupe-dargent-u14-coupe-de-la-station-du-lac-blanc?tmpl=compone
 nt</a>DTSTAMP:20260420T131349
DTSTART;TZID=Europe/Paris;VALUE=DATE:20190120
DTEND;TZID=Europe/Paris;VALUE=DATE:20190121
SEQUENCE:0
TRANSP:OPAQUE
END:VEVENT
END:VCALENDAR