BEGIN:VCALENDAR
VERSION:2.0
PRODID:-//jEvents 2.0 for Joomla//EN
CALSCALE:GREGORIAN
METHOD:PUBLISH
BEGIN:VTIMEZONE
TZID:Europe/Paris
BEGIN:STANDARD
DTSTART:20180124T000000
RDATE:20180325T030000
TZOFFSETFROM:+0200
TZOFFSETTO:+0100
TZNAME:Europe/Paris CET
END:STANDARD
BEGIN:STANDARD
DTSTART:20181028T020000
RDATE:20190331T030000
TZOFFSETFROM:+0200
TZOFFSETTO:+0100
TZNAME:Europe/Paris CET
END:STANDARD
BEGIN:STANDARD
DTSTART:20191027T020000
RDATE:20200329T030000
TZOFFSETFROM:+0200
TZOFFSETTO:+0100
TZNAME:Europe/Paris CET
END:STANDARD
BEGIN:STANDARD
DTSTART:20201025T020000
RDATE:20210328T030000
TZOFFSETFROM:+0200
TZOFFSETTO:+0100
TZNAME:Europe/Paris CET
END:STANDARD
BEGIN:STANDARD
DTSTART:20211031T020000
RDATE:20220327T030000
TZOFFSETFROM:+0200
TZOFFSETTO:+0100
TZNAME:Europe/Paris CET
END:STANDARD
BEGIN:STANDARD
DTSTART:20221030T020000
RDATE:20230326T030000
TZOFFSETFROM:+0200
TZOFFSETTO:+0100
TZNAME:Europe/Paris CET
END:STANDARD
BEGIN:STANDARD
DTSTART:20231029T020000
RDATE:20240331T030000
TZOFFSETFROM:+0200
TZOFFSETTO:+0100
TZNAME:Europe/Paris CET
END:STANDARD
BEGIN:STANDARD
DTSTART:20241027T020000
RDATE:20250330T030000
TZOFFSETFROM:+0200
TZOFFSETTO:+0100
TZNAME:Europe/Paris CET
END:STANDARD
BEGIN:STANDARD
DTSTART:20251026T020000
RDATE:20260329T030000
TZOFFSETFROM:+0200
TZOFFSETTO:+0100
TZNAME:Europe/Paris CET
END:STANDARD
BEGIN:STANDARD
DTSTART:20261025T020000
RDATE:20270328T030000
TZOFFSETFROM:+0200
TZOFFSETTO:+0100
TZNAME:Europe/Paris CET
END:STANDARD
BEGIN:DAYLIGHT
DTSTART:20180325T030000
RDATE:20181028T020000
TZOFFSETFROM:+0100
TZOFFSETTO:+0200
TZNAME:Europe/Paris CEST
END:DAYLIGHT
BEGIN:DAYLIGHT
DTSTART:20190331T030000
RDATE:20191027T020000
TZOFFSETFROM:+0100
TZOFFSETTO:+0200
TZNAME:Europe/Paris CEST
END:DAYLIGHT
BEGIN:DAYLIGHT
DTSTART:20200329T030000
RDATE:20201025T020000
TZOFFSETFROM:+0100
TZOFFSETTO:+0200
TZNAME:Europe/Paris CEST
END:DAYLIGHT
BEGIN:DAYLIGHT
DTSTART:20210328T030000
RDATE:20211031T020000
TZOFFSETFROM:+0100
TZOFFSETTO:+0200
TZNAME:Europe/Paris CEST
END:DAYLIGHT
BEGIN:DAYLIGHT
DTSTART:20220327T030000
RDATE:20221030T020000
TZOFFSETFROM:+0100
TZOFFSETTO:+0200
TZNAME:Europe/Paris CEST
END:DAYLIGHT
BEGIN:DAYLIGHT
DTSTART:20230326T030000
RDATE:20231029T020000
TZOFFSETFROM:+0100
TZOFFSETTO:+0200
TZNAME:Europe/Paris CEST
END:DAYLIGHT
BEGIN:DAYLIGHT
DTSTART:20240331T030000
RDATE:20241027T020000
TZOFFSETFROM:+0100
TZOFFSETTO:+0200
TZNAME:Europe/Paris CEST
END:DAYLIGHT
BEGIN:DAYLIGHT
DTSTART:20250330T030000
RDATE:20251026T020000
TZOFFSETFROM:+0100
TZOFFSETTO:+0200
TZNAME:Europe/Paris CEST
END:DAYLIGHT
BEGIN:DAYLIGHT
DTSTART:20260329T030000
RDATE:20261025T020000
TZOFFSETFROM:+0100
TZOFFSETTO:+0200
TZNAME:Europe/Paris CEST
END:DAYLIGHT
END:VTIMEZONE
BEGIN:VEVENT
UID:835feae08f5d6b41632f0838211db8db
CATEGORIES:Circuit Massif Masters (alpin)
CREATED:20181114T121858
SUMMARY:CMM  Esprit Racing
URL;VALUE=URI:https://skivosges.net/agenda/export-synchronisation/detailevenement/1139/-/
 cmm-esprit-racing?tmpl=component
DESCRIPTION:CMM  Esprit Racing\n - Codex évenement AMVT0270\n - Station : MARKSTEIN\n -
  Piste : STADE DE SLALOM\n - Organisateur : 14186 S.C VALLEE DE WESSERLING\
 n - Courriel : RegularLabs.EmailProtector.unCloak("ep_795044a4");\n - Télép
 hone : 03 89 82 78 08\n - Délégué Technique : VONTHRON JEAN MARIEPériode d'
 inscription à l'evènement du mardi 22 janvier 2019 à 00:00 au jeudi 24 janv
 ier 2019 à 22:00 (Inscriptions impossibles).Inscriptions ouvertes aux deten
 teurs des titres Fédéraux valides suivants : Licenciés CompétiteursEpreuves
  :\n - Le vendredi 25 janvier 2019 à 19:30\n - Codex épreuve AMVM0271\n - S
 lalom\n - Catégorie(s) : Tous les Masters+U30 Hommes (Dames)\n - Le vendred
 i 25 janvier 2019 à 19:30\n - Codex épreuve AMVF0271\n - Slalom\n - Catégor
 ie(s) : Tous les Masters+U30 Dames (Hommes)\n - Voir les informations dans 
 l'agenda... (/index.php?option=com_jevents&amp;task=icalevent.detail&amp;ev
 id=1134&amp;Itemid=6283)\n - Vers les résultats... (/index.php?option=com_g
 skiepreuves&amp;view=afficheresultats&amp;format_option=tous&amp;filter[sea
 rch]=AMVT0270&amp;filter[date_debut]=25-01-2019&amp;filter[date_fin]=25-01-
 2019&amp;code_activite=ALP&amp;Itemid=6283)\n - Publications concernant cet
  évènement :\n - Vendredi 25 Janvier 2019 à 13:12 : Le 25/01/2019 MARKSTEIN
  Liste de départs\n - Vendredi 25 Janvier 2019 à 00:17 : Le 25/01/2019 MARK
 STEIN Liste de départs Cet évènement a été importé depuis :https://skivosge
 s.net/agenda/export-synchronisation/detailevenement/1139/-/cmm-esprit-racin
 g?tmpl=component
X-ALT-DESC;FMTTYPE=text/html:<!-- #gskiepreuve code généré par le plugin jevents pour GskiEpreuves. Ne p
 as modifier cette ligne, ni tout le contenu suivant  #gskiepreuve --><div c
 lass="gski-evenement_infos"><div class="gski-evenement-nom">CMM  Esprit Rac
 ing</div><div class="gski-evenement-report"></div><ul class="gski-evenement
 -liste-infos"><li>Codex évenement AMVT0270</li><li>Station : MARKSTEIN</li>
 <li>Piste : STADE DE SLALOM</li><li>Organisateur : 14186 S.C VALLEE DE WESS
 ERLING</li><li>Courriel : <!-- Cette adresse électronique est protégée cont
 re les robots spammeurs. --><span class="cloaked_email ep_795044a4"><span d
 ata-ep-b="m" data-ep-a="&#115;c&#118;&#119;"><span data-ep-a="&#101;&#115;&
 #115;&#101;" data-ep-b="l.&#99;&#111;"><span data-ep-b="&#103;&#64;a&#111;"
  data-ep-a="&#114;&#108;&#105;&#110;"></span></span></span></span><script>R
 egularLabs.EmailProtector.unCloak("ep_795044a4");</script></li><li>Téléphon
 e : 03 89 82 78 08</li><li><span class="gski-evenement-obs">Délégué Techniq
 ue : VONTHRON JEAN MARIE</span></li></ul><div class="gski-evenement-infos-2
 "><div class="gski-evenement-info-inscriptions"><div class="gski-evenement-
 inscriptions-periodes">Période d'inscription à l'evènement du mardi 22 janv
 ier 2019 à 00:00 au jeudi 24 janvier 2019 à 22:00 <span class="gski-eveneme
 nt-inscriptions-impossibles">(Inscriptions impossibles).</span><div class="
 gski-evenement-inscriptions-types-titres">Inscriptions ouvertes aux detente
 urs des titres Fédéraux valides suivants : Licenciés Compétiteurs</div></di
 v></div><div class="gski-evenement-epreuves"><div class="gski-evenement-epr
 euves-titres">Epreuves :</div><ul class="gski-evenement-epreuves-list"><li>
 <div class="gski-epreuve-date">Le vendredi 25 janvier 2019 à 19:30</div><ul
  class="gski-epreuve-liste-infos"><li>Codex épreuve AMVM0271</li><li>Slalom
 </li><li>Catégorie(s) : Tous les Masters+U30 Hommes (Dames)</li></ul></li><
 li><div class="gski-epreuve-date">Le vendredi 25 janvier 2019 à 19:30</div>
 <ul class="gski-epreuve-liste-infos"><li>Codex épreuve AMVF0271</li><li>Sla
 lom</li><li>Catégorie(s) : Tous les Masters+U30 Dames (Hommes)</li></ul></l
 i></ul></div><div class="gskiepreuves-links"><ul><li><a href="https://skivo
 sges.net/index.php?option=com_jevents&task=icalevent.detail&evid=1134&Itemi
 d=6283">Voir les informations dans l'agenda...</a></li><li><a href="https:/
 /skivosges.net/index.php?option=com_gskiepreuves&view=afficheresultats&form
 at_option=tous&filter[search]=AMVT0270&filter[date_debut]=25-01-2019&filter
 [date_fin]=25-01-2019&code_activite=ALP&Itemid=6283">Vers les résultats...<
 /a></li><li>Publications concernant cet évènement :<ul><li><a href="https:/
 /skivosges.net/index.php?option=com_content&view=article&id=6589&Itemid=628
 3">Vendredi 25 Janvier 2019 à 13:12 : Le 25/01/2019 MARKSTEIN Liste de dépa
 rts</a></li><li><a href="https://skivosges.net/index.php?option=com_content
 &view=article&id=6587&Itemid=6283">Vendredi 25 Janvier 2019 à 00:17 : Le 25
 /01/2019 MARKSTEIN Liste de départs</a></li></ul></li></ul></div></div"><!-
 - #/gskiepreuve fin du dode généré par le plugin jevents pour GskiEpreuves.
  . Ne pas modifier cette ligne, ni tout le contenu précedant.  #/gskiepreuv
 e --> <a href="https://skivosges.net/agenda/export-synchronisation/detailev
 enement/1139/-/cmm-esprit-racing?tmpl=component">Cet évènement a été import
 é depuis :https://skivosges.net/agenda/export-synchronisation/detaileveneme
 nt/1139/-/cmm-esprit-racing?tmpl=component</a>DTSTAMP:20260420T145942
DTSTART;TZID=Europe/Paris;VALUE=DATE:20190125
DTEND;TZID=Europe/Paris;VALUE=DATE:20190126
SEQUENCE:0
TRANSP:OPAQUE
END:VEVENT
END:VCALENDAR