BEGIN:VCALENDAR
VERSION:2.0
PRODID:-//jEvents 2.0 for Joomla//EN
CALSCALE:GREGORIAN
METHOD:PUBLISH
BEGIN:VTIMEZONE
TZID:Europe/Paris
BEGIN:STANDARD
DTSTART:20180126T000000
RDATE:20180325T030000
TZOFFSETFROM:+0200
TZOFFSETTO:+0100
TZNAME:Europe/Paris CET
END:STANDARD
BEGIN:STANDARD
DTSTART:20181028T020000
RDATE:20190331T030000
TZOFFSETFROM:+0200
TZOFFSETTO:+0100
TZNAME:Europe/Paris CET
END:STANDARD
BEGIN:STANDARD
DTSTART:20191027T020000
RDATE:20200329T030000
TZOFFSETFROM:+0200
TZOFFSETTO:+0100
TZNAME:Europe/Paris CET
END:STANDARD
BEGIN:STANDARD
DTSTART:20201025T020000
RDATE:20210328T030000
TZOFFSETFROM:+0200
TZOFFSETTO:+0100
TZNAME:Europe/Paris CET
END:STANDARD
BEGIN:STANDARD
DTSTART:20211031T020000
RDATE:20220327T030000
TZOFFSETFROM:+0200
TZOFFSETTO:+0100
TZNAME:Europe/Paris CET
END:STANDARD
BEGIN:STANDARD
DTSTART:20221030T020000
RDATE:20230326T030000
TZOFFSETFROM:+0200
TZOFFSETTO:+0100
TZNAME:Europe/Paris CET
END:STANDARD
BEGIN:STANDARD
DTSTART:20231029T020000
RDATE:20240331T030000
TZOFFSETFROM:+0200
TZOFFSETTO:+0100
TZNAME:Europe/Paris CET
END:STANDARD
BEGIN:STANDARD
DTSTART:20241027T020000
RDATE:20250330T030000
TZOFFSETFROM:+0200
TZOFFSETTO:+0100
TZNAME:Europe/Paris CET
END:STANDARD
BEGIN:STANDARD
DTSTART:20251026T020000
RDATE:20260329T030000
TZOFFSETFROM:+0200
TZOFFSETTO:+0100
TZNAME:Europe/Paris CET
END:STANDARD
BEGIN:STANDARD
DTSTART:20261025T020000
RDATE:20270328T030000
TZOFFSETFROM:+0200
TZOFFSETTO:+0100
TZNAME:Europe/Paris CET
END:STANDARD
BEGIN:DAYLIGHT
DTSTART:20180325T030000
RDATE:20181028T020000
TZOFFSETFROM:+0100
TZOFFSETTO:+0200
TZNAME:Europe/Paris CEST
END:DAYLIGHT
BEGIN:DAYLIGHT
DTSTART:20190331T030000
RDATE:20191027T020000
TZOFFSETFROM:+0100
TZOFFSETTO:+0200
TZNAME:Europe/Paris CEST
END:DAYLIGHT
BEGIN:DAYLIGHT
DTSTART:20200329T030000
RDATE:20201025T020000
TZOFFSETFROM:+0100
TZOFFSETTO:+0200
TZNAME:Europe/Paris CEST
END:DAYLIGHT
BEGIN:DAYLIGHT
DTSTART:20210328T030000
RDATE:20211031T020000
TZOFFSETFROM:+0100
TZOFFSETTO:+0200
TZNAME:Europe/Paris CEST
END:DAYLIGHT
BEGIN:DAYLIGHT
DTSTART:20220327T030000
RDATE:20221030T020000
TZOFFSETFROM:+0100
TZOFFSETTO:+0200
TZNAME:Europe/Paris CEST
END:DAYLIGHT
BEGIN:DAYLIGHT
DTSTART:20230326T030000
RDATE:20231029T020000
TZOFFSETFROM:+0100
TZOFFSETTO:+0200
TZNAME:Europe/Paris CEST
END:DAYLIGHT
BEGIN:DAYLIGHT
DTSTART:20240331T030000
RDATE:20241027T020000
TZOFFSETFROM:+0100
TZOFFSETTO:+0200
TZNAME:Europe/Paris CEST
END:DAYLIGHT
BEGIN:DAYLIGHT
DTSTART:20250330T030000
RDATE:20251026T020000
TZOFFSETFROM:+0100
TZOFFSETTO:+0200
TZNAME:Europe/Paris CEST
END:DAYLIGHT
BEGIN:DAYLIGHT
DTSTART:20260329T030000
RDATE:20261025T020000
TZOFFSETFROM:+0100
TZOFFSETTO:+0200
TZNAME:Europe/Paris CEST
END:DAYLIGHT
END:VTIMEZONE
BEGIN:VEVENT
UID:7dc23d51432a30c6d062832ce053e967
CATEGORIES:Circuit Massif Adultes (alpin)
CREATED:20181114T121858
SUMMARY:CAM Grand Prix Adultes
URL;VALUE=URI:https://skivosges.net/agenda/export-synchronisation/detailevenement/1143/-/
 cam-grand-prix-adultes?tmpl=component
DESCRIPTION:CAM Grand Prix Adultes\n - Codex évenement AMVT0310\n - Station : MARKSTEIN
 \n - Piste : STADE SERGE LANG\n - Organisateur : 14186 S.C VALLEE DE WESSER
 LING\n - Courriel : RegularLabs.EmailProtector.unCloak("ep_c520de58");\n - 
 Téléphone : 03 89 82 78 08\n - Délégué Technique : SCHUTZ KOZLIK ESTELLEPér
 iode d'inscription à l'evènement du mardi 22 janvier 2019 à 19:00 au vendre
 di 25 janvier 2019 à 22:00 (Inscriptions impossibles).Inscriptions ouvertes
  aux detenteurs des titres Fédéraux valides suivants : Licenciés Compétiteu
 rsL'épreuve sera chronometrée avec les résultats publiés en direct (live)Ep
 reuves :\n - Le dimanche 27 janvier 2019 à 09:30\n - Codex épreuve AMVM0311
 \n - Slalom\n - Catégorie(s) : U16 (Filles)\n - Le dimanche 27 janvier 2019
  à 09:30\n - Codex épreuve AMVF0311\n - Slalom\n - Catégorie(s) : U16 (Garç
 ons)\n - Le dimanche 27 janvier 2019 à 10:00\n - Codex épreuve AMVM0312\n -
  Slalom\n - Catégorie(s) : U18 a Masters (Dames)\n - Le dimanche 27 janvier
  2019 à 10:30\n - Codex épreuve AMVF0312\n - Slalom\n - Catégorie(s) : U18 
 a Masters (Hommes)\n - Voir les informations dans l'agenda... (/index.php?o
 ption=com_jevents&amp;task=icalevent.detail&amp;evid=1138&amp;Itemid=6283)\
 n - Vers les résultats... (/index.php?option=com_gskiepreuves&amp;view=affi
 cheresultats&amp;format_option=tous&amp;filter[search]=AMVT0310&amp;filter[
 date_debut]=27-01-2019&amp;filter[date_fin]=27-01-2019&amp;code_activite=AL
 P&amp;Itemid=6283)\n - Publications concernant cet évènement :\n - Samedi 2
 6 Janvier 2019 à 08:43 : Le 27/01/2019 MARKSTEIN Liste de départs Cet évène
 ment a été importé depuis :https://skivosges.net/agenda/export-synchronisat
 ion/detailevenement/1143/-/cam-grand-prix-adultes?tmpl=component
X-ALT-DESC;FMTTYPE=text/html:<!-- #gskiepreuve code généré par le plugin jevents pour GskiEpreuves. Ne p
 as modifier cette ligne, ni tout le contenu suivant  #gskiepreuve --><div c
 lass="gski-evenement_infos"><div class="gski-evenement-nom">CAM Grand Prix 
 Adultes</div><div class="gski-evenement-report"></div><ul class="gski-evene
 ment-liste-infos"><li>Codex évenement AMVT0310</li><li>Station : MARKSTEIN<
 /li><li>Piste : STADE SERGE LANG</li><li>Organisateur : 14186 S.C VALLEE DE
  WESSERLING</li><li>Courriel : <!-- Cette adresse électronique est protégée
  contre les robots spammeurs. --><span class="cloaked_email ep_c520de58"><s
 pan data-ep-a="s&#99;&#118;&#119;" data-ep-b="&#109;"><span data-ep-b="&#10
 8;.&#99;o" data-ep-a="&#101;s&#115;e"><span data-ep-b="g&#64;&#97;o" data-e
 p-a="&#114;&#108;i&#110;"></span></span></span></span><script>RegularLabs.E
 mailProtector.unCloak("ep_c520de58");</script></li><li>Téléphone : 03 89 82
  78 08</li><li><span class="gski-evenement-obs">Délégué Technique : SCHUTZ 
 KOZLIK ESTELLE</span></li></ul><div class="gski-evenement-infos-2"><div cla
 ss="gski-evenement-info-inscriptions"><div class="gski-evenement-inscriptio
 ns-periodes">Période d'inscription à l'evènement du mardi 22 janvier 2019 à
  19:00 au vendredi 25 janvier 2019 à 22:00 <span class="gski-evenement-insc
 riptions-impossibles">(Inscriptions impossibles).</span><div class="gski-ev
 enement-inscriptions-types-titres">Inscriptions ouvertes aux detenteurs des
  titres Fédéraux valides suivants : Licenciés Compétiteurs</div></div></div
 ><div class="gski-evenement-info-live">L'épreuve sera chronometrée avec les
  résultats publiés en direct (live)</div><div class="gski-evenement-epreuve
 s"><div class="gski-evenement-epreuves-titres">Epreuves :</div><ul class="g
 ski-evenement-epreuves-list"><li><div class="gski-epreuve-date">Le dimanche
  27 janvier 2019 à 09:30</div><ul class="gski-epreuve-liste-infos"><li>Code
 x épreuve AMVM0311</li><li>Slalom</li><li>Catégorie(s) : U16 (Filles)</li><
 /ul></li><li><div class="gski-epreuve-date">Le dimanche 27 janvier 2019 à 0
 9:30</div><ul class="gski-epreuve-liste-infos"><li>Codex épreuve AMVF0311</
 li><li>Slalom</li><li>Catégorie(s) : U16 (Garçons)</li></ul></li><li><div c
 lass="gski-epreuve-date">Le dimanche 27 janvier 2019 à 10:00</div><ul class
 ="gski-epreuve-liste-infos"><li>Codex épreuve AMVM0312</li><li>Slalom</li><
 li>Catégorie(s) : U18 a Masters (Dames)</li></ul></li><li><div class="gski-
 epreuve-date">Le dimanche 27 janvier 2019 à 10:30</div><ul class="gski-epre
 uve-liste-infos"><li>Codex épreuve AMVF0312</li><li>Slalom</li><li>Catégori
 e(s) : U18 a Masters (Hommes)</li></ul></li></ul></div><div class="gskiepre
 uves-links"><ul><li><a href="https://skivosges.net/index.php?option=com_jev
 ents&task=icalevent.detail&evid=1138&Itemid=6283">Voir les informations dan
 s l'agenda...</a></li><li><a href="https://skivosges.net/index.php?option=c
 om_gskiepreuves&view=afficheresultats&format_option=tous&filter[search]=AMV
 T0310&filter[date_debut]=27-01-2019&filter[date_fin]=27-01-2019&code_activi
 te=ALP&Itemid=6283">Vers les résultats...</a></li><li>Publications concerna
 nt cet évènement :<ul><li><a href="https://skivosges.net/index.php?option=c
 om_content&view=article&id=6596&Itemid=6283">Samedi 26 Janvier 2019 à 08:43
  : Le 27/01/2019 MARKSTEIN Liste de départs</a></li></ul></li></ul></div></
 div"><!-- #/gskiepreuve fin du dode généré par le plugin jevents pour GskiE
 preuves. . Ne pas modifier cette ligne, ni tout le contenu précedant.  #/gs
 kiepreuve --> <a href="https://skivosges.net/agenda/export-synchronisation/
 detailevenement/1143/-/cam-grand-prix-adultes?tmpl=component">Cet évènement
  a été importé depuis :https://skivosges.net/agenda/export-synchronisation/
 detailevenement/1143/-/cam-grand-prix-adultes?tmpl=component</a>DTSTAMP:20260420T145946
DTSTART;TZID=Europe/Paris;VALUE=DATE:20190127
DTEND;TZID=Europe/Paris;VALUE=DATE:20190128
SEQUENCE:0
TRANSP:OPAQUE
END:VEVENT
END:VCALENDAR